{"text_format":"1","workbook":"xlsx","n_sheets":12,"sheets":["Zaměstnanci","Měsíční přehledy","Optimalizace Výroby","Základ pro mzdu","Rozhodnutí o půjčce","Data k půjčce","Graf Všichni","Graf Marie","Graf Tomáš","Graf Lucie","Graf Zdeněk","Graf Jan"],"not_rendered":{"charts":7,"images":1,"macros":1,"external_links":0,"defined_names":58,"comments":2,"pivot_tables":0},"unopened":[],"bounds":{"document_bytes":16777216,"sheet_cells":100000,"rows_first":2000,"rows_last":500,"rows_between":2000,"halvings":0,"cell_chars":16384,"cell_head_chars":4096},"cells_cut":0,"cells_raw":0,"read":"whole","date_system":"1900"}

{"sheet":"Zaměstnanci","index":0,"n_rows":109,"n_cols":10,"rows_kept":109,"cut":false,"hidden":false,"merged":[[23,4,23,6],[23,7,23,9],[24,4,24,5],[2,1,2,8]]}
[]
[]
[null,"ZAMĚSTNANCI A DNY - vyhledávání výkonů zaměstnanců v jednotlivých dnech či měsících"]
[]
[null,null,null,"VYHLEDAT DLE"]
["š"]
[]
[]
[]
[]
[]
[null,"(1/9/13 až 31/10/13)",null,null,null,"ZÁŘÍ","ŘÍJEN","CELKEM"]
[null,"Pracoval/a",{"$f":"IF(C12=\"\",\"\",VLOOKUP(C12,C49:E109,3,FALSE))","v":""},null,"Pracoval/a dní",{"$f":"IF($E$12=\"\",\"\",VLOOKUP($E$12,'Měsíční přehledy'!$C$10:$D$14,2,FALSE))","v":""},{"$f":"IF($E$12=\"\",\"\",VLOOKUP($E$12,'Měsíční přehledy'!$C$24:$D$28,2,FALSE))","v":""},{"$f":"IF($E$12=\"\",\"\",VLOOKUP($E$12,'Měsíční přehledy'!$C$37:$D$41,2,FALSE))","v":""}]
[null,"Den v týdnu",{"$f":"IF(C12=\"\",\"\",VLOOKUP(C12,C49:E109,2,FALSE))","v":""},null,"Vyrobil/a",{"$f":"IF($F$13=\"\",\"\",VLOOKUP($E$12,'Měsíční přehledy'!C10:E14,3,FALSE))","v":""},{"$f":"IF($E$12=\"\",\"\",VLOOKUP($E$12,'Měsíční přehledy'!C24:E28,3,FALSE))","v":""},{"$f":"IF($E$12=\"\",\"\",VLOOKUP($E$12,'Měsíční přehledy'!C37:E41,3,FALSE))","v":""}]
[null,"Vyrobeno v tento den",{"$f":"IF($C$12=\"\",\"\",VLOOKUP($C$12,$C$49:$I$109,7,FALSE))","v":""},null,"Denní průměr",{"$f":"IF(E12=\"\",\"\",F14/(VLOOKUP($E$12,'Měsíční přehledy'!C10:D14,2,FALSE)))","v":""},{"$f":"IF(E12=\"\",\"\",G14/(VLOOKUP($E$12,'Měsíční přehledy'!C24:D28,2,FALSE)))","v":""},{"$f":"IF(E12=\"\",\"\",H14/(VLOOKUP($E$12,'Měsíční přehledy'!C37:D41,2,FALSE)))","v":""}]
[null,"Požadovaný standard",{"$f":"IF(OR(C13=\"\",C13=0),\"\",'Optimalizace Výroby'!O16)","v":""},null,"Denní odklon",{"$f":"IF($E$12=\"\",\"\",VLOOKUP($E$12,'Měsíční přehledy'!$C$10:$K$14,9,FALSE))","v":""},{"$f":"IF($E$12=\"\",\"\",VLOOKUP($E$12,'Měsíční přehledy'!$C$24:$K$28,9,FALSE))","v":""},{"$f":"IF($E$12=\"\",\"\",VLOOKUP($E$12,'Měsíční přehledy'!$C$37:$K$41,9,FALSE))","v":""}]
[null,"Odklon od požadovaného standardu",{"$f":"IF(OR(C13=\"\",C13=0),\"\",C15-C16)","v":""},null,"Průměrná efektivita",{"$f":"IF($E$12=\"\",\"\",VLOOKUP($E$12,'Měsíční přehledy'!$C$10:$I$14,7,FALSE))","v":""},{"$f":"IF($E$12=\"\",\"\",VLOOKUP($E$12,'Měsíční přehledy'!$C$24:$I$28,7,FALSE))","v":""},{"$f":"IF($E$12=\"\",\"\",VLOOKUP($E$12,'Měsíční přehledy'!$C$37:$I$41,7,FALSE))","v":""}]
[null,"Denní standard v měsíci (všech zam.)",{"$f":"IF(OR(C13=\"\",C13=0),\"\",IF($C$12<41548,'Měsíční přehledy'!$E$17,'Měsíční přehledy'!$E$31))","v":""},null,"Prům. efektivita všech",{"$f":"IF(E12=\"\",\"\",'Měsíční přehledy'!I16)","v":""},{"$f":"IF(E12=\"\",\"\",'Měsíční přehledy'!I30)","v":""},{"$f":"IF(E12=\"\",\"\",'Měsíční přehledy'!I43)","v":""}]
[null,"Odklon od tohoto standardu",{"$f":"IF(OR(C13=\"\",C13=0),\"\",IF($C$12<41548,$C$15-'Měsíční přehledy'!$E$17,$C$15-'Měsíční přehledy'!$E$31))","v":""}]
[null,"Denní standard v měsíci (osobní)",{"$f":"IF(OR(C13=\"\",C13=0),\"\",IF($C$12<41548,VLOOKUP(C13,'Měsíční přehledy'!$C$10:$F$14,4,FALSE),VLOOKUP($C$13,'Měsíční přehledy'!$C$24:$F$28,4,FALSE)))","v":""}]
[null,"Odklon od tohoto standardu",{"$f":"IF(OR(C13=\"\",C13=0),\"\",C15-C20)","v":""}]
[null,"Průměrný denní odklon v daném měsíci",{"$f":"IF(OR(C13=\"\",C13=0),\"\",IF($C$12<41548,VLOOKUP(C13,'Měsíční přehledy'!$C$10:$K$14,9,FALSE),VLOOKUP($C$13,'Měsíční přehledy'!$C$24:$K$28,9,FALSE)))","v":""}]
[null,"Celkový průměrný denní odklon (osobní)",{"$f":"IF(OR(C13=\"\",C13=0),\"\",VLOOKUP(C13,'Měsíční přehledy'!$C$37:$K$41,9,FALSE))","v":""}]
[null,"Denní efektivita",{"$f":"IF(OR($C$13=\"\",$C$13=0),\"\",VLOOKUP($C$12,$C$49:$I$109,6,FALSE))","v":""},null,{"$f":"'Základ pro mzdu'!E10","v":"Efektivita"},null,null,{"$f":"'Základ pro mzdu'!H10","v":"Průměrný denní odklon od požadavku"}]
[null,"Průměrná efektivita v daném měsíci",{"$f":"IF(OR(C13=\"\",C13=0),\"\",IF($C$12<41548,VLOOKUP(C13,'Měsíční přehledy'!$C$10:$I$14,7,FALSE),VLOOKUP($C$13,'Měsíční přehledy'!$C$24:$I$28,7,FALSE)))","v":""},null,{"$f":"'Základ pro mzdu'!E11","v":"menší než 93% (včetně)"},null,{"$f":"'Základ pro mzdu'!G11","v":0},null,{"$f":"'Základ pro mzdu'!I11","v":"<0"},{"$f":"'Základ pro mzdu'!J11","v":0}]
[null,"Průměrná efektivita celkem (osobní)",{"$f":"IF(OR(C13=\"\",C13=0),\"\",VLOOKUP(C13,'Měsíční přehledy'!$C$37:$I$41,7,FALSE))","v":""},null,{"$f":"'Základ pro mzdu'!E12","v":0.93},{"$f":"'Základ pro mzdu'!F12","v":0.94},{"$f":"'Základ pro mzdu'!G12","v":0.05},{"$f":"'Základ pro mzdu'!H12","v":0},{"$f":"'Základ pro mzdu'!I12","v":5},{"$f":"'Základ pro mzdu'!J12","v":0.05}]
[null,"Vyrobeno zmetků",{"$f":"IF(OR(C13=\"\",C13=0),\"\",VLOOKUP($C$12,$C$49:$I$109,5,FALSE))","v":""},null,{"$f":"'Základ pro mzdu'!E13","v":0.95},{"$f":"'Základ pro mzdu'!F13","v":0.96},{"$f":"'Základ pro mzdu'!G13","v":7.4999999999999997E-2},{"$f":"'Základ pro mzdu'!H13","v":6},{"$f":"'Základ pro mzdu'!I13","v":10},{"$f":"'Základ pro mzdu'!J13","v":7.4999999999999997E-2}]
[null,"Průměr zmetků na den",{"$f":"IF(OR(C13=\"\",C13=0),\"\",'Měsíční přehledy'!H44)","v":""},null,{"$f":"'Základ pro mzdu'!E14","v":0.96},{"$f":"'Základ pro mzdu'!F14","v":"(včetně 96 %) 100%"},{"$f":"'Základ pro mzdu'!G14","v":0.1},{"$f":"'Základ pro mzdu'!H14","v":11},{"$f":"'Základ pro mzdu'!I14","v":"a více"},{"$f":"'Základ pro mzdu'!J14","v":0.1}]
[]
[]
[]
[]
[]
[]
[]
[]
[]
[]
[]
[]
[]
[]
[]
[]
[]
[]
[null,null,"Datum","Den","Zaměstnanec","Vyrobeno","Z toho zmetků","Efektivita","Vyrobeno \nbeze zmetků"]
[]
[null,null,41518,"Neděle",null,"",""]
[null,null,41519,"Pondělí",{"$f":"Marie","v":"Marie Procházková"},286,27,{"$f":"(F50-G50)/F50","v":0.90559440559440563},{"$f":"F50-G50","v":259}]
[null,null,41520,"Úterý","Tomáš Novák",246,21,{"$f":"(F51-G51)/F51","v":0.91463414634146345},225]
[null,null,41521,"Středa","Lucie Růžičková",304,22,0.92763157894736847,282]
[null,null,41522,"Čtvrtek","Zdeněk Lichý",330,30,0.90909090909090906,300]
[null,null,41523,"Pátek","Jan Soukup",276,22,0.92028985507246375,254]
[null,null,41524,"Sobota","Marie Procházková",263,25,0.90494296577946765,238]
[null,null,41525,"Neděle"]
[null,null,41526,"Pondělí","Tomáš Novák",342,24,0.92982456140350878,318]
[null,null,41527,"Úterý","Lucie Růžičková",231,23,0.90043290043290047,208]
[null,null,41528,"Středa","Zdeněk Lichý",224,23,0.8973214285714286,201]
[null,null,41529,"Čtvrtek","Jan Soukup",247,24,0.90283400809716596,223]
[null,null,41530,"Pátek","Marie Procházková",222,7,0.96846846846846846,215]
[null,null,41531,"Sobota","Tomáš Novák",299,29,0.90301003344481601,270]
[null,null,41532,"Neděle"]
[null,null,41533,"Pondělí","Lucie Růžičková",279,9,0.967741935483871,270]
[null,null,41534,"Úterý","Zdeněk Lichý",258,33,0.87209302325581395,225]
[null,null,41535,"Středa","Jan Soukup",234,12,0.94871794871794868,222]
[null,null,41536,"Čtvrtek","Marie Procházková",325,19,0.94153846153846155,306]
[null,null,41537,"Pátek","Tomáš Novák",222,27,0.8783783783783784,195]
[null,null,41538,"Sobota","Lucie Růžičková",288,14,0.95138888888888884,274]
[null,null,41539,"Neděle"]
[null,null,41540,"Pondělí","Zdeněk Lichý",270,16,0.94074074074074077,254]
[null,null,41541,"Úterý","Jan Soukup",271,15,0.94464944649446492,256]
[null,null,41542,"Středa","Marie Procházková",339,25,0.92625368731563418,314]
[null,null,41543,"Čtvrtek","Tomáš Novák",262,22,0.91603053435114501,240]
[null,null,41544,"Pátek","Lucie Růžičková",257,13,0.94941634241245132,244]
[null,null,41545,"Sobota","Zdeněk Lichý",259,9,0.96525096525096521,250]
[null,null,41546,"Neděle"]
[null,null,41547,"Pondělí","Jan Soukup",221,11,0.95022624434389136,210]
[null,null,41548,"Úterý","Marie Procházková",335,17,0.94925373134328361,318]
[null,null,41549,"Středa","Tomáš Novák",260,18,0.93076923076923079,242]
[null,null,41550,"Čtvrtek","Lucie Růžičková",285,8,0.97192982456140353,277]
[null,null,41551,"Pátek","Zdeněk Lichý",334,7,0.97904191616766467,327]
[null,null,41552,"Sobota","Jan Soukup",332,16,0.95180722891566261,316]
[null,null,41553,"Neděle"]
[null,null,41554,"Pondělí","Marie Procházková",281,31,0.88967971530249113,250]
[null,null,41555,"Úterý","Tomáš Novák",334,29,0.91317365269461082,305]
[null,null,41556,"Středa","Lucie Růžičková",240,9,0.96250000000000002,231]
[null,null,41557,"Čtvrtek","Zdeněk Lichý",309,13,0.95792880258899671,296]
[null,null,41558,"Pátek","Jan Soukup",335,14,0.95820895522388061,321]
[null,null,41559,"Sobota","Marie Procházková",364,27,0.92582417582417587,337]
[null,null,41560,"Neděle"]
[null,null,41561,"Pondělí","Tomáš Novák",232,30,0.87068965517241381,202]
[null,null,41562,"Úterý","Lucie Růžičková",291,26,0.9106529209621993,265]
[null,null,41563,"Středa","Zdeněk Lichý",264,16,0.93939393939393945,248]
[null,null,41564,"Čtvrtek","Jan Soukup",350,28,0.92,322]
[null,null,41565,"Pátek","Marie Procházková",224,9,0.9598214285714286,215]
[null,null,41566,"Sobota","Tomáš Novák",264,8,0.96969696969696972,256]
[null,null,41567,"Neděle"]
[null,null,41568,"Pondělí","Lucie Růžičková",335,19,0.94328358208955221,316]
[null,null,41569,"Úterý","Zdeněk Lichý",315,25,0.92063492063492058,290]
[null,null,41570,"Středa","Jan Soukup",280,29,0.89642857142857146,251]
[null,null,41571,"Čtvrtek","Marie Procházková",326,13,0.96012269938650308,313]
[null,null,41572,"Pátek","Tomáš Novák",271,17,0.9372693726937269,254]
[null,null,41573,"Sobota","Lucie Růžičková",266,23,0.9135338345864662,243]
[null,null,41574,"Neděle"]
[null,null,41575,"Pondělí","Zdeněk Lichý",263,18,0.9315589353612167,245]
[null,null,41576,"Úterý","Jan Soukup",287,10,0.96515679442508706,277]
[null,null,41577,"Středa","Marie Procházková",284,12,0.95774647887323938,272]
[null,null,41578,"Čtvrtek","Tomáš Novák",300,12,0.96,288]

{"sheet":"Měsíční přehledy","index":1,"n_rows":44,"n_cols":11,"rows_kept":44,"cut":false,"hidden":false,"merged":[[34,10,35,10],[7,2,8,2],[7,3,8,3],[7,4,8,4],[7,5,8,5],[7,10,8,10],[21,10,22,10],[21,8,22,8],[7,9,8,9],[7,7,8,7],[7,8,8,8],[7,6,8,6],[2,2,4,10],[21,2,22,2],[21,5,22,5],[34,2,35,2],[34,3,35,3],[34,4,35,4],[34,5,35,5],[34,6,35,6],[21,9,22,9],[21,3,22,3],[21,4,22,4],[21,6,22,6],[21,7,22,7],[34,7,35,7],[34,8,35,8],[34,9,35,9]]}
[]
[]
[null,null,"Měsíční přehledy"]
[]
[]
[]
[null,null,"Září"]
[null,null,"Zaměstnanci","Odpracovali \ndní","Vyrobil/a \ncelkem","Denně","Odklon od \nměs. průměru","Celkem \nzmetků","Efektivita","Denní odklon \nod měs. průměru","Odklon od \npožadavku"]
[null,null,null,null,null,"Denně",null,null,null,null,"Denní odklon od požadavku"]
[null,null,"Marie Procházková",{"$f":"COUNTIFS(Zaměstnanci!$E$49:$E$109,\"=Marie Procházková\",Zaměstnanci!$C$49:$C$109,\"<41548\")","v":5},{"$f":"SUMIFS(Zaměstnanci!$I$49:$I$109,Zaměstnanci!$E$49:$E$109,\"=Marie Procházková\",Zaměstnanci!$C$49:$C$109,\"<41548\")","v":1332},{"$f":"E10/D10","v":266.39999999999998},{"$f":"E10-$E$16","v":81.400000000000091},{"$f":"SUMIFS(Zaměstnanci!$G$49:$G$109,Zaměstnanci!$E$49:$E$109,\"=Marie Procházková\",Zaměstnanci!$C$49:$C$109,\"<41548\")","v":103},{"$f":"E10/(E10+H10)","v":0.92822299651567941},{"$f":"G10/D10","v":16.280000000000019},{"$f":"'Měsíční přehledy'!F10-'Optimalizace Výroby'!$O$16","v":6.3999999999999773}]
[null,null,"Tomáš Novák",{"$f":"COUNTIFS(Zaměstnanci!$E$49:$E$109,\"=Tomáš Novák\",Zaměstnanci!$C$49:$C$109,\"<41548\")","v":5},{"$f":"SUMIFS(Zaměstnanci!$I$49:$I$109,Zaměstnanci!$E$49:$E$109,\"=Tomáš Novák\",Zaměstnanci!$C$49:$C$109,\"<41548\")","v":1248},{"$f":"E11/D11","v":249.6},{"$f":"E11-$E$16","v":-2.5999999999999091},{"$f":"SUMIFS(Zaměstnanci!$G$49:$G$109,Zaměstnanci!$E$49:$E$109,\"=Tomáš Novák\",Zaměstnanci!$C$49:$C$109,\"<41548\")","v":123},{"$f":"E11/(E11+H11)","v":0.9102844638949672},{"$f":"G11/D11","v":-0.51999999999998181},{"$f":"'Měsíční přehledy'!F11-'Optimalizace Výroby'!$O$16","v":-10.400000000000006}]
[null,null,"Lucie Růžičková",{"$f":"COUNTIFS(Zaměstnanci!$E$49:$E$109,\"=Lucie Růžičková\",Zaměstnanci!$C$49:$C$109,\"<41548\")","v":5},{"$f":"SUMIFS(Zaměstnanci!$I$49:$I$109,Zaměstnanci!$E$49:$E$109,\"=Lucie Růžičková\",Zaměstnanci!$C$49:$C$109,\"<41548\")","v":1278},{"$f":"E12/D12","v":255.6},{"$f":"E12-$E$16","v":27.400000000000091},{"$f":"SUMIFS(Zaměstnanci!$G$49:$G$109,Zaměstnanci!$E$49:$E$109,\"=Lucie Růžičková\",Zaměstnanci!$C$49:$C$109,\"<41548\")","v":81},{"$f":"E12/(E12+H12)","v":0.94039735099337751},{"$f":"G12/D12","v":5.4800000000000182},{"$f":"'Měsíční přehledy'!F12-'Optimalizace Výroby'!$O$16","v":-4.4000000000000057}]
[null,null,"Zdeněk Lichý",{"$f":"COUNTIFS(Zaměstnanci!$E$49:$E$109,\"=Zdeněk Lichý\",Zaměstnanci!$C$49:$C$109,\"<41548\")","v":5},{"$f":"SUMIFS(Zaměstnanci!$I$49:$I$109,Zaměstnanci!$E$49:$E$109,\"=Zdeněk Lichý\",Zaměstnanci!$C$49:$C$109,\"<41548\")","v":1230},{"$f":"E13/D13","v":246},{"$f":"E13-$E$16","v":-20.599999999999909},{"$f":"SUMIFS(Zaměstnanci!$G$49:$G$109,Zaměstnanci!$E$49:$E$109,\"=Zdeněk Lichý\",Zaměstnanci!$C$49:$C$109,\"<41548\")","v":111},{"$f":"E13/(E13+H13)","v":0.91722595078299773},{"$f":"G13/D13","v":-4.1199999999999815},{"$f":"'Měsíční přehledy'!F13-'Optimalizace Výroby'!$O$16","v":-14}]
[null,null,"Jan Soukup",{"$f":"COUNTIFS(Zaměstnanci!$E$49:$E$109,\"=Jan Soukup\",Zaměstnanci!$C$49:$C$109,\"<41548\")","v":5},{"$f":"SUMIFS(Zaměstnanci!$I$49:$I$109,Zaměstnanci!$E$49:$E$109,\"=Jan Soukup\",Zaměstnanci!$C$49:$C$109,\"<41548\")","v":1165},{"$f":"E14/D14","v":233},{"$f":"E14-$E$16","v":-85.599999999999909},{"$f":"SUMIFS(Zaměstnanci!$G$49:$G$109,Zaměstnanci!$E$49:$E$109,\"=Jan Soukup\",Zaměstnanci!$C$49:$C$109,\"<41548\")","v":84},{"$f":"E14/(E14+H14)","v":0.932746196957566},{"$f":"G14/D14","v":-17.119999999999983},{"$f":"'Měsíční přehledy'!F14-'Optimalizace Výroby'!$O$16","v":-27}]
[null,null,"Celkem",{"$f":"SUM(D10:D14)","v":25},{"$f":"SUM(E10:E14)","v":6253},null,null,{"$f":"SUM(H10:H14)","v":502}]
[null,null,"Průměr/zaměstnanec",{"$f":"AVERAGE(D10:D14)","v":5},{"$f":"AVERAGE(E10:E14)","v":1250.5999999999999},null,null,{"$f":"AVERAGE(H10:H14)","v":100.4},{"$f":"AVERAGE(I10:I14)","v":0.92577539182891755}]
[null,null,"Průmer/den",null,{"$f":"E15/D15","v":250.12},null,null,{"$f":"H15/D15","v":20.079999999999998}]
[]
[]
[]
[null,null,"Říjen"]
[null,null,"Zaměstnanci","Odpracovali \ndní","Vyrobil/a celkem",null,"Odklon od měs. průměru","Celkem zmetků","Efektivita","Denní odklon od měs. průměru","Odklon od požadavku"]
[null,null,null,null,null,"Denně",null,null,null,null,"Denní odklon od požadavku"]
[null,null,"Marie Procházková",{"$f":"COUNTIFS(Zaměstnanci!$E$49:$E$109,\"=Marie Procházková\",Zaměstnanci!$C$49:$C$109,\">=41548\")","v":6},{"$f":"SUMIFS(Zaměstnanci!$I$49:$I$109,Zaměstnanci!$E$49:$E$109,\"=Marie Procházková\",Zaměstnanci!$C$49:$C$109,\">=41548\")","v":1705},{"$f":"E24/D24","v":284.16666666666669},{"$f":"E24-($E$31*D24)","v":43.444444444444343},{"$f":"SUMIFS(Zaměstnanci!$G$49:$G$109,Zaměstnanci!$E$49:$E$109,\"=Marie Procházková\",Zaměstnanci!$C$49:$C$109,\">=41548\")","v":109},{"$f":"E24/(E24+H24)","v":0.93991179713340689},{"$f":"G24/D24","v":7.2407407407407236},{"$f":"'Měsíční přehledy'!F24-'Optimalizace Výroby'!$O$16","v":24.166666666666686}]
[null,null,"Tomáš Novák",{"$f":"COUNTIFS(Zaměstnanci!$E$49:$E$109,\"=Tomáš Novák\",Zaměstnanci!$C$49:$C$109,\">=41548\")","v":6},{"$f":"SUMIFS(Zaměstnanci!$I$49:$I$109,Zaměstnanci!$E$49:$E$109,\"=Tomáš Novák\",Zaměstnanci!$C$49:$C$109,\">=41548\")","v":1547},{"$f":"E25/D25","v":257.83333333333331},{"$f":"E25-($E$31*D25)","v":-114.55555555555566},{"$f":"SUMIFS(Zaměstnanci!$G$49:$G$109,Zaměstnanci!$E$49:$E$109,\"=Tomáš Novák\",Zaměstnanci!$C$49:$C$109,\">=41548\")","v":114},{"$f":"E25/(E25+H25)","v":0.93136664659843471},{"$f":"G25/D25","v":-19.092592592592609},{"$f":"'Měsíční přehledy'!F25-'Optimalizace Výroby'!$O$16","v":-2.1666666666666856}]
[null,null,"Lucie Růžičková",{"$f":"COUNTIFS(Zaměstnanci!$E$49:$E$109,\"=Lucie Růžičková\",Zaměstnanci!$C$49:$C$109,\">=41548\")","v":5},{"$f":"SUMIFS(Zaměstnanci!$I$49:$I$109,Zaměstnanci!$E$49:$E$109,\"=Lucie Růžičková\",Zaměstnanci!$C$49:$C$109,\">=41548\")","v":1332},{"$f":"E26/D26","v":266.39999999999998},{"$f":"E26-($E$31*D26)","v":-52.629629629629562},{"$f":"SUMIFS(Zaměstnanci!$G$49:$G$109,Zaměstnanci!$E$49:$E$109,\"=Lucie Růžičková\",Zaměstnanci!$C$49:$C$109,\">=41548\")","v":85},{"$f":"E26/(E26+H26)","v":0.94001411432604098},{"$f":"G26/D26","v":-10.525925925925913},{"$f":"'Měsíční přehledy'!F26-'Optimalizace Výroby'!$O$16","v":6.3999999999999773}]
[null,null,"Zdeněk Lichý",{"$f":"COUNTIFS(Zaměstnanci!$E$49:$E$109,\"=Zdeněk Lichý\",Zaměstnanci!$C$49:$C$109,\">=41548\")","v":5},{"$f":"SUMIFS(Zaměstnanci!$I$49:$I$109,Zaměstnanci!$E$49:$E$109,\"=Zdeněk Lichý\",Zaměstnanci!$C$49:$C$109,\">=41548\")","v":1406},{"$f":"E27/D27","v":281.2},{"$f":"E27-($E$31*D27)","v":21.370370370370438},{"$f":"SUMIFS(Zaměstnanci!$G$49:$G$109,Zaměstnanci!$E$49:$E$109,\"=Zdeněk Lichý\",Zaměstnanci!$C$49:$C$109,\">=41548\")","v":79},{"$f":"E27/(E27+H27)","v":0.94680134680134675},{"$f":"G27/D27","v":4.2740740740740879},{"$f":"'Měsíční přehledy'!F27-'Optimalizace Výroby'!$O$16","v":21.199999999999989}]
[null,null,"Jan Soukup",{"$f":"COUNTIFS(Zaměstnanci!$E$49:$E$109,\"=Jan Soukup\",Zaměstnanci!$C$49:$C$109,\">=41548\")","v":5},{"$f":"SUMIFS(Zaměstnanci!$I$49:$I$109,Zaměstnanci!$E$49:$E$109,\"=Jan Soukup\",Zaměstnanci!$C$49:$C$109,\">=41548\")","v":1487},{"$f":"E28/D28","v":297.39999999999998},{"$f":"E28-($E$31*D28)","v":102.37037037037044},{"$f":"SUMIFS(Zaměstnanci!$G$49:$G$109,Zaměstnanci!$E$49:$E$109,\"=Jan Soukup\",Zaměstnanci!$C$49:$C$109,\">=41548\")","v":97},{"$f":"E28/(E28+H28)","v":0.9387626262626263},{"$f":"G28/D28","v":20.474074074074089},{"$f":"'Měsíční přehledy'!F28-'Optimalizace Výroby'!$O$16","v":37.399999999999977}]
[null,null,"Celkem",{"$f":"SUM(D24:D28)","v":27},{"$f":"SUM(E24:E28)","v":7477},null,null,{"$f":"SUM(H24:H28)","v":484}]
[null,null,"Průměr/zaměstnanec",{"$f":"AVERAGE(D24:D28)","v":5.4},{"$f":"AVERAGE(E24:E28)","v":1495.4},null,null,{"$f":"AVERAGE(H24:H28)","v":96.8},{"$f":"AVERAGE(I24:I28)","v":0.93937130622437104}]
[null,null,"Průměr/den",null,{"$f":"E29/D29","v":276.92592592592592},null,null,{"$f":"H29/D29","v":17.925925925925927}]
[]
[]
[null,null,"Celkem"]
[null,null,"Zaměstnanci","Odpracovali \ndní","Vyrobil/a celkem","Denně","Odklon od celk. průměru","Celkem zmetků","Efektivita","Denní odklon od celk. průměru","Odklon od požadavku"]
[null,null,null,null,null,null,null,null,null,null,"Denní odklon od požadavku"]
[null,null,"Marie Procházková",{"$f":"COUNTIFS(Zaměstnanci!$E$49:$E$109,\"=Marie Procházková\")","v":11},{"$f":"SUMIFS(Zaměstnanci!$I$49:$I$109,Zaměstnanci!$E$49:$E$109,\"=Marie Procházková\")","v":3037},{"$f":"E37/D37","v":276.09090909090907},{"$f":"E37-($E$44*D37)","v":132.57692307692287},{"$f":"SUMIFS(Zaměstnanci!$G$49:$G$109,Zaměstnanci!$E$49:$E$109,\"=Marie Procházková\")","v":212},{"$f":"E37/(E37+H37)","v":0.93474915358571864},{"$f":"G37/D37","v":12.052447552447534},{"$f":"'Měsíční přehledy'!F37-'Optimalizace Výroby'!$O$16","v":16.090909090909065}]
[null,null,"Tomáš Novák",{"$f":"COUNTIFS(Zaměstnanci!$E$49:$E$109,\"=Tomáš Novák\")","v":11},{"$f":"SUMIFS(Zaměstnanci!$I$49:$I$109,Zaměstnanci!$E$49:$E$109,\"=Tomáš Novák\")","v":2795},{"$f":"E38/D38","v":254.09090909090909},{"$f":"E38-($E$44*D38)","v":-109.42307692307713},{"$f":"SUMIFS(Zaměstnanci!$G$49:$G$109,Zaměstnanci!$E$49:$E$109,\"=Tomáš Novák\")","v":237},{"$f":"E38/(E38+H38)","v":0.92183377308707126},{"$f":"G38/D38","v":-9.9475524475524661},{"$f":"'Měsíční přehledy'!F38-'Optimalizace Výroby'!$O$16","v":-5.9090909090909065}]
[null,null,"Lucie Růžičková",{"$f":"COUNTIFS(Zaměstnanci!$E$49:$E$109,\"=Lucie Růžičková\")","v":10},{"$f":"SUMIFS(Zaměstnanci!$I$49:$I$109,Zaměstnanci!$E$49:$E$109,\"=Lucie Růžičková\")","v":2610},{"$f":"E39/D39","v":261},{"$f":"E39-($E$44*D39)","v":-30.384615384615245},{"$f":"SUMIFS(Zaměstnanci!$G$49:$G$109,Zaměstnanci!$E$49:$E$109,\"=Lucie Růžičková\")","v":166},{"$f":"E39/(E39+H39)","v":0.94020172910662825},{"$f":"G39/D39","v":-3.0384615384615246},{"$f":"'Měsíční přehledy'!F39-'Optimalizace Výroby'!$O$16","v":1}]
[null,null,"Zdeněk Lichý",{"$f":"COUNTIFS(Zaměstnanci!$E$49:$E$109,\"=Zdeněk Lichý\")","v":10},{"$f":"SUMIFS(Zaměstnanci!$I$49:$I$109,Zaměstnanci!$E$49:$E$109,\"=Zdeněk Lichý\")","v":2636},{"$f":"E40/D40","v":263.60000000000002},{"$f":"E40-($E$44*D40)","v":-4.3846153846152447},{"$f":"SUMIFS(Zaměstnanci!$G$49:$G$109,Zaměstnanci!$E$49:$E$109,\"=Zdeněk Lichý\")","v":190},{"$f":"E40/(E40+H40)","v":0.9327671620665251},{"$f":"G40/D40","v":-0.43846153846152447},{"$f":"'Měsíční přehledy'!F40-'Optimalizace Výroby'!$O$16","v":3.6000000000000227}]
[null,null,"Jan Soukup",{"$f":"COUNTIFS(Zaměstnanci!$E$49:$E$109,\"=Jan Soukup\")","v":10},{"$f":"SUMIFS(Zaměstnanci!$I$49:$I$109,Zaměstnanci!$E$49:$E$109,\"=Jan Soukup\")","v":2652},{"$f":"E41/D41","v":265.2},{"$f":"E41-($E$44*D41)","v":11.615384615384755},{"$f":"SUMIFS(Zaměstnanci!$G$49:$G$109,Zaměstnanci!$E$49:$E$109,\"=Jan Soukup\")","v":181},{"$f":"E41/(E41+H41)","v":0.93611013060360038},{"$f":"G41/D41","v":1.1615384615384756},{"$f":"'Měsíční přehledy'!F41-'Optimalizace Výroby'!$O$16","v":5.1999999999999886}]
[null,null,"Celkem",{"$f":"SUM(D37:D41)","v":52},{"$f":"SUM(E37:E41)","v":13730},null,null,{"$f":"SUM(H37:H41)","v":986}]
[null,null,"Průměr/zaměstnanec",{"$f":"AVERAGE(D37:D41)","v":10.4},{"$f":"AVERAGE(E37:E41)","v":2746},null,null,{"$f":"AVERAGE(H37:H41)","v":197.2},{"$f":"AVERAGE(I37:I41)","v":0.93313238968990875}]
[null,null,"Průměr/den",null,{"$f":"E42/D42","v":264.03846153846155},null,null,{"$f":"H42/D42","v":18.96153846153846}]

{"sheet":"Optimalizace Výroby","index":2,"n_rows":23,"n_cols":15,"rows_kept":23,"cut":false,"hidden":false,"merged":[[20,3,22,4],[20,9,22,11],[13,10,14,10],[13,12,14,12],[15,12,16,12],[15,10,16,10],[13,8,14,8],[15,8,16,8],[15,3,16,3],[15,4,16,4],[15,5,16,5],[2,2,3,14],[4,2,4,14],[15,9,16,9],[15,11,16,11],[6,10,7,10],[6,11,7,11],[15,14,16,14],[11,14,14,14],[15,6,16,6],[6,2,7,2],[6,3,6,5],[6,6,7,6],[15,2,16,2]]}
[]
[]
[null,null,"OPTIMALIZACE VÝROBY"]
[]
[null,null,"DOSAŽENÍ NEJVYŠŠÍHO ZISKU PŘI PODMÍNKÁCH: kapacita skladů (pro materiály i hotové výrobky)"]
[]
[null,null,"Materiál","Druh výrobku",null,null,"Max. množství",null,null,null,"Materiál","Cena \nmateriálu"]
[null,null,null,"A","B","C",null,null,"Podmínky"]
[null,null,"M1",4,3.2,1.6,{"$f":"G21","v":800},null,{"$f":"SUMPRODUCT(D9:F9,$D$14:$F$14)","v":779.99999999999989},null,"S1",5]
[null,null,"M2",0.5,1.2,4.5,{"$f":"G22","v":500},null,{"$f":"SUMPRODUCT(D10:F10,$D$14:$F$14)","v":500},null,"S2",3.5]
[null,null,"M3",3.25,2.4,1.5,{"$f":"G23","v":800},null,{"$f":"SUMPRODUCT(D11:F11,$D$14:$F$14)","v":628.74999999999989},null,"S3",2.5]
[null,null,null,null,null,null,null,null,null,null,null,null,null,null,"Požadavek na denní výrobu"]
[]
[null,null,"Výroba",84.999999999999972,100,75,"ks",null,"Tržba",null,"Náklady \nna materiál",null,"Zisk"]
[null,null,"Podmínky",{"$f":"N21","v":100},{"$f":"N22","v":100},{"$f":"N23","v":80},"ks"]
[null,null,"Prodejní cena",50,75,60,"Kč/ks",null,{"$f":"SUMPRODUCT(D14:F14,D16:F16)","v":16249.999999999998},"-",{"$f":"SUMPRODUCT(I9:I11,L9:L11)","v":7221.875},"=",{"$f":"I16-K16","v":9028.1249999999982},null,{"$f":"SUM(D14:F14)","v":260}]
[]
[]
[]
[]
[null,null,null,"Kapacita skladu pro materiál",null,"M1",800,null,null,"Kapacita skladu pro výrobky",null,null,"A",100]
[null,null,null,null,null,"M2",500,null,null,null,null,null,"B",100]
[null,null,null,null,null,"M3",800,null,null,null,null,null,"C",80]

{"sheet":"Základ pro mzdu","index":3,"n_rows":31,"n_cols":10,"rows_kept":31,"cut":false,"hidden":false,"merged":[[2,4,3,9],[17,9,18,9],[9,7,9,9],[9,4,9,6],[8,4,8,9],[17,7,17,8],[17,5,18,5],[17,6,18,6],[24,5,25,5],[24,6,25,6],[24,7,24,8],[24,9,25,9],[10,4,10,5]]}
[]
[]
[null,null,null,null,"Výpočet základní mzdy"]
[]
[]
[null,null,null,null,null,"Pracovní doba (h)",12]
[null,null,null,null,null,"Hodinová mzda",90]
[]
[null,null,null,null,"Pohyblivá složka"]
[null,null,null,null,"Efektivita",null,null,"Průměrný denní odklon od požadavku"]
[null,null,null,null,"menší než 93% (včetně)",null,0,null,"<0",0]
[null,null,null,null,0.93,0.94,0.05,0,5,0.05]
[null,null,null,null,0.95,0.96,7.4999999999999997E-2,6,10,7.4999999999999997E-2]
[null,null,null,null,0.96,"(včetně 96 %) 100%",0.1,11,"a více",0.1]
[]
[]
[]
[null,null,null,null,"ZÁŘÍ","Počet hodin","Pevná složka","Pohyblivá složka",null,"Základní mzda"]
[null,null,null,null,"Jméno",null,null,"Efektivita","Produktivita"]
[null,null,null,null,{"$f":"Marie","v":"Marie Procházková"},{"$f":"VLOOKUP('Základ pro mzdu'!E20,'Měsíční přehledy'!$C$10:$D$14,2,FALSE)*'Základ pro mzdu'!$G$6","v":60},{"$f":"F20*$G$7","v":5400},{"$f":"IF(VLOOKUP(E20,'Měsíční přehledy'!$C$10:$I$14,7,FALSE)<='Základ pro mzdu'!$E$12,'Základ pro mzdu'!G20*$G$11,IF(VLOOKUP(E20,'Měsíční přehledy'!$C$10:$I$14,7,FALSE)<'Základ pro mzdu'!$E$13,G20*$G$12,IF(VLOOKUP(E20,'Měsíční přehledy'!$C$10:$I$14,7,FALSE)<$E$14,'Základ pro mzdu'!G20*$G$13,'Základ pro mzdu'!G20*$G$14)))","v":0},{"$f":"IF(VLOOKUP(E20,'Měsíční přehledy'!$C$10:$K$14,9,FALSE)<='Základ pro mzdu'!$H$12,'Základ pro mzdu'!G20*$J$11,IF(VLOOKUP(E20,'Měsíční přehledy'!$C$10:$K$14,9,FALSE)<'Základ pro mzdu'!$H$13,G20*$J$12,IF(VLOOKUP(E20,'Měsíční přehledy'!$C$10:$K$14,9,FALSE)<$H$14,'Základ pro mzdu'!G20*$J$13,'Základ pro mzdu'!G20*$J$14)))","v":405},{"$f":"SUM(G20:I20)","v":5805}]
[null,null,null,null,{"$f":"Tomáš","v":"Tomáš Novák"},{"$f":"VLOOKUP('Základ pro mzdu'!E21,'Měsíční přehledy'!$C$10:$D$14,2,FALSE)*'Základ pro mzdu'!$G$6","v":60},{"$f":"F21*$G$7","v":5400},{"$f":"IF(VLOOKUP(E21,'Měsíční přehledy'!$C$10:$I$14,7,FALSE)<='Základ pro mzdu'!$E$12,'Základ pro mzdu'!G21*$G$11,IF(VLOOKUP(E21,'Měsíční přehledy'!$C$10:$I$14,7,FALSE)<'Základ pro mzdu'!$E$13,G21*$G$12,IF(VLOOKUP(E21,'Měsíční přehledy'!$C$10:$I$14,7,FALSE)<$E$14,'Základ pro mzdu'!G21*$G$13,'Základ pro mzdu'!G21*$G$14)))","v":0},{"$f":"IF(VLOOKUP(E21,'Měsíční přehledy'!$C$10:$K$14,9,FALSE)<='Základ pro mzdu'!$H$12,'Základ pro mzdu'!G21*$J$11,IF(VLOOKUP(E21,'Měsíční přehledy'!$C$10:$K$14,9,FALSE)<'Základ pro mzdu'!$H$13,G21*$J$12,IF(VLOOKUP(E21,'Měsíční přehledy'!$C$10:$K$14,9,FALSE)<$H$14,'Základ pro mzdu'!G21*$J$13,'Základ pro mzdu'!G21*$J$14)))","v":0},{"$f":"SUM(G21:I21)","v":5400}]
[null,null,null,null,{"$f":"Lucie","v":"Lucie Růžičková"},{"$f":"VLOOKUP('Základ pro mzdu'!E22,'Měsíční přehledy'!$C$10:$D$14,2,FALSE)*'Základ pro mzdu'!$G$6","v":60},{"$f":"F22*$G$7","v":5400},{"$f":"IF(VLOOKUP(E22,'Měsíční přehledy'!$C$10:$I$14,7,FALSE)<='Základ pro mzdu'!$E$12,'Základ pro mzdu'!G22*$G$11,IF(VLOOKUP(E22,'Měsíční přehledy'!$C$10:$I$14,7,FALSE)<'Základ pro mzdu'!$E$13,G22*$G$12,IF(VLOOKUP(E22,'Měsíční přehledy'!$C$10:$I$14,7,FALSE)<$E$14,'Základ pro mzdu'!G22*$G$13,'Základ pro mzdu'!G22*$G$14)))","v":270},{"$f":"IF(VLOOKUP(E22,'Měsíční přehledy'!$C$10:$K$14,9,FALSE)<='Základ pro mzdu'!$H$12,'Základ pro mzdu'!G22*$J$11,IF(VLOOKUP(E22,'Měsíční přehledy'!$C$10:$K$14,9,FALSE)<'Základ pro mzdu'!$H$13,G22*$J$12,IF(VLOOKUP(E22,'Měsíční přehledy'!$C$10:$K$14,9,FALSE)<$H$14,'Základ pro mzdu'!G22*$J$13,'Základ pro mzdu'!G22*$J$14)))","v":0},5670]
[null,null,null,null,{"$f":"Zdeněk","v":"Zdeněk Lichý"},{"$f":"VLOOKUP('Základ pro mzdu'!E23,'Měsíční přehledy'!$C$10:$D$14,2,FALSE)*'Základ pro mzdu'!$G$6","v":60},{"$f":"F23*$G$7","v":5400},{"$f":"IF(VLOOKUP(E23,'Měsíční přehledy'!$C$10:$I$14,7,FALSE)<='Základ pro mzdu'!$E$12,'Základ pro mzdu'!G23*$G$11,IF(VLOOKUP(E23,'Měsíční přehledy'!$C$10:$I$14,7,FALSE)<'Základ pro mzdu'!$E$13,G23*$G$12,IF(VLOOKUP(E23,'Měsíční přehledy'!$C$10:$I$14,7,FALSE)<$E$14,'Základ pro mzdu'!G23*$G$13,'Základ pro mzdu'!G23*$G$14)))","v":0},{"$f":"IF(VLOOKUP(E23,'Měsíční přehledy'!$C$10:$K$14,9,FALSE)<='Základ pro mzdu'!$H$12,'Základ pro mzdu'!G23*$J$11,IF(VLOOKUP(E23,'Měsíční přehledy'!$C$10:$K$14,9,FALSE)<'Základ pro mzdu'!$H$13,G23*$J$12,IF(VLOOKUP(E23,'Měsíční přehledy'!$C$10:$K$14,9,FALSE)<$H$14,'Základ pro mzdu'!G23*$J$13,'Základ pro mzdu'!G23*$J$14)))","v":0},5400]
[null,null,null,null,{"$f":"Jan","v":"Jan Soukup"},{"$f":"VLOOKUP('Základ pro mzdu'!E24,'Měsíční přehledy'!$C$10:$D$14,2,FALSE)*'Základ pro mzdu'!$G$6","v":60},{"$f":"F24*$G$7","v":5400},{"$f":"IF(VLOOKUP(E24,'Měsíční přehledy'!$C$10:$I$14,7,FALSE)<='Základ pro mzdu'!$E$12,'Základ pro mzdu'!G24*$G$11,IF(VLOOKUP(E24,'Měsíční přehledy'!$C$10:$I$14,7,FALSE)<'Základ pro mzdu'!$E$13,G24*$G$12,IF(VLOOKUP(E24,'Měsíční přehledy'!$C$10:$I$14,7,FALSE)<$E$14,'Základ pro mzdu'!G24*$G$13,'Základ pro mzdu'!G24*$G$14)))","v":270},{"$f":"IF(VLOOKUP(E24,'Měsíční přehledy'!$C$10:$K$14,9,FALSE)<='Základ pro mzdu'!$H$12,'Základ pro mzdu'!G24*$J$11,IF(VLOOKUP(E24,'Měsíční přehledy'!$C$10:$K$14,9,FALSE)<'Základ pro mzdu'!$H$13,G24*$J$12,IF(VLOOKUP(E24,'Měsíční přehledy'!$C$10:$K$14,9,FALSE)<$H$14,'Základ pro mzdu'!G24*$J$13,'Základ pro mzdu'!G24*$J$14)))","v":0},5670]
[null,null,null,null,"ŘÍJEN","Počet hodin","Pevná složka","Pohyblivá složka",null,"Základní mzda"]
[null,null,null,null,"Jméno",null,null,"Efektivita","Produktivita"]
[null,null,null,null,{"$f":"Marie","v":"Marie Procházková"},{"$f":"VLOOKUP('Základ pro mzdu'!E27,'Měsíční přehledy'!$C$24:$D$28,2,FALSE)*'Základ pro mzdu'!$G$6","v":72},{"$f":"F27*$G$7","v":6480},{"$f":"IF(VLOOKUP(E27,'Měsíční přehledy'!$C$24:$K$28,7,FALSE)<='Základ pro mzdu'!$E$12,'Základ pro mzdu'!G27*$G$11,IF(VLOOKUP(E27,'Měsíční přehledy'!$C$24:$K$28,7,FALSE)<'Základ pro mzdu'!$E$13,G27*$G$12,IF(VLOOKUP(E27,'Měsíční přehledy'!$C$24:$K$28,7,FALSE)<$E$14,'Základ pro mzdu'!G27*$G$13,'Základ pro mzdu'!G27*$G$14)))","v":324},{"$f":"IF(VLOOKUP(E27,'Měsíční přehledy'!$C$24:$K$28,9,FALSE)<='Základ pro mzdu'!$H$12,'Základ pro mzdu'!G27*$J$11,IF(VLOOKUP(E27,'Měsíční přehledy'!$C$24:$K$28,9,FALSE)<'Základ pro mzdu'!$H$13,G27*$J$12,IF(VLOOKUP(E27,'Měsíční přehledy'!$C$24:$K$28,9,FALSE)<$H$14,'Základ pro mzdu'!G27*$J$13,'Základ pro mzdu'!G27*$J$14)))","v":648},{"$f":"SUM(G27:I27)","v":7452}]
[null,null,null,null,{"$f":"Tomáš","v":"Tomáš Novák"},{"$f":"VLOOKUP('Základ pro mzdu'!E28,'Měsíční přehledy'!$C$24:$D$28,2,FALSE)*'Základ pro mzdu'!$G$6","v":72},{"$f":"F28*$G$7","v":6480},{"$f":"IF(VLOOKUP(E28,'Měsíční přehledy'!$C$24:$K$28,7,FALSE)<='Základ pro mzdu'!$E$12,'Základ pro mzdu'!G28*$G$11,IF(VLOOKUP(E28,'Měsíční přehledy'!$C$24:$K$28,7,FALSE)<'Základ pro mzdu'!$E$13,G28*$G$12,IF(VLOOKUP(E28,'Měsíční přehledy'!$C$24:$K$28,7,FALSE)<$E$14,'Základ pro mzdu'!G28*$G$13,'Základ pro mzdu'!G28*$G$14)))","v":324},{"$f":"IF(VLOOKUP(E28,'Měsíční přehledy'!$C$24:$K$28,9,FALSE)<='Základ pro mzdu'!$H$12,'Základ pro mzdu'!G28*$J$11,IF(VLOOKUP(E28,'Měsíční přehledy'!$C$24:$K$28,9,FALSE)<'Základ pro mzdu'!$H$13,G28*$J$12,IF(VLOOKUP(E28,'Měsíční přehledy'!$C$24:$K$28,9,FALSE)<$H$14,'Základ pro mzdu'!G28*$J$13,'Základ pro mzdu'!G28*$J$14)))","v":0},{"$f":"SUM(G28:I28)","v":6804}]
[null,null,null,null,{"$f":"Lucie","v":"Lucie Růžičková"},{"$f":"VLOOKUP('Základ pro mzdu'!E29,'Měsíční přehledy'!$C$24:$D$28,2,FALSE)*'Základ pro mzdu'!$G$6","v":60},{"$f":"F29*$G$7","v":5400},{"$f":"IF(VLOOKUP(E29,'Měsíční přehledy'!$C$24:$K$28,7,FALSE)<='Základ pro mzdu'!$E$12,'Základ pro mzdu'!G29*$G$11,IF(VLOOKUP(E29,'Měsíční přehledy'!$C$24:$K$28,7,FALSE)<'Základ pro mzdu'!$E$13,G29*$G$12,IF(VLOOKUP(E29,'Měsíční přehledy'!$C$24:$K$28,7,FALSE)<$E$14,'Základ pro mzdu'!G29*$G$13,'Základ pro mzdu'!G29*$G$14)))","v":270},{"$f":"IF(VLOOKUP(E29,'Měsíční přehledy'!$C$24:$K$28,9,FALSE)<='Základ pro mzdu'!$H$12,'Základ pro mzdu'!G29*$J$11,IF(VLOOKUP(E29,'Měsíční přehledy'!$C$24:$K$28,9,FALSE)<'Základ pro mzdu'!$H$13,G29*$J$12,IF(VLOOKUP(E29,'Měsíční přehledy'!$C$24:$K$28,9,FALSE)<$H$14,'Základ pro mzdu'!G29*$J$13,'Základ pro mzdu'!G29*$J$14)))","v":405},6075]
[null,null,null,null,{"$f":"Zdeněk","v":"Zdeněk Lichý"},{"$f":"VLOOKUP('Základ pro mzdu'!E30,'Měsíční přehledy'!$C$24:$D$28,2,FALSE)*'Základ pro mzdu'!$G$6","v":60},{"$f":"F30*$G$7","v":5400},{"$f":"IF(VLOOKUP(E30,'Měsíční přehledy'!$C$24:$K$28,7,FALSE)<='Základ pro mzdu'!$E$12,'Základ pro mzdu'!G30*$G$11,IF(VLOOKUP(E30,'Měsíční přehledy'!$C$24:$K$28,7,FALSE)<'Základ pro mzdu'!$E$13,G30*$G$12,IF(VLOOKUP(E30,'Měsíční přehledy'!$C$24:$K$28,7,FALSE)<$E$14,'Základ pro mzdu'!G30*$G$13,'Základ pro mzdu'!G30*$G$14)))","v":270},{"$f":"IF(VLOOKUP(E30,'Měsíční přehledy'!$C$24:$K$28,9,FALSE)<='Základ pro mzdu'!$H$12,'Základ pro mzdu'!G30*$J$11,IF(VLOOKUP(E30,'Měsíční přehledy'!$C$24:$K$28,9,FALSE)<'Základ pro mzdu'!$H$13,G30*$J$12,IF(VLOOKUP(E30,'Měsíční přehledy'!$C$24:$K$28,9,FALSE)<$H$14,'Základ pro mzdu'!G30*$J$13,'Základ pro mzdu'!G30*$J$14)))","v":540},6210]
[null,null,null,null,{"$f":"Jan","v":"Jan Soukup"},{"$f":"VLOOKUP('Základ pro mzdu'!E31,'Měsíční přehledy'!$C$24:$D$28,2,FALSE)*'Základ pro mzdu'!$G$6","v":60},{"$f":"F31*$G$7","v":5400},{"$f":"IF(VLOOKUP(E31,'Měsíční přehledy'!$C$24:$K$28,7,FALSE)<='Základ pro mzdu'!$E$12,'Základ pro mzdu'!G31*$G$11,IF(VLOOKUP(E31,'Měsíční přehledy'!$C$24:$K$28,7,FALSE)<'Základ pro mzdu'!$E$13,G31*$G$12,IF(VLOOKUP(E31,'Měsíční přehledy'!$C$24:$K$28,7,FALSE)<$E$14,'Základ pro mzdu'!G31*$G$13,'Základ pro mzdu'!G31*$G$14)))","v":270},{"$f":"IF(VLOOKUP(E31,'Měsíční přehledy'!$C$24:$K$28,9,FALSE)<='Základ pro mzdu'!$H$12,'Základ pro mzdu'!G31*$J$11,IF(VLOOKUP(E31,'Měsíční přehledy'!$C$24:$K$28,9,FALSE)<'Základ pro mzdu'!$H$13,G31*$J$12,IF(VLOOKUP(E31,'Měsíční přehledy'!$C$24:$K$28,9,FALSE)<$H$14,'Základ pro mzdu'!G31*$J$13,'Základ pro mzdu'!G31*$J$14)))","v":540},6210]

{"sheet":"Rozhodnutí o půjčce","index":4,"n_rows":18,"n_cols":8,"rows_kept":18,"cut":false,"hidden":false,"merged":[[14,2,14,5]]}
[]
[]
[null,"Zpráva scénáře",null,"KB","ČSOB","ČS","GE","UNICredit"]
[null,null,null,0.06,6.5000000000000002E-2,7.0000000000000007E-2,7.4999999999999997E-2,0.08]
[]
[null,"Měněné buňky:"]
[null,null,"Úroková_sazba",0.06,6.5000000000000002E-2,7.0000000000000007E-2,7.4999999999999997E-2,0.08]
[null,null,"Doba_splátek",84,72,65,60,55]
[null,"Výsledné buňky:"]
[null,null,"Platba",-29217.108967562301,-33619.859247564797,-37058.911287095703,-40075.897191247197,-43556.535335356297]
[null,null,"Celkové_náklady",-2454237.15327523,-2420629.8658246701,-2408829.2336612199,-2404553.8314748299,-2395609.4434445999]
[null,null,"Úrok",454237.15327523299,420629.86582466698,408829.23366121802,404553.83147483499,395609.44344459998]
[null,null,"Půjčka",2000000,2000000,2000000,2000000,2000000]
[]
[null,null,"Podmínky vedení"]
[null,null,"Měsíční platba nepřevýší",40000]
[null,null,"Splacení v intervalu 4-7 let",{"$f":"4*12","v":48},{"$f":"7*12","v":84},"měsíců"]
[null,null,"Zaplatíme navíc max",410000]

{"sheet":"Data k půjčce","index":5,"n_rows":12,"n_cols":6,"rows_kept":12,"cut":false,"hidden":false,"merged":[]}
[]
[]
[]
[null,null,null,null,"Data k půjčce"]
[]
[]
[null,null,null,null,"Půjčka",2000000]
[null,null,null,null,"Úroková sazba",0.06]
[null,null,null,null,"Doba splátek",84]
[null,null,null,null,"Platba",{"$f":"PMT(F8/12,F9,F7)","v":-29217.108967561577}]
[null,null,null,null,"Celkové náklady",{"$f":"F10*F9","v":-2454237.1532751722}]
[null,null,null,null,"Úrok",{"$f":"-F7-F11","v":454237.15327517223}]

{"sheet":"Graf Všichni","index":6,"n_rows":78,"n_cols":19,"rows_kept":78,"cut":false,"hidden":false,"merged":[[26,14,27,15],[34,14,35,14]]}
[]
[]
[]
[]
[]
[]
[]
[]
[]
[]
[]
[]
[]
[]
[]
[]
[]
[]
[]
[]
[]
[]
[]
[]
[]
[null,null,null,null,null,null,null,null,null,null,"Datum","Efektivita","Vyrobeno \nbeze zmetků"]
[null,null,null,null,null,null,null,null,null,null,{"$f":"Zaměstnanci!C50","v":41519},{"$f":"Zaměstnanci!H50","v":0.90559440559440563},{"$f":"Zaměstnanci!I50","v":259},null,"Korelace produktivita/efektivita"]
[null,null,null,null,null,null,null,null,null,null,{"$f":"Zaměstnanci!C51","v":41520},{"$f":"Zaměstnanci!H51","v":0.91463414634146345},{"$f":"Zaměstnanci!I51","v":225}]
[null,null,null,null,null,null,null,null,null,null,{"$f":"Zaměstnanci!C52","v":41521},{"$f":"Zaměstnanci!H52","v":0.92763157894736847},{"$f":"Zaměstnanci!I52","v":282},null,"Září",{"$f":"CORREL(L27:L51,M27:M51)","v":0.25369371628543619}]
[null,null,null,null,null,null,null,null,null,null,{"$f":"Zaměstnanci!C53","v":41522},{"$f":"Zaměstnanci!H53","v":0.90909090909090906},{"$f":"Zaměstnanci!I53","v":300},null,"Říjen",{"$f":"CORREL(L52:L78,M52:M78)","v":0.33533720066228934}]
[null,null,null,null,null,null,null,null,null,null,{"$f":"Zaměstnanci!C54","v":41523},{"$f":"Zaměstnanci!H54","v":0.92028985507246375},{"$f":"Zaměstnanci!I54","v":254},null,"Celková",{"$f":"CORREL(L27:L78,M27:M78)","v":0.35539805846969064}]
[null,null,null,null,null,null,null,null,null,null,{"$f":"Zaměstnanci!C55","v":41524},{"$f":"Zaměstnanci!H55","v":0.90494296577946765},{"$f":"Zaměstnanci!I55","v":238}]
[null,null,null,null,null,null,null,null,null,null,{"$f":"Zaměstnanci!C57","v":41526},{"$f":"Zaměstnanci!H57","v":0.92982456140350878},{"$f":"Zaměstnanci!I57","v":318}]
[null,null,null,null,null,null,null,null,null,null,{"$f":"Zaměstnanci!C58","v":41527},{"$f":"Zaměstnanci!H58","v":0.90043290043290047},{"$f":"Zaměstnanci!I58","v":208},null,"Efektivita",0.88,0.92,0.96,0.99]
[null,null,null,null,null,null,null,null,null,null,{"$f":"Zaměstnanci!C59","v":41528},{"$f":"Zaměstnanci!H59","v":0.8973214285714286},{"$f":"Zaměstnanci!I59","v":201},null,"Předpověď produktivity"]
[null,null,null,null,null,null,null,null,null,null,{"$f":"Zaměstnanci!C60","v":41529},{"$f":"Zaměstnanci!H60","v":0.90283400809716596},{"$f":"Zaměstnanci!I60","v":223},null,null,{"$f":"FORECAST(P34:S34,M27:M78,L27:L78)","v":238.26638927575971},257.95555744693877,277.64472561811772,292.41160174650201]
[null,null,null,null,null,null,null,null,null,null,{"$f":"Zaměstnanci!C61","v":41530},{"$f":"Zaměstnanci!H61","v":0.96846846846846846},{"$f":"Zaměstnanci!I61","v":215}]
[null,null,null,null,null,null,null,null,null,null,{"$f":"Zaměstnanci!C62","v":41531},{"$f":"Zaměstnanci!H62","v":0.90301003344481601},{"$f":"Zaměstnanci!I62","v":270}]
[null,null,null,null,null,null,null,null,null,null,{"$f":"Zaměstnanci!C64","v":41533},{"$f":"Zaměstnanci!H64","v":0.967741935483871},{"$f":"Zaměstnanci!I64","v":270}]
[null,null,null,null,null,null,null,null,null,null,{"$f":"Zaměstnanci!C65","v":41534},{"$f":"Zaměstnanci!H65","v":0.87209302325581395},{"$f":"Zaměstnanci!I65","v":225}]
[null,null,null,null,null,null,null,null,null,null,{"$f":"Zaměstnanci!C66","v":41535},{"$f":"Zaměstnanci!H66","v":0.94871794871794868},{"$f":"Zaměstnanci!I66","v":222}]
[null,null,null,null,null,null,null,null,null,null,{"$f":"Zaměstnanci!C67","v":41536},{"$f":"Zaměstnanci!H67","v":0.94153846153846155},{"$f":"Zaměstnanci!I67","v":306}]
[null,null,null,null,null,null,null,null,null,null,{"$f":"Zaměstnanci!C68","v":41537},{"$f":"Zaměstnanci!H68","v":0.8783783783783784},{"$f":"Zaměstnanci!I68","v":195}]
[null,null,null,null,null,null,null,null,null,null,{"$f":"Zaměstnanci!C69","v":41538},{"$f":"Zaměstnanci!H69","v":0.95138888888888884},{"$f":"Zaměstnanci!I69","v":274}]
[null,null,null,null,null,null,null,null,null,null,{"$f":"Zaměstnanci!C71","v":41540},{"$f":"Zaměstnanci!H71","v":0.94074074074074077},{"$f":"Zaměstnanci!I71","v":254}]
[null,null,null,null,null,null,null,null,null,null,{"$f":"Zaměstnanci!C72","v":41541},{"$f":"Zaměstnanci!H72","v":0.94464944649446492},{"$f":"Zaměstnanci!I72","v":256}]
[null,null,null,null,null,null,null,null,null,null,{"$f":"Zaměstnanci!C73","v":41542},{"$f":"Zaměstnanci!H73","v":0.92625368731563418},{"$f":"Zaměstnanci!I73","v":314}]
[null,null,null,null,null,null,null,null,null,null,{"$f":"Zaměstnanci!C74","v":41543},{"$f":"Zaměstnanci!H74","v":0.91603053435114501},{"$f":"Zaměstnanci!I74","v":240}]
[null,null,null,null,null,null,null,null,null,null,{"$f":"Zaměstnanci!C75","v":41544},{"$f":"Zaměstnanci!H75","v":0.94941634241245132},{"$f":"Zaměstnanci!I75","v":244}]
[null,null,null,null,null,null,null,null,null,null,{"$f":"Zaměstnanci!C76","v":41545},{"$f":"Zaměstnanci!H76","v":0.96525096525096521},{"$f":"Zaměstnanci!I76","v":250}]
[null,null,null,null,null,null,null,null,null,null,{"$f":"Zaměstnanci!C78","v":41547},{"$f":"Zaměstnanci!H78","v":0.95022624434389136},{"$f":"Zaměstnanci!I78","v":210}]
[null,null,null,null,null,null,null,null,null,null,{"$f":"Zaměstnanci!C79","v":41548},{"$f":"Zaměstnanci!H79","v":0.94925373134328361},{"$f":"Zaměstnanci!I79","v":318}]
[null,null,null,null,null,null,null,null,null,null,{"$f":"Zaměstnanci!C80","v":41549},{"$f":"Zaměstnanci!H80","v":0.93076923076923079},{"$f":"Zaměstnanci!I80","v":242}]
[null,null,null,null,null,null,null,null,null,null,{"$f":"Zaměstnanci!C81","v":41550},{"$f":"Zaměstnanci!H81","v":0.97192982456140353},{"$f":"Zaměstnanci!I81","v":277}]
[null,null,null,null,null,null,null,null,null,null,{"$f":"Zaměstnanci!C82","v":41551},{"$f":"Zaměstnanci!H82","v":0.97904191616766467},{"$f":"Zaměstnanci!I82","v":327}]
[null,null,null,null,null,null,null,null,null,null,{"$f":"Zaměstnanci!C83","v":41552},{"$f":"Zaměstnanci!H83","v":0.95180722891566261},{"$f":"Zaměstnanci!I83","v":316}]
[null,null,null,null,null,null,null,null,null,null,{"$f":"Zaměstnanci!C85","v":41554},{"$f":"Zaměstnanci!H85","v":0.88967971530249113},{"$f":"Zaměstnanci!I85","v":250}]
[null,null,null,null,null,null,null,null,null,null,{"$f":"Zaměstnanci!C86","v":41555},{"$f":"Zaměstnanci!H86","v":0.91317365269461082},{"$f":"Zaměstnanci!I86","v":305}]
[null,null,null,null,null,null,null,null,null,null,{"$f":"Zaměstnanci!C87","v":41556},{"$f":"Zaměstnanci!H87","v":0.96250000000000002},{"$f":"Zaměstnanci!I87","v":231}]
[null,null,null,null,null,null,null,null,null,null,{"$f":"Zaměstnanci!C88","v":41557},{"$f":"Zaměstnanci!H88","v":0.95792880258899671},{"$f":"Zaměstnanci!I88","v":296}]
[null,null,null,null,null,null,null,null,null,null,{"$f":"Zaměstnanci!C89","v":41558},{"$f":"Zaměstnanci!H89","v":0.95820895522388061},{"$f":"Zaměstnanci!I89","v":321}]
[null,null,null,null,null,null,null,null,null,null,{"$f":"Zaměstnanci!C90","v":41559},{"$f":"Zaměstnanci!H90","v":0.92582417582417587},{"$f":"Zaměstnanci!I90","v":337}]
[null,null,null,null,null,null,null,null,null,null,{"$f":"Zaměstnanci!C92","v":41561},{"$f":"Zaměstnanci!H92","v":0.87068965517241381},{"$f":"Zaměstnanci!I92","v":202}]
[null,null,null,null,null,null,null,null,null,null,{"$f":"Zaměstnanci!C93","v":41562},{"$f":"Zaměstnanci!H93","v":0.9106529209621993},{"$f":"Zaměstnanci!I93","v":265}]
[null,null,null,null,null,null,null,null,null,null,{"$f":"Zaměstnanci!C94","v":41563},{"$f":"Zaměstnanci!H94","v":0.93939393939393945},{"$f":"Zaměstnanci!I94","v":248}]
[null,null,null,null,null,null,null,null,null,null,{"$f":"Zaměstnanci!C95","v":41564},{"$f":"Zaměstnanci!H95","v":0.92},{"$f":"Zaměstnanci!I95","v":322}]
[null,null,null,null,null,null,null,null,null,null,{"$f":"Zaměstnanci!C96","v":41565},{"$f":"Zaměstnanci!H96","v":0.9598214285714286},{"$f":"Zaměstnanci!I96","v":215}]
[null,null,null,null,null,null,null,null,null,null,{"$f":"Zaměstnanci!C97","v":41566},{"$f":"Zaměstnanci!H97","v":0.96969696969696972},{"$f":"Zaměstnanci!I97","v":256}]
[null,null,null,null,null,null,null,null,null,null,{"$f":"Zaměstnanci!C99","v":41568},{"$f":"Zaměstnanci!H99","v":0.94328358208955221},{"$f":"Zaměstnanci!I99","v":316}]
[null,null,null,null,null,null,null,null,null,null,{"$f":"Zaměstnanci!C100","v":41569},{"$f":"Zaměstnanci!H100","v":0.92063492063492058},{"$f":"Zaměstnanci!I100","v":290}]
[null,null,null,null,null,null,null,null,null,null,{"$f":"Zaměstnanci!C101","v":41570},{"$f":"Zaměstnanci!H101","v":0.89642857142857146},{"$f":"Zaměstnanci!I101","v":251}]
[null,null,null,null,null,null,null,null,null,null,{"$f":"Zaměstnanci!C102","v":41571},{"$f":"Zaměstnanci!H102","v":0.96012269938650308},{"$f":"Zaměstnanci!I102","v":313}]
[null,null,null,null,null,null,null,null,null,null,{"$f":"Zaměstnanci!C103","v":41572},{"$f":"Zaměstnanci!H103","v":0.9372693726937269},{"$f":"Zaměstnanci!I103","v":254}]
[null,null,null,null,null,null,null,null,null,null,{"$f":"Zaměstnanci!C104","v":41573},{"$f":"Zaměstnanci!H104","v":0.9135338345864662},{"$f":"Zaměstnanci!I104","v":243}]
[null,null,null,null,null,null,null,null,null,null,{"$f":"Zaměstnanci!C106","v":41575},{"$f":"Zaměstnanci!H106","v":0.9315589353612167},{"$f":"Zaměstnanci!I106","v":245}]
[null,null,null,null,null,null,null,null,null,null,{"$f":"Zaměstnanci!C107","v":41576},{"$f":"Zaměstnanci!H107","v":0.96515679442508706},{"$f":"Zaměstnanci!I107","v":277}]
[null,null,null,null,null,null,null,null,null,null,{"$f":"Zaměstnanci!C108","v":41577},{"$f":"Zaměstnanci!H108","v":0.95774647887323938},{"$f":"Zaměstnanci!I108","v":272}]
[null,null,null,null,null,null,null,null,null,null,{"$f":"Zaměstnanci!C109","v":41578},{"$f":"Zaměstnanci!H109","v":0.96},{"$f":"Zaměstnanci!I109","v":288}]

{"sheet":"Graf Marie","index":7,"n_rows":17,"n_cols":16,"rows_kept":17,"cut":false,"hidden":false,"merged":[]}
[]
[]
[]
[]
[]
[null,null,null,null,null,null,null,null,null,null,null,null,null,"Datum","Efektivita","Vyrobeno \nbeze zmetků"]
[null,null,null,null,null,null,null,null,null,null,null,null,null,{"$f":"Zaměstnanci!$C$50","v":41519},{"$f":"Zaměstnanci!H50","v":0.90559440559440563},{"$f":"Zaměstnanci!I50","v":259}]
[null,null,null,null,null,null,null,null,null,null,null,null,null,{"$f":"Zaměstnanci!$C$55","v":41524},{"$f":"Zaměstnanci!H55","v":0.90494296577946765},{"$f":"Zaměstnanci!I55","v":238}]
[null,null,null,null,null,null,null,null,null,null,null,null,null,{"$f":"Zaměstnanci!$C$61","v":41530},{"$f":"Zaměstnanci!H61","v":0.96846846846846846},{"$f":"Zaměstnanci!I61","v":215}]
[null,null,null,null,null,null,null,null,null,null,null,null,null,{"$f":"Zaměstnanci!$C$67","v":41536},{"$f":"Zaměstnanci!H67","v":0.94153846153846155},{"$f":"Zaměstnanci!I67","v":306}]
[null,null,null,null,null,null,null,null,null,null,null,null,null,{"$f":"Zaměstnanci!$C$73","v":41542},{"$f":"Zaměstnanci!H73","v":0.92625368731563418},{"$f":"Zaměstnanci!I73","v":314}]
[null,null,null,null,null,null,null,null,null,null,null,null,null,{"$f":"Zaměstnanci!$C$79","v":41548},{"$f":"Zaměstnanci!H79","v":0.94925373134328361},{"$f":"Zaměstnanci!I79","v":318}]
[null,null,null,null,null,null,null,null,null,null,null,null,null,{"$f":"Zaměstnanci!$C$85","v":41554},{"$f":"Zaměstnanci!H85","v":0.88967971530249113},{"$f":"Zaměstnanci!I85","v":250}]
[null,null,null,null,null,null,null,null,null,null,null,null,null,{"$f":"Zaměstnanci!$C$90","v":41559},{"$f":"Zaměstnanci!H90","v":0.92582417582417587},{"$f":"Zaměstnanci!I90","v":337}]
[null,null,null,null,null,null,null,null,null,null,null,null,null,{"$f":"Zaměstnanci!$C$96","v":41565},{"$f":"Zaměstnanci!H96","v":0.9598214285714286},{"$f":"Zaměstnanci!I96","v":215}]
[null,null,null,null,null,null,null,null,null,null,null,null,null,{"$f":"Zaměstnanci!$C$102","v":41571},{"$f":"Zaměstnanci!H102","v":0.96012269938650308},{"$f":"Zaměstnanci!I102","v":313}]
[null,null,null,null,null,null,null,null,null,null,null,null,null,{"$f":"Zaměstnanci!$C$108","v":41577},{"$f":"Zaměstnanci!H108","v":0.95774647887323938},{"$f":"Zaměstnanci!I108","v":272}]

{"sheet":"Graf Tomáš","index":8,"n_rows":17,"n_cols":16,"rows_kept":17,"cut":false,"hidden":false,"merged":[]}
[]
[]
[]
[]
[]
[null,null,null,null,null,null,null,null,null,null,null,null,null,"Datum","Efektivita","Vyrobeno \nbeze zmetků"]
[null,null,null,null,null,null,null,null,null,null,null,null,null,{"$f":"Zaměstnanci!$C$51","v":41520},{"$f":"Zaměstnanci!H51","v":0.91463414634146345},{"$f":"Zaměstnanci!I51","v":225}]
[null,null,null,null,null,null,null,null,null,null,null,null,null,{"$f":"Zaměstnanci!$C$57","v":41526},{"$f":"Zaměstnanci!H57","v":0.92982456140350878},{"$f":"Zaměstnanci!I57","v":318}]
[null,null,null,null,null,null,null,null,null,null,null,null,null,{"$f":"Zaměstnanci!$C$62","v":41531},{"$f":"Zaměstnanci!H62","v":0.90301003344481601},{"$f":"Zaměstnanci!I62","v":270}]
[null,null,null,null,null,null,null,null,null,null,null,null,null,{"$f":"Zaměstnanci!$C$68","v":41537},{"$f":"Zaměstnanci!H68","v":0.8783783783783784},{"$f":"Zaměstnanci!I68","v":195}]
[null,null,null,null,null,null,null,null,null,null,null,null,null,{"$f":"Zaměstnanci!$C$74","v":41543},{"$f":"Zaměstnanci!H74","v":0.91603053435114501},{"$f":"Zaměstnanci!I74","v":240}]
[null,null,null,null,null,null,null,null,null,null,null,null,null,{"$f":"Zaměstnanci!$C$80","v":41549},{"$f":"Zaměstnanci!H80","v":0.93076923076923079},{"$f":"Zaměstnanci!I80","v":242}]
[null,null,null,null,null,null,null,null,null,null,null,null,null,{"$f":"Zaměstnanci!$C$86","v":41555},{"$f":"Zaměstnanci!H86","v":0.91317365269461082},{"$f":"Zaměstnanci!I86","v":305}]
[null,null,null,null,null,null,null,null,null,null,null,null,null,{"$f":"Zaměstnanci!$C$92","v":41561},{"$f":"Zaměstnanci!H92","v":0.87068965517241381},{"$f":"Zaměstnanci!I92","v":202}]
[null,null,null,null,null,null,null,null,null,null,null,null,null,{"$f":"Zaměstnanci!$C$97","v":41566},{"$f":"Zaměstnanci!H97","v":0.96969696969696972},{"$f":"Zaměstnanci!I97","v":256}]
[null,null,null,null,null,null,null,null,null,null,null,null,null,{"$f":"Zaměstnanci!$C$103","v":41572},{"$f":"Zaměstnanci!H103","v":0.9372693726937269},{"$f":"Zaměstnanci!I103","v":254}]
[null,null,null,null,null,null,null,null,null,null,null,null,null,{"$f":"Zaměstnanci!$C$109","v":41578},{"$f":"Zaměstnanci!H109","v":0.96},{"$f":"Zaměstnanci!I109","v":288}]

{"sheet":"Graf Lucie","index":9,"n_rows":16,"n_cols":16,"rows_kept":16,"cut":false,"hidden":false,"merged":[]}
[]
[]
[]
[]
[]
[null,null,null,null,null,null,null,null,null,null,null,null,null,"Datum","Efektivita","Vyrobeno \nbeze zmetků"]
[null,null,null,null,null,null,null,null,null,null,null,null,null,{"$f":"Zaměstnanci!$C$52","v":41521},{"$f":"Zaměstnanci!H52","v":0.92763157894736847},{"$f":"Zaměstnanci!I52","v":282}]
[null,null,null,null,null,null,null,null,null,null,null,null,null,{"$f":"Zaměstnanci!$C$58","v":41527},{"$f":"Zaměstnanci!H58","v":0.90043290043290047},{"$f":"Zaměstnanci!I58","v":208}]
[null,null,null,null,null,null,null,null,null,null,null,null,null,{"$f":"Zaměstnanci!$C$64","v":41533},{"$f":"Zaměstnanci!H64","v":0.967741935483871},{"$f":"Zaměstnanci!I64","v":270}]
[null,null,null,null,null,null,null,null,null,null,null,null,null,{"$f":"Zaměstnanci!$C$69","v":41538},{"$f":"Zaměstnanci!H69","v":0.95138888888888884},{"$f":"Zaměstnanci!I69","v":274}]
[null,null,null,null,null,null,null,null,null,null,null,null,null,{"$f":"Zaměstnanci!$C$75","v":41544},{"$f":"Zaměstnanci!H75","v":0.94941634241245132},{"$f":"Zaměstnanci!I75","v":244}]
[null,null,null,null,null,null,null,null,null,null,null,null,null,{"$f":"Zaměstnanci!$C$81","v":41550},{"$f":"Zaměstnanci!H81","v":0.97192982456140353},{"$f":"Zaměstnanci!I81","v":277}]
[null,null,null,null,null,null,null,null,null,null,null,null,null,{"$f":"Zaměstnanci!$C$87","v":41556},{"$f":"Zaměstnanci!H87","v":0.96250000000000002},{"$f":"Zaměstnanci!I87","v":231}]
[null,null,null,null,null,null,null,null,null,null,null,null,null,{"$f":"Zaměstnanci!$C$93","v":41562},{"$f":"Zaměstnanci!H93","v":0.9106529209621993},{"$f":"Zaměstnanci!I93","v":265}]
[null,null,null,null,null,null,null,null,null,null,null,null,null,{"$f":"Zaměstnanci!$C$99","v":41568},{"$f":"Zaměstnanci!H99","v":0.94328358208955221},{"$f":"Zaměstnanci!I99","v":316}]
[null,null,null,null,null,null,null,null,null,null,null,null,null,{"$f":"Zaměstnanci!$C$104","v":41573},{"$f":"Zaměstnanci!H104","v":0.9135338345864662},{"$f":"Zaměstnanci!I104","v":243}]

{"sheet":"Graf Zdeněk","index":10,"n_rows":16,"n_cols":16,"rows_kept":16,"cut":false,"hidden":false,"merged":[]}
[]
[]
[]
[]
[]
[null,null,null,null,null,null,null,null,null,null,null,null,null,"Datum","Efektivita","Vyrobeno \nbeze zmetků"]
[null,null,null,null,null,null,null,null,null,null,null,null,null,{"$f":"Zaměstnanci!$C$53","v":41522},{"$f":"Zaměstnanci!H53","v":0.90909090909090906},{"$f":"Zaměstnanci!I53","v":300}]
[null,null,null,null,null,null,null,null,null,null,null,null,null,{"$f":"Zaměstnanci!$C$59","v":41528},{"$f":"Zaměstnanci!H59","v":0.8973214285714286},{"$f":"Zaměstnanci!I59","v":201}]
[null,null,null,null,null,null,null,null,null,null,null,null,null,{"$f":"Zaměstnanci!$C$65","v":41534},{"$f":"Zaměstnanci!H65","v":0.87209302325581395},{"$f":"Zaměstnanci!I65","v":225}]
[null,null,null,null,null,null,null,null,null,null,null,null,null,{"$f":"Zaměstnanci!$C$71","v":41540},{"$f":"Zaměstnanci!H71","v":0.94074074074074077},{"$f":"Zaměstnanci!I71","v":254}]
[null,null,null,null,null,null,null,null,null,null,null,null,null,{"$f":"Zaměstnanci!$C$76","v":41545},{"$f":"Zaměstnanci!H76","v":0.96525096525096521},{"$f":"Zaměstnanci!I76","v":250}]
[null,null,null,null,null,null,null,null,null,null,null,null,null,{"$f":"Zaměstnanci!$C$82","v":41551},{"$f":"Zaměstnanci!H82","v":0.97904191616766467},{"$f":"Zaměstnanci!I82","v":327}]
[null,null,null,null,null,null,null,null,null,null,null,null,null,{"$f":"Zaměstnanci!$C$88","v":41557},{"$f":"Zaměstnanci!H88","v":0.95792880258899671},{"$f":"Zaměstnanci!I88","v":296}]
[null,null,null,null,null,null,null,null,null,null,null,null,null,{"$f":"Zaměstnanci!$C$94","v":41563},{"$f":"Zaměstnanci!H94","v":0.93939393939393945},{"$f":"Zaměstnanci!I94","v":248}]
[null,null,null,null,null,null,null,null,null,null,null,null,null,{"$f":"Zaměstnanci!$C$100","v":41569},{"$f":"Zaměstnanci!H100","v":0.92063492063492058},{"$f":"Zaměstnanci!I100","v":290}]
[null,null,null,null,null,null,null,null,null,null,null,null,null,{"$f":"Zaměstnanci!$C$106","v":41575},{"$f":"Zaměstnanci!H106","v":0.9315589353612167},{"$f":"Zaměstnanci!I106","v":245}]

{"sheet":"Graf Jan","index":11,"n_rows":16,"n_cols":16,"rows_kept":16,"cut":false,"hidden":false,"merged":[]}
[]
[]
[]
[]
[]
[null,null,null,null,null,null,null,null,null,null,null,null,null,"Datum","Efektivita","Vyrobeno \nbeze zmetků"]
[null,null,null,null,null,null,null,null,null,null,null,null,null,{"$f":"Zaměstnanci!$C$54","v":41523},{"$f":"Zaměstnanci!H54","v":0.92028985507246375},{"$f":"Zaměstnanci!I54","v":254}]
[null,null,null,null,null,null,null,null,null,null,null,null,null,{"$f":"Zaměstnanci!$C$60","v":41529},{"$f":"Zaměstnanci!H60","v":0.90283400809716596},{"$f":"Zaměstnanci!I60","v":223}]
[null,null,null,null,null,null,null,null,null,null,null,null,null,{"$f":"Zaměstnanci!$C$66","v":41535},{"$f":"Zaměstnanci!H66","v":0.94871794871794868},{"$f":"Zaměstnanci!I66","v":222}]
[null,null,null,null,null,null,null,null,null,null,null,null,null,{"$f":"Zaměstnanci!$C$72","v":41541},{"$f":"Zaměstnanci!H72","v":0.94464944649446492},{"$f":"Zaměstnanci!I72","v":256}]
[null,null,null,null,null,null,null,null,null,null,null,null,null,{"$f":"Zaměstnanci!$C$78","v":41547},{"$f":"Zaměstnanci!H78","v":0.95022624434389136},{"$f":"Zaměstnanci!I78","v":210}]
[null,null,null,null,null,null,null,null,null,null,null,null,null,{"$f":"Zaměstnanci!$C$83","v":41552},{"$f":"Zaměstnanci!H83","v":0.95180722891566261},{"$f":"Zaměstnanci!I83","v":316}]
[null,null,null,null,null,null,null,null,null,null,null,null,null,{"$f":"Zaměstnanci!$C$89","v":41558},{"$f":"Zaměstnanci!H89","v":0.95820895522388061},{"$f":"Zaměstnanci!I89","v":321}]
[null,null,null,null,null,null,null,null,null,null,null,null,null,{"$f":"Zaměstnanci!$C$95","v":41564},{"$f":"Zaměstnanci!H95","v":0.92},{"$f":"Zaměstnanci!I95","v":322}]
[null,null,null,null,null,null,null,null,null,null,null,null,null,{"$f":"Zaměstnanci!$C$101","v":41570},{"$f":"Zaměstnanci!H101","v":0.89642857142857146},{"$f":"Zaměstnanci!I101","v":251}]
[null,null,null,null,null,null,null,null,null,null,null,null,null,{"$f":"Zaměstnanci!$C$107","v":41576},{"$f":"Zaměstnanci!H107","v":0.96515679442508706},{"$f":"Zaměstnanci!I107","v":277}]