{"text_format":"1","workbook":"xlsx","n_sheets":3,"sheets":["ANOVA","F","kopie aktuálních dat pro SPSS"],"not_rendered":{"charts":3,"images":0,"macros":1,"external_links":0,"defined_names":0,"comments":1,"pivot_tables":0},"unopened":[],"bounds":{"document_bytes":16777216,"sheet_cells":100000,"rows_first":2000,"rows_last":500,"rows_between":2000,"halvings":0,"cell_chars":16384,"cell_head_chars":4096},"cells_cut":0,"cells_raw":0,"read":"whole","date_system":"1900"}

{"sheet":"ANOVA","index":0,"n_rows":28,"n_cols":26,"rows_kept":28,"cut":false,"hidden":false,"merged":[]}
[null,"Skupina",null,null,null,null,null,"Počet skupin",null,5]
["ZO",1,2,3,4,5,null,"Počet lidí ve skupině",null,20,null,null,null,null,null,"Pomocný výpočet pro SSuvnitř skupin",null,null,null,null,null,"Pomocný výpočet pro SScelkem"]
[1,{"$f":"ROUND(_xlfn.NORM.S.INV(RAND())*$J$6+$J$5,0)","v":33},{"$f":"ROUND(_xlfn.NORM.S.INV(RAND())*$J$6+$J$5+$J$8*(C$2-1),0)","v":49},{"$f":"ROUND(_xlfn.NORM.S.INV(RAND())*$J$6+$J$5+$J$8*(D$2-1),0)","v":53},39,36,null,null,null,null,null,null,null,null,null,{"$f":"(B3-B$25)^2","v":222.00999999999996},{"$f":"(C3-C$25)^2","v":9.6100000000000083},5.7599999999999936,51.840000000000039,203.0625,null,{"$f":"(B3-$G$25)^2","v":269.28809999999987},{"$f":"(C3-$G$25)^2","v":0.1680999999999972},12.888100000000025,108.36809999999993,{"$f":"(F3-$G$25)^2","v":179.82809999999992}]
[2,{"$f":"ROUND(_xlfn.NORM.S.INV(RAND())*$J$6+$J$5,0)","v":44},{"$f":"ROUND(_xlfn.NORM.S.INV(RAND())*$J$6+$J$5+$J$8*(C$2-1),0)","v":51},60,67,49,null,"Rozložení proměnné (normální)",null,null,null,null,null,null,null,{"$f":"(B4-B$25)^2","v":15.209999999999988},1.2100000000000031,88.359999999999971,432.63999999999987,1.5625,null,{"$f":"(B4-$G$25)^2","v":29.268099999999961},{"$f":"(C4-$G$25)^2","v":2.5281000000000109},{"$f":"(D4-$G$25)^2","v":112.14810000000007},{"$f":"(E4-$G$25)^2","v":309.4081000000001},{"$f":"(F4-$G$25)^2","v":0.1680999999999972}]
[3,31,58,37,55,63,null,null,"m=",50,null,null,null,null,null,285.60999999999996,34.809999999999981,184.96000000000004,77.439999999999955,162.5625,null,338.92809999999986,73.788100000000057,154.00809999999993,31.248100000000036,184.68810000000011]
[4,47,45,62,31,57,null,null,"s=",10,null,null,null,null,null,0.80999999999999739,50.410000000000018,129.95999999999998,231.04000000000008,45.5625,null,5.8080999999999836,19.448099999999968,158.5081000000001,338.92809999999986,57.60810000000005]
[5,59,42,61,50,48,null,null,null,null,null,null,null,null,null,123.21000000000004,102.01000000000003,108.15999999999997,14.439999999999978,5.0625,null,91.968100000000064,54.908099999999948,134.32810000000009,0.34810000000000402,1.9880999999999904]
[6,42,58,46,48,33,null,"Rozdíly mezi skupinami",null,0,null,null,null,null,null,34.809999999999981,34.809999999999981,21.160000000000014,3.2399999999999896,297.5625,null,54.908099999999948,73.788100000000057,11.628099999999977,1.9880999999999904,269.28809999999987]
[7,55,59,45,54,41,null,null,null,null,null,null,null,null,null,50.410000000000018,47.609999999999978,31.360000000000017,60.839999999999954,85.5625,null,31.248100000000036,91.968100000000064,19.448099999999968,21.06810000000003,70.728099999999941]
[8,76,51,59,39,41,null,null,null,null,null,null,null,null,null,789.61000000000013,1.2100000000000031,70.559999999999974,51.840000000000039,85.5625,null,707.02810000000022,2.5281000000000109,91.968100000000064,108.36809999999993,70.728099999999941]
[9,51,53,47,36,53,null,null,null,null,null,null,null,null,null,9.6100000000000083,0.80999999999999739,12.96000000000001,104.04000000000006,7.5625,null,2.5281000000000109,12.888100000000025,5.8080999999999836,179.82809999999992,12.888100000000025]
[10,36,50,46,55,63,null,null,"ANOVA",null,null,null,null,null,null,141.60999999999996,4.4100000000000064,21.160000000000014,77.439999999999955,162.5625,null,179.82809999999992,0.34810000000000402,11.628099999999977,31.248100000000036,184.68810000000011]
[11,45,44,46,44,42,null,null,"Zdroj rozptylu","Suma čtverců","stupně volnosti","MS","F","p",null,8.4099999999999913,65.610000000000028,21.160000000000014,4.8400000000000123,68.0625,null,19.448099999999968,29.268099999999961,11.628099999999977,29.268099999999961,54.908099999999948]
[12,61,50,56,41,66,null,null,"Mezi skupinami",{"$f":"J2*((B25-G25)^2+(C25-G25)^2+(D25-G25)^2+(E25-G25)^2+(F25-G25)^2)","v":438.83999999999986},{"$f":"J1-1","v":4},{"$f":"J14/K14","v":109.70999999999997},{"$f":"L14/L15","v":1.1698328160864706},{"$f":"1-_xlfn.F.DIST(M14,K14,K15,1)","v":0.3290851508576621},null,171.61000000000004,4.4100000000000064,29.159999999999986,27.040000000000031,248.0625,null,134.32810000000009,0.34810000000000402,43.428100000000043,70.728099999999941,275.2281000000001]
[13,41,66,55,34,61,null,null,"Uvnitř skupin",{"$f":"SUM(P3:T22)","v":8909.3499999999985},{"$f":"J1*J2-J1","v":95},{"$f":"J15/K15","v":93.78263157894736},null,null,null,47.609999999999978,193.20999999999995,19.359999999999989,148.84000000000006,115.5625,null,70.728099999999941,275.2281000000001,31.248100000000036,237.46809999999991,134.32810000000009]
[14,64,58,49,35,49,null,null,"Celkem",{"$f":"SUM(V3:Z22)","v":9348.1899999999951},{"$f":"J1*J2-1","v":99},{"$f":"J16/K16","v":94.426161616161565},null,null,null,259.21000000000004,34.809999999999981,2.5600000000000045,125.44000000000007,1.5625,null,212.86810000000011,73.788100000000057,0.1680999999999972,207.64809999999991,0.1680999999999972]
[15,19,55,45,45,60,null,null,null,null,null,null,null,null,null,835.20999999999992,8.4099999999999913,31.360000000000017,1.4400000000000068,95.0625,null,924.76809999999978,31.248100000000036,19.448099999999968,19.448099999999968,112.14810000000007]
[16,43,47,52,48,40,null,null,null,null,null,null,null,null,null,24.009999999999987,26.010000000000016,1.959999999999996,3.2399999999999896,105.0625,null,41.088099999999955,5.8080999999999836,6.7081000000000177,1.9880999999999904,88.548099999999934]
[17,42,54,40,37,42,null,null,null,null,null,null,null,null,null,34.809999999999981,{"$f":"(C19-C$25)^2","v":3.6099999999999945},{"$f":"(D19-D$25)^2","v":112.36000000000003},{"$f":"(E19-E$25)^2","v":84.640000000000057},{"$f":"(F19-F$25)^2","v":68.0625},null,54.908099999999948,21.06810000000003,88.548099999999934,154.00809999999993,54.908099999999948]
[18,63,45,57,57,56,null,null,null,null,null,null,null,null,null,228.01000000000005,50.410000000000018,40.95999999999998,116.63999999999994,33.0625,null,184.68810000000011,19.448099999999968,57.60810000000005,57.60810000000005,43.428100000000043]
[19,53,57,45,42,48,null,null,null,null,null,null,null,null,null,26.010000000000016,24.009999999999987,31.360000000000017,17.640000000000025,5.0625,null,12.888100000000025,57.60810000000005,19.448099999999968,54.908099999999948,1.9880999999999904]
[20,53,50,51,67,57,null,null,null,null,null,null,null,null,null,26.010000000000016,4.4100000000000064,0.15999999999999887,432.63999999999987,45.5625,null,12.888100000000025,0.34810000000000402,2.5281000000000109,309.4081000000001,57.60810000000005]
[]
["Statistiky pro jednotlivé skupiny",null,null,null,null,null,"Celkem",null,null,null,null,null,null,null,null,{"$f":"SUM(P3:T22)","v":8909.3499999999985}]
["m",{"$f":"AVERAGE(B3:B22)","v":47.9},{"$f":"AVERAGE(C3:C22)","v":52.1},{"$f":"AVERAGE(D3:D22)","v":50.6},46.2,50.25,{"$f":"AVERAGE(B3:F22)","v":49.41},null,null,"sm",{"$f":"_xlfn.STDEV.S(B25:F25)","v":2.3421144293138196}]
["s",{"$f":"STDEV(B3:B22)","v":13.246250710851619},{"$f":"STDEV(C3:C22)","v":6.0775687659839202},{"$f":"STDEV(D3:D22)","v":7.1259348417187489},10.430723848324231,9.8455172807890499,{"$f":"STDEV(B3:F22)","v":9.7173124687930894},null,null,"N",20]
["s2",{"$f":"_xlfn.VAR.S(B3:B22)","v":175.46315789473701},{"$f":"_xlfn.VAR.S(C3:C22)","v":36.93684210526331},50.778947368421207,108.79999999999984,96.934210526315795,{"$f":"_xlfn.VAR.S(B3:F22)","v":94.426161616161636},null,null,"SD",{"$f":"K25*SQRT(K26)","v":10.474254150057654}]
[null,null,null,null,null,null,null,null,null,"var",{"$f":"K27*K27","v":109.70999999999998}]

{"sheet":"F","index":1,"n_rows":361,"n_cols":15,"rows_kept":361,"cut":false,"hidden":false,"merged":[]}
["Tady lze shromažďovat F z různých náhodných instancí dat. Vyberte buňku, která bude první buňkou sloupce, do kterého se budou postupně kopírovat F z prvního listu, a mačkejte Ctrl+Shif+F."]
["Při každém stisknutí Ctrl+Shif+F se do aktivní buňky zkopíruje F z vedlejšího listu a kurzor se posune o buňku dolů. "]
["F (d=0)","F(d=1)","F(d=5)"]
[0.70608805943105635,2.6357269742857383,20.649620479667519,null,null,null,null,null,null,null,null,"Následující tabulka četností počítá jen s F v prvním sloupci. Ukazuje, že F získaná opakovaným taháním náhodných vzorků z populace, kde nejsou žádné rozdíly mezi skupinami, mají rozložení shodné s teoretickým rozložením popsaným funkcí F.DIST."]
[9.5941975762027495E-2,2.7257938601686234,8.2524691230213296,null,null,null,null,null,null,null,null,"F","četnost","cum %","F.DIST"]
[0.22426024552240295,2.7705024664178675,8.7090717731034246,null,null,null,null,null,null,null,null,0,{"$f":"FREQUENCY(A4:A1800,L6:L28)","v":0}]
[0.62835777052786823,0.92749155618289136,9.7029278388761213,null,null,null,null,null,null,null,null,0.2,16,{"$f":"SUM($M$6:M7)/SUM($M$6:$M$28)","v":4.4817927170868348E-2},{"$f":"_xlfn.F.DIST(L7,4,95,1)","v":6.2221710127285619E-2}]
[0.9955289589840518,1.0596492362053722,16.152741007308293,null,null,null,null,null,null,null,null,0.4,42,{"$f":"SUM($M$6:M8)/SUM($M$6:$M$28)","v":0.16246498599439776},{"$f":"_xlfn.F.DIST(L8,4,95,1)","v":0.19179522601568283}]
[0.84741461371511217,0.25198413707196798,8.1877966833857325,null,null,null,null,null,null,null,null,0.6,64,{"$f":"SUM($M$6:M9)/SUM($M$6:$M$28)","v":0.34173669467787116},0.33646043217878679]
[1.8390884216093171,0.1529821794268412,19.846717383592271,null,null,null,null,null,null,null,null,0.8,46,{"$f":"SUM($M$6:M10)/SUM($M$6:$M$28)","v":0.47058823529411764},0.4718571570224947]
[7.5234142125593206E-2,1.991422228039305,12.408330690605707,null,null,null,null,null,null,null,null,1,47,{"$f":"SUM($M$6:M11)/SUM($M$6:$M$28)","v":0.60224089635854339},0.58841251959795093]
[1.3707737101069806,0.59158795832592226,13.456614748113896,null,null,null,null,null,null,null,null,1.2,25,{"$f":"SUM($M$6:M12)/SUM($M$6:$M$28)","v":0.67226890756302526},0.68402774616168194]
[0.21738094376274369,5.173702573793074,23.393989909034762,null,null,null,null,null,null,null,null,1.4,28,{"$f":"SUM($M$6:M13)/SUM($M$6:$M$28)","v":0.75070028011204482},0.76008265489463933]
[0.73356398403629008,0.35420477919221999,9.9564714151043336,null,null,null,null,null,null,null,null,1.6,27,{"$f":"SUM($M$6:M14)/SUM($M$6:$M$28)","v":0.8263305322128851},0.81931829579637538]
[7.2637316212565875E-2,3.407921755657124,7.6174674668630962,null,null,null,null,null,null,null,null,1.8,15,{"$f":"SUM($M$6:M15)/SUM($M$6:$M$28)","v":0.86834733893557425},0.86476741205748409]
[0.66762414041159723,0.31210653296641111,12.783592952113706,null,null,null,null,null,null,null,null,2,12,{"$f":"SUM($M$6:M16)/SUM($M$6:$M$28)","v":0.90196078431372551},0.89925743974039851]
[0.29166445728829749,2.1408201389353394,17.574690841469074,null,null,null,null,null,null,null,null,2.2000000000000002,11,{"$f":"SUM($M$6:M17)/SUM($M$6:$M$28)","v":0.9327731092436975},0.92521686271354731]
[1.4202241448979114,2.2775306504259216,15.485581600348302,null,null,null,null,null,null,null,null,2.4,4,{"$f":"SUM($M$6:M18)/SUM($M$6:$M$28)","v":0.94397759103641454},0.9446347016098855]
[0.83965702493030359,1.1970777773274424,11.639556423927115,null,null,null,null,null,null,null,null,2.6,5,{"$f":"SUM($M$6:M19)/SUM($M$6:$M$28)","v":0.95798319327731096},0.95909104721113181]
[1.1652807794098961,2.0157402760351291,22.09558763152647,null,null,null,null,null,null,null,null,2.8,3,{"$f":"SUM($M$6:M20)/SUM($M$6:$M$28)","v":0.96638655462184875},0.96981515230034498]
[0.30687223993588925,1.4723346576052954,13.66118764845606,null,null,null,null,null,null,null,null,3,3,{"$f":"SUM($M$6:M21)/SUM($M$6:$M$28)","v":0.97478991596638653},0.97774914507393051]
[0.88126002937594394,0.51387566703639376,11.903161269738325,null,null,null,null,null,null,null,null,3.2,3,{"$f":"SUM($M$6:M22)/SUM($M$6:$M$28)","v":0.98319327731092432},0.98360720363482801]
[2.1382333581778923,1.2662438303249959,9.4635397570696931,null,null,null,null,null,null,null,null,3.4,1,{"$f":"SUM($M$6:M23)/SUM($M$6:$M$28)","v":0.98599439775910369},0.98792626811924822]
[0.77008657839284944,3.2008133649935768,16.780420903418797,null,null,null,null,null,null,null,null,3.6,1,{"$f":"SUM($M$6:M24)/SUM($M$6:$M$28)","v":0.98879551820728295},0.99110751112597462]
[0.67857142857142949,2.3379676016442894,20.419110788421492,null,null,null,null,null,null,null,null,3.8,2,{"$f":"SUM($M$6:M25)/SUM($M$6:$M$28)","v":0.99439775910364148},0.99344924090240849]
[0.37102447145317963,2.1555810865762877,14.81251843254404,null,null,null,null,null,null,null,null,4,0,{"$f":"SUM($M$6:M26)/SUM($M$6:$M$28)","v":0.99439775910364148},0.99517247051406332]
[0.91876512705578672,2.373507212119585,14.241436030170854,null,null,null,null,null,null,null,null,4.2,0,{"$f":"SUM($M$6:M27)/SUM($M$6:$M$28)","v":0.99439775910364148},0.99644049414599345]
[3.1079094571486534,0.56353127043448781,11.815908926598008,null,null,null,null,null,null,null,null,4.4000000000000004,2,{"$f":"SUM($M$6:M28)/SUM($M$6:$M$28)","v":1},0.99737371150269272]
[0.98093392038513016,0.9095869080882798,13.937350375608814]
[0.85479593602703852,1.6210339767334538,6.2373373863552395]
[0.32987301570934352,2.9546545745532149,14.977703583882324]
[0.42435769386063693,0.27109471094710902,17.811597489519244]
[5.4561114262752328,2.3179055593036613,15.678265026616364]
[0.72231574193349635,2.5592243186582815,16.150209198279153]
[1.1923068097331717,0.77260793972761443,5.5781424620792057]
[1.3336927823901763,0.30192996575612724,14.758852436944601]
[0.74833039029249226,1.1183565783693235,8.8889196292709922]
[1.1964609899604106,1.5271483772135401,12.008931207558303]
[0.48070846766960895,0.29832286951333609,13.482556060683462]
[0.96540618369202758,1.3211569040354112,16.851303605168802]
[0.82049237188153479,2.2271444252783432,11.315917393874772]
[1.586486601008481,2.8125753167464516,8.8789566660421233]
[1.7019131611019609,1.1024932605946007,11.959043284711447]
[2.5772663803777962,0.83254344753130127,17.696003742314897]
[2.0103024597484715,1.6672375008204512,16.43046442076534]
[0.58439314348908078,1.4771781462624178,14.838840104267327]
[1.2962142871423705,1.6802891291647921,25.570949596830047]
[0.52884721659359712,0.5382085326895758,8.7791082819313644]
[1.5222404226921251,1.0133458275794047,9.1104706674988538]
[0.61284255094477547,2.3509970114457892,13.724528792716088]
[0.50266429313158334,1.35863061252455,15.049035317021945]
[0.85567271979540294,4.7659354988796778,12.185869686459263]
[3.6527875014809972,1.3018353465462627,12.468940316686966]
[0.56144402290454087,0.90353879325096675,11.436269570800608]
[0.67947438456420495,1.8484264763632898,16.963689724847267]
[1.5505180256997433,1.272326318823868]
[1.3308833864951084,3.0945211988677599]
[1.5396711076267717,5.0199888388582847]
[2.1403459741859692,0.67419860124486319]
[0.46682803306769916,1.0890238711339615]
[1.4656300385192622,1.9464026223384725]
[0.6193169894114271,1.2942790616280537]
[0.24299842661272153]
[0.94330051442782792]
[0.5613148207194405]
[0.5704617519539259]
[0.46083343156901907]
[0.85013117905291113]
[0.425929873174892]
[1.0233786228775128]
[0.48221740670942465]
[4.2301874875340673]
[0.89064054599724118]
[1.1303369296910992]
[0.39146896600252301]
[0.5633241181330213]
[7.489128088085642E-2]
[0.79790567668484691]
[0.68416699228165578]
[4.2512578270899688]
[1.622103952540221]
[0.93381338109164935]
[0.41582538449891743]
[0.83344793651194227]
[1.901775274022754]
[0.82169337336861081]
[3.0915811262972825]
[0.56883396914911077]
[1.2778956343105745]
[2.0958655500311925]
[0.37588613256639319]
[0.28912330958342636]
[1.0798340803648647]
[0.64460614585587439]
[0.64976014976014984]
[0.16909080186782602]
[0.71237172674530003]
[0.12905019883580215]
[0.59136375368051763]
[0.45823185361569635]
[0.63038256576763574]
[0.67292965758669887]
[0.28463282510119081]
[1.071764734992823]
[0.45959100019135712]
[1.3485452426753453]
[0.34921851341412807]
[0.49172955354640407]
[0.93728769025768233]
[1.829332161808761]
[0.29393908211566133]
[0.53366612102149158]
[0.80210581772426404]
[0.54231056165405545]
[1.3660436846946129]
[0.90203624790981174]
[2.4505430566330491]
[0.43544101898056375]
[2.0762127933262082]
[0.34904341154341217]
[2.6656260828476936]
[0.57109092166855102]
[2.8788235051461348]
[0.29758629485556021]
[1.0614734680985476]
[0.33079675016722559]
[0.31005276236138973]
[1.0907910050137617]
[0.79739381986683289]
[0.20806906336951078]
[0.46535366203440792]
[1.825451943965128]
[0.45424116011124344]
[1.4116517957955417]
[0.45807932991607814]
[0.5098858941569947]
[0.55907929011368906]
[0.74133341111211248]
[2.1349069677097647]
[1.6219115404168745]
[0.59242918931237998]
[0.32969511617379282]
[0.71941830865876721]
[0.48390073045561216]
[0.27285487704149586]
[1.608129333003633]
[1.515204643607116]
[0.94342045878767311]
[1.2477864597744412]
[0.4097677172170745]
[1.422070985806076]
[1.340681586464328]
[1.2545626415588802]
[0.44919005149419261]
[0.66443002463547784]
[1.8690954990102988]
[2.7757605550093594]
[0.74133139534883719]
[0.67258771658224392]
[1.8134205539743811]
[1.3103209209830156]
[1.6115885575167352]
[1.4491609771429583]
[0.93200055837799756]
[0.45030728147836313]
[0.66374387609966734]
[0.63559088307227973]
[0.51546811534823511]
[0.5368347788842488]
[0.89129147066875614]
[0.49243336061496024]
[1.7578134280808237]
[0.98106332643318939]
[1.1328074389088423]
[2.0097521932988434]
[1.6352495051032232]
[0.37208990189857949]
[1.9086347486584336]
[1.0853386431678242]
[0.39899385131358306]
[2.2226683387608999]
[0.83824058584009431]
[1.2503018135492612]
[1.2614165975868121]
[0.34002909479559429]
[1.5194248234106964]
[2.0168761867347613]
[1.2866916285304866]
[0.66260308963193415]
[0.69180851398546406]
[1.7489707181194389]
[1.2640122497316899]
[1.7687280739903153]
[2.6139596736512973]
[0.49893085466169262]
[0.2211464394199977]
[0.95799845760648616]
[0.51039071638679201]
[1.5528026663941195]
[0.51764275141557115]
[0.18302483948962636]
[2.9120868552654846]
[1.2080471165875899]
[2.2502763957987839]
[1.1825377606073255]
[0.67389557341384265]
[1.6440737240580292]
[0.92585867080125139]
[0.62120322781126414]
[0.94792440373029629]
[1.249015029913908]
[1.7239939610616328]
[8.3687151851650585E-2]
[0.13165242931309112]
[0.72539492293309615]
[0.95813250532746774]
[1.5061030024776034]
[0.64261088467993266]
[0.36860848902873244]
[1.115044718639945]
[0.72918747918747873]
[0.32087985412460346]
[1.1395129468014626]
[2.1433587419722708]
[1.2669186118632401]
[0.10446062706347892]
[1.4521926621617876]
[1.9917327662762077]
[0.25596280211909761]
[0.49736442813194698]
[0.80017643865363686]
[3.6378033212770009]
[0.98579587283881676]
[0.74137475796514718]
[0.56776791379790847]
[1.54621800875883]
[0.62116588704051601]
[0.57965563356736849]
[0.27943950752122387]
[0.58067242589099388]
[0.10910312712104345]
[1.4934795653757977]
[0.82976501305483052]
[0.43549455384035274]
[0.59823356716396958]
[1.4043009545899485]
[0.43171373915720229]
[0.89417206025545448]
[0.18357414812100678]
[3.1828153044072849]
[0.48571066051187861]
[0.37739488779693658]
[0.83208329095901568]
[1.0204300324761979]
[0.38629523657101889]
[1.957874491646094]
[1.1125427756896364]
[0.48001432284759293]
[0.50050723657513818]
[1.8945028416845078]
[0.70026679070563136]
[0.58410980921987299]
[1.5701267906967575]
[0.44795293134660874]
[0.82600518240312049]
[0.1165178673888595]
[1.2337428259735335]
[1.0382868605272442]
[0.51243930680211669]
[1.7325917931204822]
[1.2899132045593744]
[0.76011848431969831]
[0.67956326005612766]
[1.4797965777334128]
[3.2232435454421111]
[1.9535195482795051]
[1.5064595801272913]
[1.6773796344411549]
[0.9127984241628353]
[0.99404277503687355]
[0.42196752131691218]
[2.4549985243592096]
[0.2867608426496584]
[0.86641399158242505]
[0.59733486301587146]
[2.1044738984891005]
[0.53523488586673129]
[1.3905534988622608]
[0.91736981164237641]
[2.9391858671713451]
[1.5675251271249042]
[0.54431216174468211]
[0.63743487364269324]
[0.63230598897986556]
[1.5588528438584603]
[1.7293245244678537]
[0.69927063915214172]
[1.0967163968730691]
[0.98785012948271123]
[1.0113332906686516]
[0.74334204467674692]
[2.4144210466514555]
[0.27940783082489717]
[0.53512904547316564]
[0.32772253603968549]
[0.56767795623786688]
[1.1531744841329379]
[0.96322759267261859]
[1.1395781089470958]
[1.2471661899509583]
[1.6179534295447338]
[1.4913318596432739]
[0.12783930322431833]
[0.4126171299781724]
[1.1441860257006833]
[1.0909973758704032]
[0.65322900158478714]
[0.89854426344627536]
[1.3425346892700523]
[0.62293377719926624]
[0.33558346035663356]
[0.45380152625583409]
[0.30085768011507891]
[2.5946770042500176]
[0.2417934201574499]
[1.4149023239785485]
[1.4937390598007014]
[0.30350045857535857]
[3.5657958892806234]
[1.0547098027146637]
[0.50311221415205065]
[0.83065721613944121]
[2.1355825494407834]
[0.30499751803077646]
[2.3669292554834738]
[0.39303119586951352]
[1.3478654061737965]
[0.85180966911824052]
[0.88391006578354636]
[2.3084012789768207]
[0.36705844722618386]
[0.24156678885847835]
[1.2066914599797649]
[1.2927492762317112]
[1.3208010895250457]
[0.30345501955671411]
[0.15357855148441488]
[0.58852915559451202]
[1.4701666104139171]
[0.43807335367969574]
[0.76334858162422747]
[0.1023296845362358]
[1.0437274174247426]
[0.85215413708856669]
[0.80343497383228102]
[0.87548660775201326]
[1.4651797658429349]
[0.60310989970110329]
[1.8908682749064427]
[0.53347783359356604]
[1.3596925975893934]

{"sheet":"kopie aktuálních dat pro SPSS","index":2,"n_rows":100,"n_cols":2,"rows_kept":100,"cut":false,"hidden":false,"merged":[]}
[{"$f":"ANOVA!B3","v":33},1]
[{"$f":"ANOVA!B4","v":44},1]
[{"$f":"ANOVA!B5","v":31},1]
[{"$f":"ANOVA!B6","v":47},1]
[{"$f":"ANOVA!B7","v":59},1]
[{"$f":"ANOVA!B8","v":42},1]
[{"$f":"ANOVA!B9","v":55},1]
[{"$f":"ANOVA!B10","v":76},1]
[{"$f":"ANOVA!B11","v":51},1]
[{"$f":"ANOVA!B12","v":36},1]
[{"$f":"ANOVA!B13","v":45},1]
[{"$f":"ANOVA!B14","v":61},1]
[{"$f":"ANOVA!B15","v":41},1]
[{"$f":"ANOVA!B16","v":64},1]
[{"$f":"ANOVA!B17","v":19},1]
[{"$f":"ANOVA!B18","v":43},1]
[{"$f":"ANOVA!B19","v":42},1]
[{"$f":"ANOVA!B20","v":63},1]
[{"$f":"ANOVA!B21","v":53},1]
[{"$f":"ANOVA!B22","v":53},1]
[{"$f":"ANOVA!C3","v":49},2]
[{"$f":"ANOVA!C4","v":51},2]
[{"$f":"ANOVA!C5","v":58},2]
[{"$f":"ANOVA!C6","v":45},2]
[{"$f":"ANOVA!C7","v":42},2]
[{"$f":"ANOVA!C8","v":58},2]
[{"$f":"ANOVA!C9","v":59},2]
[{"$f":"ANOVA!C10","v":51},2]
[{"$f":"ANOVA!C11","v":53},2]
[{"$f":"ANOVA!C12","v":50},2]
[{"$f":"ANOVA!C13","v":44},2]
[{"$f":"ANOVA!C14","v":50},2]
[{"$f":"ANOVA!C15","v":66},2]
[{"$f":"ANOVA!C16","v":58},2]
[{"$f":"ANOVA!C17","v":55},2]
[{"$f":"ANOVA!C18","v":47},2]
[{"$f":"ANOVA!C19","v":54},2]
[{"$f":"ANOVA!C20","v":45},2]
[{"$f":"ANOVA!C21","v":57},2]
[{"$f":"ANOVA!C22","v":50},2]
[{"$f":"ANOVA!D3","v":53},3]
[{"$f":"ANOVA!D4","v":60},3]
[{"$f":"ANOVA!D5","v":37},3]
[{"$f":"ANOVA!D6","v":62},3]
[{"$f":"ANOVA!D7","v":61},3]
[{"$f":"ANOVA!D8","v":46},3]
[{"$f":"ANOVA!D9","v":45},3]
[{"$f":"ANOVA!D10","v":59},3]
[{"$f":"ANOVA!D11","v":47},3]
[{"$f":"ANOVA!D12","v":46},3]
[{"$f":"ANOVA!D13","v":46},3]
[{"$f":"ANOVA!D14","v":56},3]
[{"$f":"ANOVA!D15","v":55},3]
[{"$f":"ANOVA!D16","v":49},3]
[{"$f":"ANOVA!D17","v":45},3]
[{"$f":"ANOVA!D18","v":52},3]
[{"$f":"ANOVA!D19","v":40},3]
[{"$f":"ANOVA!D20","v":57},3]
[{"$f":"ANOVA!D21","v":45},3]
[{"$f":"ANOVA!D22","v":51},3]
[{"$f":"ANOVA!E3","v":39},4]
[{"$f":"ANOVA!E4","v":67},4]
[{"$f":"ANOVA!E5","v":55},4]
[{"$f":"ANOVA!E6","v":31},4]
[{"$f":"ANOVA!E7","v":50},4]
[{"$f":"ANOVA!E8","v":48},4]
[{"$f":"ANOVA!E9","v":54},4]
[{"$f":"ANOVA!E10","v":39},4]
[{"$f":"ANOVA!E11","v":36},4]
[{"$f":"ANOVA!E12","v":55},4]
[{"$f":"ANOVA!E13","v":44},4]
[{"$f":"ANOVA!E14","v":41},4]
[{"$f":"ANOVA!E15","v":34},4]
[{"$f":"ANOVA!E16","v":35},4]
[{"$f":"ANOVA!E17","v":45},4]
[{"$f":"ANOVA!E18","v":48},4]
[{"$f":"ANOVA!E19","v":37},4]
[{"$f":"ANOVA!E20","v":57},4]
[{"$f":"ANOVA!E21","v":42},4]
[{"$f":"ANOVA!E22","v":67},4]
[{"$f":"ANOVA!F3","v":36},5]
[{"$f":"ANOVA!F4","v":49},5]
[{"$f":"ANOVA!F5","v":63},5]
[{"$f":"ANOVA!F6","v":57},5]
[{"$f":"ANOVA!F7","v":48},5]
[{"$f":"ANOVA!F8","v":33},5]
[{"$f":"ANOVA!F9","v":41},5]
[{"$f":"ANOVA!F10","v":41},5]
[{"$f":"ANOVA!F11","v":53},5]
[{"$f":"ANOVA!F12","v":63},5]
[{"$f":"ANOVA!F13","v":42},5]
[{"$f":"ANOVA!F14","v":66},5]
[{"$f":"ANOVA!F15","v":61},5]
[{"$f":"ANOVA!F16","v":49},5]
[{"$f":"ANOVA!F17","v":60},5]
[{"$f":"ANOVA!F18","v":40},5]
[{"$f":"ANOVA!F19","v":42},5]
[{"$f":"ANOVA!F20","v":56},5]
[{"$f":"ANOVA!F21","v":48},5]
[{"$f":"ANOVA!F22","v":57},5]