0.0359281435
0.0000000000
0.0000000000
-0.0359281437
-179.9820349282
89.9820359281
