{"text_format":"1","workbook":"xlsx","n_sheets":3,"sheets":["Europe Map","Data","Control"],"not_rendered":{"charts":0,"images":1,"macros":1,"external_links":0,"defined_names":39,"comments":0,"pivot_tables":0},"unopened":[],"bounds":{"document_bytes":16777216,"sheet_cells":100000,"rows_first":2000,"rows_last":500,"rows_between":2000,"halvings":0,"cell_chars":16384,"cell_head_chars":4096},"cells_cut":0,"cells_raw":0,"read":"whole","date_system":"1900"}

{"sheet":"Europe Map","index":0,"n_rows":42,"n_cols":3,"rows_kept":42,"cut":false,"hidden":false,"merged":[]}
[]
[null,"Choropleth Map of Europe"]
[]
[]
[]
[]
[]
[]
[]
[]
[]
[]
[]
[]
[]
[]
[]
[]
[]
[]
[]
[]
[]
[]
[]
[]
[]
[]
[]
[]
[]
[]
[]
[]
[]
[]
[]
[]
[]
[]
[]
[null,"source:","CIA World Fact Book (https://www.cia.gov/library/publications/the-world-factbook/index.html)"]

{"sheet":"Data","index":1,"n_rows":41,"n_cols":11,"rows_kept":41,"cut":false,"hidden":false,"merged":[]}
[]
[null,"Data",null,null,"all data 2009 (estimated)"]
[]
[null,"No.","Country","Abbreviation","Odpovědí","Průměrné hodnocení","Průměrný věk","Poměr muž/žena","Průměrné vzdělání",null,"Selection"]
[null,1,"Albanian","ALB",18,1.8888888888888888,2.2777777777777777,1.2777777777777777,3.4444444444444446,null,{"$f":"INDEX(E5:I5,1,Control!$D$10)","v":1.8888888888888888}]
[null,{"$f":"B5+1","v":2},"Austrian","AUT",754,2.2811671087533156,2.816976127320955,1.4018567639257293,3.3567639257294428,null,{"$f":"INDEX(E6:I6,1,Control!$D$10)","v":2.2811671087533156}]
[null,{"$f":"B6+1","v":3},"Belarusian","BLR",106,1.7547169811320755,2.2169811320754715,1.5471698113207548,3.5283018867924527,null,{"$f":"INDEX(E7:I7,1,Control!$D$10)","v":1.7547169811320755}]
[null,4,"Belgian","BEL",570,2.1245614035087721,2.4228070175438599,1.4859649122807017,3.3350877192982455,null,{"$f":"INDEX(E8:I8,1,Control!$D$10)","v":2.1245614035087721}]
[null,5,"Bosnian and Herzegovinian","BIH",18,2,2.2777777777777777,1.3888888888888888,3.2222222222222223,null,{"$f":"INDEX(E9:I9,1,Control!$D$10)","v":2}]
[null,6,"Bulgarian","BGR",35,2.0571428571428569,2.3142857142857145,1.5714285714285714,3.5714285714285716,null,{"$f":"INDEX(E10:I10,1,Control!$D$10)","v":2.0571428571428569}]
[null,7,"Croatian","HRV",201,1.6766169154228856,2.0845771144278609,1.4527363184079602,2.8159203980099501,null,{"$f":"INDEX(E11:I11,1,Control!$D$10)","v":1.6766169154228856}]
[null,8,"Czech","CZE",3866,2.2470253491981378,2.3673047077082257,1.3448008277289187,2.6947749612002068,null,{"$f":"INDEX(E12:I12,1,Control!$D$10)","v":2.2470253491981378}]
[null,9,"Danish","DNK",1503,1.8623005877413938,3.7890884896872921,1.4457751164337991,3.5020990764063811,null,{"$f":"INDEX(E13:I13,1,Control!$D$10)","v":1.8623005877413938}]
[null,10,"Estonian","EST",14,1.6428571428571428,2.7857142857142856,1.7142857142857142,3.8571428571428572,null,{"$f":"INDEX(E14:I14,1,Control!$D$10)","v":1.6428571428571428}]
[null,11,"Finnish","FIN",1615,2.425650557620818,2.7318885448916408,1.6674922600619195,3.2422552664188351,null,{"$f":"INDEX(E15:I15,1,Control!$D$10)","v":2.425650557620818}]
[null,12,"French","FRA",1183,2.2071005917159763,2.4091293322062555,1.4987320371935757,3.8123415046491971,null,{"$f":"INDEX(E16:I16,1,Control!$D$10)","v":2.2071005917159763}]
[null,13,"German","DEU",3674,1.8148652327797441,2.7945019052803484,1.5538922155688624,2.9205009528995372,null,{"$f":"INDEX(E17:I17,1,Control!$D$10)","v":1.8148652327797441}]
[null,14,"Greek","GRC",673,1.9940564635958395,2.362555720653789,1.4264487369985142,3.3209509658246659,null,{"$f":"INDEX(E18:I18,1,Control!$D$10)","v":1.9940564635958395}]
[null,15,"Hungarian","HUN",239,2.1548117154811717,2.4016736401673642,1.5774058577405858,2.7949790794979079,null,{"$f":"INDEX(E19:I19,1,Control!$D$10)","v":2.1548117154811717}]
[null,16,"Irish","IRL",259,2.4208494208494207,2.810810810810811,1.332046332046332,3.6293436293436292,null,{"$f":"INDEX(E20:I20,1,Control!$D$10)","v":2.4208494208494207}]
[null,17,"Italian","ITA",390,2.2743589743589743,2.5743589743589745,1.4692307692307693,3.0205128205128204,null,{"$f":"INDEX(E21:I21,1,Control!$D$10)","v":2.2743589743589743}]
[null,18,"Latvian","LVA",15,2.2000000000000002,2.6666666666666665,1.8,3.6666666666666665,null,{"$f":"INDEX(E22:I22,1,Control!$D$10)","v":2.2000000000000002}]
[null,19,"Lithuanian","LTU",7,2.2857142857142856,2.1428571428571428,1.7142857142857142,3.7142857142857144,null,{"$f":"INDEX(E23:I23,1,Control!$D$10)","v":2.2857142857142856}]
[null,20,"Luxembourger","LUX",22,1.5909090909090908,2.5,1.5454545454545454,2.6818181818181817,null,{"$f":"INDEX(E24:I24,1,Control!$D$10)","v":1.5909090909090908}]
[null,21,"Macedonian","MKD",11,2,2.1818181818181817,1.4545454545454546,3.2727272727272729,null,{"$f":"INDEX(E25:I25,1,Control!$D$10)","v":2}]
[null,22,"Maltese","MLT",9,1.8888888888888888,2.3333333333333335,1.4444444444444444,4,null,{"$f":"INDEX(E26:I26,1,Control!$D$10)","v":1.8888888888888888}]
[null,23,"Moldovan","MDA",7,2.1428571428571428,2.2857142857142856,1.2857142857142858,3.7142857142857144,null,{"$f":"INDEX(E27:I27,1,Control!$D$10)","v":2.1428571428571428}]
[null,24,"Dutch","NLD",504,1.8511904761904763,2.8333333333333335,1.5436507936507937,3.1031746031746033,null,{"$f":"INDEX(E28:I28,1,Control!$D$10)","v":1.8511904761904763}]
[null,25,"Norwegian","NOR",67,2.283582089552239,2.4925373134328357,1.3731343283582089,3.3731343283582089,null,{"$f":"INDEX(E29:I29,1,Control!$D$10)","v":2.283582089552239}]
[null,26,"Polish","POL",499,2.256513026052104,2.4869739478957915,1.5891783567134268,3.2665330661322645,null,{"$f":"INDEX(E30:I30,1,Control!$D$10)","v":2.256513026052104}]
[null,27,"Portuguese","PRT",909,1.9251925192519252,2.7161716171617161,1.506050605060506,3.6369636963696368,null,{"$f":"INDEX(E31:I31,1,Control!$D$10)","v":1.9251925192519252}]
[null,28,"Romanian","ROM",38,1.7105263157894737,2.4736842105263159,1.736842105263158,3.263157894736842,null,{"$f":"INDEX(E32:I32,1,Control!$D$10)","v":1.7105263157894737}]
[null,29,"Russian","RUS",1914,1.8631138975966561,2.3897596656217348,1.6363636363636365,3.3897596656217348,null,{"$f":"INDEX(E33:I33,1,Control!$D$10)","v":1.8631138975966561}]
[null,30,"Serbian","SR",53,2.1509433962264151,2.5660377358490565,1.4528301886792452,3.4716981132075473,null,{"$f":"INDEX(E34:I34,1,Control!$D$10)","v":2.1509433962264151}]
[null,31,"Slovakian","SVK",630,2.0253968253968253,2.2825396825396824,1.2666666666666666,2.7968253968253967,null,{"$f":"INDEX(E35:I35,1,Control!$D$10)","v":2.0253968253968253}]
[null,32,"Slovenian","SVN",115,2.3304347826086955,2.4608695652173913,1.5913043478260869,3.1043478260869564,null,{"$f":"INDEX(E36:I36,1,Control!$D$10)","v":2.3304347826086955}]
[null,33,"Spanish","ESP",1176,2.4736394557823131,2.6785714285714284,1.3367346938775511,3.5221088435374148,null,{"$f":"INDEX(E37:I37,1,Control!$D$10)","v":2.4736394557823131}]
[null,34,"Swedish","SWE",2074,1.9623915139826422,2.6036644165863065,1.4686595949855352,2.5564127290260368,null,{"$f":"INDEX(E38:I38,1,Control!$D$10)","v":1.9623915139826422}]
[null,35,"Swiss","CHE",906,1.9536423841059603,2.555187637969095,1.3896247240618103,2.9613686534216335,null,{"$f":"INDEX(E39:I39,1,Control!$D$10)","v":1.9536423841059603}]
[null,36,"Ukrainian","UKR",261,1.8160919540229885,2.3754789272030652,1.6091954022988506,3.6206896551724137,null,{"$f":"INDEX(E40:I40,1,Control!$D$10)","v":1.8160919540229885}]
[null,37,"British","GBR",1786,2.3510638297872339,3.0649496080627099,1.37010078387458,3.8617021276595747,null,{"$f":"INDEX(E41:I41,1,Control!$D$10)","v":2.3510638297872339}]

{"sheet":"Control","index":2,"n_rows":102,"n_cols":6,"rows_kept":102,"cut":false,"hidden":false,"merged":[]}
[]
[null,null,"Control"]
[]
[null,null,"List of metrics","Odpovědí"]
[null,null,null,"Průměrné hodnocení"]
[null,null,null,"Průměrný věk"]
[null,null,null,"Poměr muž/žena"]
[null,null,null,"Průměrné vzdělání"]
[]
[null,null,"Selection",2]
[]
[null,null,"Darkness",5,"the smaller the darker (max: 5,21)"]
[]
[null,null,"Steps","Threshold","RGB","Min / Max"]
[null,null,{"$f":"C16+$D$12","v":245},{"$f":"F16","v":1.5909090909090908},{"$f":"udf_RGB(C15,C15,C15)","v":16119285},{"$f":"MAX(Data!$K$5:$K$41)","v":2.4736394557823131}]
[null,null,240,{"$f":"D15+$F$17","v":1.6092993068439496},{"$f":"udf_RGB(C16,C16,C16)","v":15790320},{"$f":"MIN(Data!$K$5:$K$41)","v":1.5909090909090908}]
[null,null,235,1.6276895227788084,15461355,{"$f":"(F15-F16)/(COUNT($C$15:$C$64)-2)","v":1.8390215934858799E-2}]
[null,null,230,1.6460797387136672,15132390]
[null,null,225,1.664469954648526,14803425]
[null,null,220,1.6828601705833848,14474460]
[null,null,215,1.7012503865182436,14145495]
[null,null,210,1.7196406024531024,13816530]
[null,null,205,1.7380308183879611,13487565]
[null,null,200,1.7564210343228199,13158600]
[null,null,195,1.7748112502576787,12829635]
[null,null,190,1.7932014661925375,12500670]
[null,null,185,1.8115916821273963,12171705]
[null,null,180,1.8299818980622551,11842740]
[null,null,175,1.8483721139971139,11513775]
[null,null,170,1.8667623299319727,11184810]
[null,null,165,1.8851525458668315,10855845]
[null,null,160,1.9035427618016902,10526880]
[null,null,155,1.921932977736549,10197915]
[null,null,150,1.9403231936714078,9868950]
[null,null,145,1.9587134096062666,9539985]
[null,null,140,1.9771036255411254,9211020]
[null,null,135,1.9954938414759842,8882055]
[null,null,130,2.0138840574108432,8553090]
[null,null,125,2.0322742733457022,8224125]
[null,null,120,2.0506644892805612,7895160]
[null,null,115,2.0690547052154202,7566195]
[null,null,110,2.0874449211502792,7237230]
[null,null,105,2.1058351370851383,6908265]
[null,null,100,2.1242253530199973,6579300]
[null,null,95,2.1426155689548563,6250335]
[null,null,90,2.1610057848897153,5921370]
[null,null,85,2.1793960008245743,5592405]
[null,null,80,{"$f":"D47+$F$17","v":2.1977862167594333},5263440]
[null,null,75,2.2161764326942923,4934475]
[null,null,70,2.2345666486291513,4605510]
[null,null,65,2.2529568645640103,4276545]
[null,null,60,2.2713470804988694,3947580]
[null,null,55,2.2897372964337284,3618615]
[null,null,50,2.3081275123685874,3289650]
[null,null,45,2.3265177283034464,2960685]
[null,null,40,2.3449079442383054,2631720]
[null,null,35,2.3632981601731644,2302755]
[null,null,30,2.3816883761080234,1973790]
[null,null,25,2.4000785920428824,1644825]
[null,null,20,2.4184688079777414,1315860]
[null,null,15,2.4368590239126005,986895]
[null,null,10,2.4552492398474595,657930]
[null,null,{"$f":"C64+$D$12","v":5},2.4736394557823185,328965]
[null,null,0,2.4920296717171775,0]
[]
[null,null,"Name","Autoshape"]
[null,null,"D_ALB","S_ALB"]
[null,null,"D_AUT","S_AUT"]
[null,null,"D_BEL","S_BEL"]
[null,null,"D_BGR","S_BGR"]
[null,null,"D_BIH","S_BIH"]
[null,null,"D_BLR","S_BLR"]
[null,null,"D_CHE","S_CHE"]
[null,null,"D_CZE","S_CZE"]
[null,null,"D_DEU","S_DEU"]
[null,null,"D_DNK","S_DNK"]
[null,null,"D_ESP","S_ESP"]
[null,null,"D_EST","S_EST"]
[null,null,"D_FIN","S_FIN"]
[null,null,"D_FRA","S_FRA"]
[null,null,"D_GBR","S_GBR"]
[null,null,"D_GRC","S_GRC"]
[null,null,"D_HRV","S_HRV"]
[null,null,"D_HUN","S_HUN"]
[null,null,"D_IRL","S_IRL"]
[null,null,"D_ITA","S_ITA"]
[null,null,"D_LTU","S_LTU"]
[null,null,"D_LUX","S_LUX"]
[null,null,"D_LVA","S_LVA"]
[null,null,"D_MDA","S_MDA"]
[null,null,"D_MKD","S_MKD"]
[null,null,"D_NLD","S_NLD"]
[null,null,"D_NOR","S_NOR"]
[null,null,"D_POL","S_POL"]
[null,null,"D_PRT","S_PRT"]
[null,null,"D_ROM","S_ROM"]
[null,null,"D_RUS","S_RUS"]
[null,null,"D_SR","S_SR"]
[null,null,"D_SVK","S_SVK"]
[null,null,"D_SVN","S_SVN"]
[null,null,"D_SWE","S_SWE"]
[null,null,"D_UKR","S_UKR"]