{"text_format":"1","workbook":"xlsx","n_sheets":7,"sheets":["Info","Whole Rock Maker","WR Theriak converter","Phase Rock Maker","Phase Theriak converter","Mineral Maker","Mineral Data Set"],"not_rendered":{"charts":0,"images":0,"macros":1,"external_links":0,"defined_names":88,"comments":0,"pivot_tables":0},"unopened":[],"bounds":{"document_bytes":16777216,"sheet_cells":100000,"rows_first":2000,"rows_last":500,"rows_between":2000,"halvings":0,"cell_chars":16384,"cell_head_chars":4096},"cells_cut":0,"cells_raw":0,"read":"whole","date_system":"1900"}

{"sheet":"Info","index":0,"n_rows":43,"n_cols":3,"rows_kept":43,"cut":false,"hidden":false,"merged":[]}
["Rock Maker: software for the calculation of rock compositions using whole rock and mineral data"]
["Steffen Büttner "]
["Department of Geology, Rhodes University"]
["Grahamstown, South Africa"]
["E-mail: s.buettner@ru.ac.za"]
[]
[null,null,"This spreadsheet is an online resource forming part of a publication in Mineralogy and Petrology. Further descriptions and explanations are provided"]
[null,null,"therein. If Rock Maker is used for data processing in your own research please cite as follows: "]
[null,null,"Büttner SH (2012) Rock Maker: an MS ExcelTM spreadsheet for the calculation of rock compositions from proportional whole rock analyses, "]
[null,null,"mineral compositions, and modal abundance. Mineralogy and Petrology, Vol 104, Issue 1-2. DOI 10.1007/s00710-011-0181-7"]
[]
[]
[null,null,"Colour-coding of spreadsheet cells"]
[null,null,"Dark red cells contain content that should not be changed, such as mathematical formulas, basic parameters required for calculations, etc. "]
[null,null,"Light red cells in the worksheet “Mineral Data Set” can be overwritten if other mineral phases, densities or compositions are desired. "]
[null,null,"Green cells require or allow data input by the user. "]
[null,null,"Blue cells contain results, which can be copy/pasted to wherever the user chooses to store them.  "]
[null,null,"Orange cells contain user information or instructions."]
[]
[]
[]
[null,"Oxide molar masses used for mol%/wt% conversions:"]
[]
[null,null,"(g/mol)"]
[null,"SiO2",60.084800000000001]
[null,"TiO2",79.898799999999994]
[null,"Al2O3",101.96120000000001]
[null,"Cr2O3",151.99019999999999]
[null,"MgO",40.311399999999999]
[null,"CaO",56.0794]
[null,"MnO",70.9375]
[null,"FeO",71.846400000000003]
[null,"Fe2O3",159.69220000000001]
[null,"BaO",153.33940000000001]
[null,"Na2O",61.978999999999999]
[null,"K2O",94.203400000000002]
[null,"SO3",80.063999999999993]
[null,"O2",32]
[null,"H2O",18.015000000000001]
[null,"CO2",44.01]
[null,"B2O3",69.62]
[null,"P2O5",141.94]
[null,"Li2O",29.88]

{"sheet":"Whole Rock Maker","index":1,"n_rows":124,"n_cols":20,"rows_kept":124,"cut":false,"hidden":false,"merged":[[64,1,64,2],[65,1,65,2],[89,1,89,2]]}
["XRF/Mineral composition","Comp 1","Comp 2","Comp 3","Comp 4","Comp 5","Comp 6","Comp 7","Comp 8","Comp 9","Comp 10","Comp 11","Comp 12","Comp 13","Comp 14","Comp 15","Comp 16","Comp 17","Comp 18","Total"]
["Label","Granite","Gabbro","Migmatite","Pegmatite","Gabbro","Olivine","Chromite","Migmatite","Apatite","Phlogopite","Annite"]
["wt%",{"$f":"IF(B25>0,B4/($C$88/B25),0)","v":67.61363636363636},32.386363636363633,0,0,0,0,0,0,0,0,{"$f":"IF(L25>0,L4/($C$88/L25),0)","v":0},{"$f":"IF(M25>0,M4/($C$88/M25),0)","v":0},0,0,0,0,0,0,{"$f":"SUM(B3:S3)","v":100}]
["Mode/vol%",70,30,0,0,0,0,0,0,0,0,0,0,0,0,0,0,0,0,{"$f":"SUM(B4:S4)","v":100}]
["Wt%                                 SiO2",67.95,48.47,61.409603311858199,71.176998261186768,42.338951288678942,34.883820843391824,null,61.409603311858199,null,43.196858556687388,35.213440989085761,null,null,null,null,null,null,null,{"$f":"B5*$B$3+C5*$C$3+D5*$D$3+E5*$E$3+F5*$F$3+G5*$G$3+H5*$H$3+I5*$I$3+J5*$J$3+K5*$K$3+L5*$L$3+M5*$M$3+N5*$N$3+O5*$O$3+P5*$P$3+Q5*$Q$3+R5*$R$3+S5*$S$3","v":6164.113636363636}]
["Al2O3",13.63,18.100000000000001,19.609193394670445,12.641990341419,18.350601816681579,null,null,19.609193394670445,null,12.217187304914928,9.9592706180164559,null,null,null,null,null,null,null,{"$f":"B6*$B$3+C6*$C$3+D6*$D$3+E6*$E$3+F6*$F$3+G6*$G$3+H6*$H$3+I6*$I$3+J6*$J$3+K6*$K$3+L6*$L$3+M6*$M$3+N6*$N$3+O6*$O$3+P6*$P$3+Q6*$Q$3+R6*$R$3+S6*$S$3","v":1507.7670454545455}]
["Fe2O3",null,null,1.3794002382324155,null,1.3794002382324155,null,null,1.3794002382324155,null,null,null,null,null,null,null,null,null,null,0]
["Cr2O3",null,0.34,null,null,0.83706900480082003,null,67.902300160027451,null,null,null,null,null,null,null,null,null,null,null,11.011363636363637]
["TiO2",0.5,0,0.81503190301076678,null,null,null,null,0.81503190301076678,null,null,null,null,null,null,null,null,null,null,33.80681818181818]
["FeO",4.3099999999999996,5.67,6.3762598293294133,0.21423693934052473,13.388831439500274,41.712329005716363,32.097699839972556,6.3762598293294133,null,null,42.106472297124249,null,null,null,null,null,null,null,475.0454545454545]
["MgO",1.29,9.5299999999999994,2.0466532565614175,0.12020353081757236,8.3903671752397493,23.403850150891824,null,2.0466532565614175,null,28.98113739285224,null,null,null,null,null,null,null,null,395.86363636363626]
["MnO",1,0,0.62878427358377098,2.1494991900459794,null,null,null,0.62878427358377098,null,null,null,null,null,null,null,null,null,null,67.61363636363636]
["CaO",3.68,11.46,2.9063095004241983,1.65861052481666,8.1817748307530849,null,null,2.9063095004241983,55.821004569846188,null,null,null,null,null,null,null,null,null,619.96590909090901]
["Na2O",1.94,1.28,1.5228324691222257,1.8533630161080741,3.1663829681965212,null,null,1.5228324691222257,null,null,null,null,null,null,null,null,null,null,172.625]
["K2O",4.47,1.67,2.8768355017502181,6.5304694788691773,3.9666212379166121,null,null,2.8768355017502181,null,11.287632771680041,9.201511493953106,null,null,null,null,null,null,null,356.31818181818176]
["BaO",0.14000000000000001,1.03,null,null,null,null,null,null,null,null,null,null,null,null,null,null,null,null,42.823863636363633]
["H2O",0.67,2.02,8.9096321456956076E-2,2.6,null,null,null,8.9096321456956076E-2,1.7931992805304247,4.3171839738654008,3.5193046018204268,null,null,null,null,null,null,null,110.72159090909091]
["CO2",null,null,null,null,null,null,null,null,null,null,null,null,null,null,null,null,null,null,0]
["SO3",null,null,null,null,null,null,null,null,null,null,null,null,null,null,null,null,null,null,0]
["O2",null,null,null,null,null,null,null,null,null,null,null,null,null,null,null,null,null,null,0]
["Li2O",null,null,null,null,null,null,null,null,null,null,null,null,null,null,null,null,null,null,0]
["B2O3",null,null,null,null,null,null,null,null,null,null,null,null,null,null,null,null,null,null,0]
["P2O5",0.42,0.43,0.34,0.84771592299246812,null,null,null,0.34,42.385796149623395,null,null,null,null,null,null,null,null,null,42.323863636363633]
["Total",{"$f":"SUM(B5:B23)","v":100.00000000000001},{"$f":"SUM(C5:C23)","v":100},100.00000000000003,99.793087205596223,99.999999999999986,100.00000000000001,100,100.00000000000003,100,100,{"$f":"SUM(L5:L23)","v":100},{"$f":"SUM(M5:M23)","v":0},0,0,0,0,0,0,{"$f":"SUM(T5:T23)","v":10000}]
["ρ",2.72,3.04,3.0059099999999996,2.7308899999999996,3.1670999999999996,3.75,5.09,3.0059099999999996,3.2,2.79,3.36]
["         ppm                            As",null,null,null,null,null,null,null,null,null,null,null,null,null,null,null,null,null,null,{"$f":"B26*$B$3+C26*$C$3+D26*$D$3+E26*$E$3+F26*$F$3+G26*$G$3+H26*$H$3+I26*$I$3+J26*$J$3+K26*$K$3+L26*$L$3+M26*$M$3+N26*$N$3+O26*$O$3+P26*$P$3+Q26*$Q$3+R26*$R$3+S26*$S$3","v":0}]
["B",233,45,null,null,null,null,null,null,null,null,null,null,null,null,null,null,null,null,{"$f":"B27*$B$3+C27*$C$3+D27*$D$3+E27*$E$3+F27*$F$3+G27*$G$3+H27*$H$3+I27*$I$3+J27*$J$3+K27*$K$3+L27*$L$3+M27*$M$3+N27*$N$3+O27*$O$3+P27*$P$3+Q27*$Q$3+R27*$R$3+S27*$S$3","v":17211.363636363636}]
["Ba",3455,699,null,null,null,null,null,null,null,null,null,null,null,null,null,null,null,null,{"$f":"B28*$B$3+C28*$C$3+D28*$D$3+E28*$E$3+F28*$F$3+G28*$G$3+H28*$H$3+I28*$I$3+J28*$J$3+K28*$K$3+L28*$L$3+M28*$M$3+N28*$N$3+O28*$O$3+P28*$P$3+Q28*$Q$3+R28*$R$3+S28*$S$3","v":256243.18181818179}]
["Bi",100,0,null,null,null,null,null,null,null,null,null,null,null,null,null,null,null,null,{"$f":"B29*$B$3+C29*$C$3+D29*$D$3+E29*$E$3+F29*$F$3+G29*$G$3+H29*$H$3+I29*$I$3+J29*$J$3+K29*$K$3+L29*$L$3+M29*$M$3+N29*$N$3+O29*$O$3+P29*$P$3+Q29*$Q$3+R29*$R$3+S29*$S$3","v":6761.363636363636}]
["Ce",23,13,null,null,null,null,null,null,null,null,null,null,null,null,null,null,null,null,1976.1363636363635]
["Co",45,554,null,null,null,null,null,null,null,null,null,null,null,null,null,null,null,null,20984.659090909088]
["Cr",null,null,null,null,null,null,null,null,null,null,null,null,null,null,null,null,null,null,0]
["Cs",null,null,null,null,null,null,null,null,null,null,null,null,null,null,null,null,null,null,0]
["Cu",3477,333,null,null,null,null,null,null,null,null,null,null,null,null,null,null,null,null,245877.27272727271]
["Ga",23,67,null,null,null,null,null,null,null,null,null,null,null,null,null,null,null,null,3725]
["Ge",null,null,null,null,null,null,null,null,null,null,null,null,null,null,null,null,null,null,0]
["Hf",25,24,null,null,null,null,null,null,null,null,null,null,null,null,null,null,null,null,2467.613636363636]
["La",5,23,null,null,null,null,null,null,null,null,null,null,null,null,null,null,null,null,1082.9545454545453]
["Li",266,null,null,null,null,null,null,null,null,null,null,null,null,null,null,null,null,null,17985.227272727272]
["Mo",677,23,null,null,null,null,null,null,null,null,null,null,null,null,null,null,null,null,46519.318181818177]
["Nb",25,66,null,null,null,null,null,null,null,null,null,null,null,null,null,null,null,null,3827.840909090909]
["Nd",344,333,null,null,null,null,null,null,null,null,null,null,null,null,null,null,null,null,34043.75]
["Ni",null,825,null,null,null,null,null,null,null,null,null,null,null,null,null,null,null,null,26718.749999999996]
["Pb",444,45,null,null,null,null,null,null,null,null,null,null,null,null,null,null,null,null,31477.840909090908]
["Rb",2451,265,null,null,null,null,null,null,null,null,null,null,null,null,null,null,null,null,174303.40909090906]
["Sc",null,null,null,null,null,null,null,null,null,null,null,null,null,null,null,null,null,null,0]
["Se",24,null,null,null,null,null,null,null,null,null,null,null,null,null,null,null,null,null,1622.7272727272725]
["Sm",22,74,null,null,null,null,null,null,null,null,null,null,null,null,null,null,null,null,3884.090909090909]
["Sr",165,35,null,null,null,null,null,null,null,null,null,null,null,null,null,null,null,null,12289.772727272728]
["Ta",null,null,null,null,null,null,null,null,null,null,null,null,null,null,null,null,null,null,0]
["Th",26,33,null,null,null,null,null,null,null,null,null,null,null,null,null,null,null,null,2826.704545454545]
["Tl",null,null,null,null,null,null,null,null,null,null,null,null,null,null,null,null,null,null,0]
["U",23,34,null,null,null,null,null,null,null,null,null,null,null,null,null,null,null,null,2656.25]
["V",35,44,null,null,null,null,null,null,null,null,null,null,null,null,null,null,null,null,3791.4772727272721]
["W",129,35,null,null,null,null,null,null,null,null,null,null,null,null,null,null,null,null,9855.681818181818]
["Y",48,75,null,null,null,null,null,null,null,null,null,null,null,null,null,null,null,null,5674.431818181818]
["Yb",15,2,null,null,null,null,null,null,null,null,null,null,null,null,null,null,null,null,1078.9772727272727]
["Zn",470,23,null,null,null,null,null,null,null,null,null,null,null,null,null,null,null,null,32523.295454545452]
["Zr",876,103,null,null,null,null,null,null,null,null,null,null,null,null,null,null,null,null,62565.340909090904]
[]
[]
[]
[]
[]
[null,"WR composition"]
[null,"(wt%)"]
[null,"SiO2",{"$f":"T5/$T$24*100","v":61.641136363636363},{"$f":"IF(T5<0, \" Negative value! Error in modes!\",\"\")","v":""}]
[null,"Al2O3",{"$f":"T6/$T$24*100","v":15.077670454545455},"",null,null,null,null,{"$f":"IF(T4=100,\"\",\"Modal volume NOT 100% :\")","v":""},null,null,{"$f":"IF(T4=100,\"\",T4)","v":""}]
[null,"Fe2O3",{"$f":"T7/$T$24*100","v":0},"",null,null,null,null,{"$f":"IF(T4=100,\"Modal volume: 100%\",\"\")","v":"Modal volume: 100%"}]
[null,"Cr2O3",0.11011363636363636,{"$f":"IF(T8<0, \" Negative value! Error in modes!\",\"\")","v":""}]
[null,"TiO2",0.33806818181818177,""]
[null,"FeO",4.750454545454545,""]
[null,"MgO",3.9586363636363626,""]
[null,"MnO",0.67613636363636354,"",null,"Note: for extraction of phases or proportional rock compositions insert negative mode/vol% values in row 4"]
[null,"CaO",6.1996590909090905,""]
[null,"Na2O",1.7262500000000001,""]
[null,"K2O",3.5631818181818176,""]
[null,"BaO",0.42823863636363635,""]
[null,"H2O",1.1072159090909091,""]
[null,"CO2",0,""]
[null,"SO3",0,""]
[null,"O2",0,""]
[null,"Li2O",0,""]
[null,"B2O3",0,""]
[null,"P2O5",0.42323863636363634,""]
[null,"Total",{"$f":"SUM(C67:C85)","v":99.999999999999986}]
[]
[null,"ρWR",{"$f":"(B4*B25+C4*C25+D4*D25+E4*E25+F4*F25+G4*G25+H4*H25+I4*I25+J4*J25+K4*K25+L4*L25+M4*M25+N4*N25+O4*O25+P4*P25+Q4*Q25+R4*R25+S4*S25)/T4","v":2.8160000000000003}]
[]
[null,"(ppm)"]
[null,"As",{"$f":"T26/100","v":0},{"$f":"IF(T26<0, \" Negative value!\",\"\")","v":""}]
[null,"B",{"$f":"T27/100","v":172.11363636363637},{"$f":"IF(T27<0, \" Negative value!\",\"\")","v":""}]
[null,"Ba",2562.431818181818,""]
[null,"Bi",67.61363636363636,""]
[null,"Ce",19.761363636363637,""]
[null,"Co",209.84659090909088,""]
[null,"Cr",0,""]
[null,"Cs",0,""]
[null,"Cu",2458.772727272727,""]
[null,"Ga",37.25,""]
[null,"Ge",0,""]
[null,"Hf",24.67613636363636,""]
[null,"La",10.829545454545453,""]
[null,"Li",179.85227272727272,""]
[null,"Mo",465.19318181818176,""]
[null,"Nb",38.278409090909093,""]
[null,"Nd",340.4375,""]
[null,"Ni",267.18749999999994,""]
[null,"Pb",314.77840909090907,""]
[null,"Rb",1743.0340909090905,""]
[null,"Sc",{"$f":"T46/100","v":0},""]
[null,"Se",16.227272727272727,""]
[null,"Sm",38.840909090909093,""]
[null,"Sr",122.89772727272728,""]
[null,"Ta",0,""]
[null,"Th",28.26704545454545,""]
[null,"Tl",0,""]
[null,"U",26.5625,""]
[null,"V",37.91477272727272,""]
[null,"W",98.556818181818187,""]
[null,"Y",56.74431818181818,""]
[null,"Yb",10.789772727272727,""]
[null,"Zn",325.2329545454545,""]
[null,"Zr",625.65340909090901,""]

{"sheet":"WR Theriak converter","index":2,"n_rows":27,"n_cols":6,"rows_kept":27,"cut":false,"hidden":false,"merged":[]}
[]
[null,"Input oxide wt%","Oxide mole prop.","Atomic prop.",null,"Copy to Theriak-Domino THERIN file"]
["Wt%                                 SiO2",{"$f":"'Whole Rock Maker'!C67","v":61.641136363636363},{"$f":"B3/Info!C25","v":1.0259023307664561},{"$f":"INT('Whole Rock Maker'!$T$24*C3/$C$23)/100","v":54.72},null,{"$f":"\"SI(\"&D3&\")AL(\"&D4&\")FE(\"&D22&\")MG(\"&D9&\")CA(\"&D11&\")NA(\"&D12&\")K(\"&D13&\")O(?)H(\"&D15&\")C(\"&D16&\")S(\"&D17&\")O(\"&D18&\")\"","v":"SI(54.72)AL(15.77)FE(3.52)MG(5.23)CA(5.89)NA(2.97)K(4.03)O(?)H(6.55)C(0)S(0)O(0)"}]
["Al2O3",{"$f":"'Whole Rock Maker'!C68","v":15.077670454545455},{"$f":"2*B4/Info!C27","v":0.29575309930729443},{"$f":"INT('Whole Rock Maker'!$T$24*C4/$C$23)/100","v":15.77}]
["Fe2O3",{"$f":"'Whole Rock Maker'!C69","v":0}," -"," -"]
["Cr2O3",{"$f":"'Whole Rock Maker'!C70","v":0.11011363636363636},{"$f":"2*B6/Info!C28","v":1.4489570559632972E-3},{"$f":"INT('Whole Rock Maker'!$T$24*C6/$C$23)/100","v":7.0000000000000007E-2}]
["TiO2",{"$f":"'Whole Rock Maker'!C71","v":0.33806818181818177},{"$f":"B7/Info!C26","v":4.2312047467318878E-3},{"$f":"INT('Whole Rock Maker'!$T$24*C7/$C$23)/100","v":0.22}]
["FeO",{"$f":"'Whole Rock Maker'!C72","v":4.750454545454545}," -"," -"]
["MgO",{"$f":"'Whole Rock Maker'!C73","v":3.9586363636363626},{"$f":"B9/Info!C29","v":9.8201411105453121E-2},{"$f":"INT('Whole Rock Maker'!$T$24*C9/$C$23)/100","v":5.23}]
["MnO",{"$f":"'Whole Rock Maker'!C74","v":0.67613636363636354},{"$f":"B10/Info!C31","v":9.5314377252703232E-3},{"$f":"INT('Whole Rock Maker'!$T$24*C10/$C$23)/100","v":0.5}]
["CaO",{"$f":"'Whole Rock Maker'!C75","v":6.1996590909090905},{"$f":"B11/Info!C30","v":0.11055145188623791},{"$f":"INT('Whole Rock Maker'!$T$24*C11/$C$23)/100","v":5.89}]
["Na2O",{"$f":"'Whole Rock Maker'!C76","v":1.7262500000000001},{"$f":"2*B12/Info!C35","v":5.5704351473886318E-2},{"$f":"INT('Whole Rock Maker'!$T$24*C12/$C$23)/100","v":2.97}]
["K2O",{"$f":"'Whole Rock Maker'!C77","v":3.5631818181818176},{"$f":"2*B13/Info!C36","v":7.5648688225304336E-2},{"$f":"INT('Whole Rock Maker'!$T$24*C13/$C$23)/100","v":4.03}]
["BaO",{"$f":"'Whole Rock Maker'!C78","v":0.42823863636363635},{"$f":"B14/Info!C34","v":2.792750176168919E-3},{"$f":"INT('Whole Rock Maker'!$T$24*C14/$C$23)/100","v":0.14000000000000001}]
["H2O",{"$f":"'Whole Rock Maker'!C79","v":1.1072159090909091},{"$f":"2*B15/Info!C39","v":0.12292155526959855},{"$f":"INT('Whole Rock Maker'!$T$24*C15/$C$23)/100","v":6.55}]
["CO2",{"$f":"'Whole Rock Maker'!C80","v":0},{"$f":"B16/Info!C40","v":0},{"$f":"INT('Whole Rock Maker'!$T$24*C16/$C$23)/100","v":0}]
["SO3",{"$f":"'Whole Rock Maker'!C81","v":0},{"$f":"B17/Info!C37","v":0},{"$f":"INT('Whole Rock Maker'!$T$24*C17/$C$23)/100","v":0}]
["O2",{"$f":"'Whole Rock Maker'!C82","v":0},{"$f":"B18/Info!C38","v":0},{"$f":"INT('Whole Rock Maker'!$T$24*C18/$C$23)/100","v":0}]
["Li2O",{"$f":"'Whole Rock Maker'!C83","v":0},{"$f":"2*B19/Info!C43","v":0},{"$f":"INT('Whole Rock Maker'!$T$24*C19/$C$23)/100","v":0}]
["B2O3",{"$f":"'Whole Rock Maker'!C84","v":0},{"$f":"B20*B20/Info!C41","v":0},{"$f":"INT('Whole Rock Maker'!$T$24*C20/$C$23)/100","v":0}]
["P2O5",{"$f":"'Whole Rock Maker'!C85","v":0.42323863636363634},{"$f":"2*B21/Info!C42","v":5.9636273969795178E-3},{"$f":"INT('Whole Rock Maker'!$T$24*C21/$C$23)/100","v":0.31}]
["FeOtot",{"$f":"B8+B5*0.8998","v":4.750454545454545},{"$f":"B22/Info!C32","v":6.6119590479892451E-2},{"$f":"INT('Whole Rock Maker'!$T$24*C22/$C$23)/100","v":3.52}]
["Total",{"$f":"'Whole Rock Maker'!C86","v":99.999999999999986},{"$f":"SUM(C3:C22)","v":1.8747704556152371},{"$f":"SUM(D3:D22)","v":99.919999999999987}]
[]
[]
["Important!"]
["The value Fe2O3 from the chemical analysis is transformed into FeO (FeOtot = FeO+Fe2O3 x 0.8998). "]

{"sheet":"Phase Rock Maker","index":3,"n_rows":109,"n_cols":17,"rows_kept":109,"cut":false,"hidden":false,"merged":[]}
[]
[{"$f":"'Mineral Data Set'!A2","v":"Phase "},{"$f":"'Mineral Data Set'!B2","v":"Structural formula"},"Mode","wt%","n moles","mol%",null,"WR composition (wt%)",null,null,null,null,null,null,null,null,"Oxide proportions"]
[{"$f":"'Mineral Data Set'!A3","v":"Quartz"},{"$f":"'Mineral Data Set'!B3","v":"SiO2"},100,{"$f":"C3/$I$23*'Mineral Data Set'!C3","v":100},{"$f":"D3/'Mineral Data Set'!AR3","v":1.6643144355976887},{"$f":"E3/$E$109*100","v":{"$error":"#DIV/0!"}},null,"SiO2",{"$f":"Q3/$Q$22*100","v":100},{"$f":"IF(Q3<0, \" Negative value!\",\"\")","v":""},null,null,null,null,null,null,{"$f":"$D$3*'Mineral Data Set'!AT3+'Phase Rock Maker'!$D$4*'Mineral Data Set'!AT4+'Phase Rock Maker'!$D$5*'Mineral Data Set'!AT5+'Phase Rock Maker'!$D$6*'Mineral Data Set'!AT6+'Phase Rock Maker'!$D$7*'Mineral Data Set'!AT7+'Phase Rock Maker'!$D$8*'Mineral Data Set'!AT8+'Phase Rock Maker'!$D$9*'Mineral Data Set'!AT9+'Phase Rock Maker'!$D$10*'Mineral Data Set'!AT10+'Phase Rock Maker'!$D$11*'Mineral Data Set'!AT11+'Phase Rock Maker'!$D$12*'Mineral Data Set'!AT12+'Phase Rock Maker'!$D$13*'Mineral Data Set'!AT13+'Phase Rock Maker'!$D$14*'Mineral Data Set'!AT14+'Phase Rock Maker'!$D$15*'Mineral Data Set'!AT15+'Phase Rock Maker'!$D$16*'Mineral Data Set'!AT16+'Phase Rock Maker'!$D$17*'Mineral Data Set'!AT17+'Phase Rock Maker'!$D$18*'Mineral Data Set'!AT18+'Phase Rock Maker'!$D$19*'Mineral Data Set'!AT19+'Phase Rock Maker'!$D$20*'Mineral Data Set'!AT20+'Phase Rock Maker'!$D$21*'Mineral Data Set'!AT21+'Phase Rock Maker'!$D$22*'Mineral Data Set'!AT22+'Phase Rock Maker'!$D$23*'Mineral Data Set'!AT23+'Phase Rock Maker'!$D$24*'Mineral Data Set'!AT24+'Phase Rock Maker'!$D$25*'Mineral Data Set'!AT25+'Phase Rock Maker'!$D$26*'Mineral Data Set'!AT26+'Phase Rock Maker'!$D$27*'Mineral Data Set'!AT27+'Phase Rock Maker'!$D$28*'Mineral Data Set'!AT28+'Phase Rock Maker'!$D$29*'Mineral Data Set'!AT29+'Phase Rock Maker'!$D$30*'Mineral Data Set'!AT30+'Phase Rock Maker'!$D$31*'Mineral Data Set'!AT31+'Phase Rock Maker'!$D$32*'Mineral Data Set'!AT32+'Phase Rock Maker'!$D$33*'Mineral Data Set'!AT33+'Phase Rock Maker'!$D$34*'Mineral Data Set'!AT34+'Phase Rock Maker'!$D$35*'Mineral Data Set'!AT35+'Phase Rock Maker'!$D$36*'Mineral Data Set'!AT36+'Phase Rock Maker'!$D$37*'Mineral Data Set'!AT37+'Phase Rock Maker'!$D$38*'Mineral Data Set'!AT38+'Phase Rock Maker'!$D$39*'Mineral Data Set'!AT39+'Phase Rock Maker'!$D$40*'Mineral Data Set'!AT40+'Phase Rock Maker'!$D$41*'Mineral Data Set'!AT41+'Phase Rock Maker'!$D$42*'Mineral Data Set'!AT42+'Phase Rock Maker'!$D$43*'Mineral Data Set'!AT43+'Phase Rock Maker'!$D$44*'Mineral Data Set'!AT44+'Phase Rock Maker'!$D$45*'Mineral Data Set'!AT45+'Phase Rock Maker'!$D$46*'Mineral Data Set'!AT46+'Phase Rock Maker'!$D$47*'Mineral Data Set'!AT47+'Phase Rock Maker'!$D$48*'Mineral Data Set'!AT48+'Phase Rock Maker'!$D$49*'Mineral Data Set'!AT49+'Phase Rock Maker'!$D$50*'Mineral Data Set'!AT50+'Phase Rock Maker'!$D$51*'Mineral Data Set'!AT51+'Phase Rock Maker'!$D$52*'Mineral Data Set'!AT52+'Phase Rock Maker'!$D$53*'Mineral Data Set'!AT53+'Phase Rock Maker'!$D$54*'Mineral Data Set'!AT54+'Phase Rock Maker'!$D$55*'Mineral Data Set'!AT55+'Phase Rock Maker'!$D$56*'Mineral Data Set'!AT56+'Phase Rock Maker'!$D$57*'Mineral Data Set'!AT57+'Phase Rock Maker'!$D$58*'Mineral Data Set'!AT58+'Phase Rock Maker'!$D$59*'Mineral Data Set'!AT59+'Phase Rock Maker'!$D$60*'Mineral Data Set'!AT60+'Phase Rock Maker'!$D$61*'Mineral Data Set'!AT61+'Phase Rock Maker'!$D$62*'Mineral Data Set'!AT62+'Phase Rock Maker'!$D$63*'Mineral Data Set'!AT63+'Phase Rock Maker'!$D$64*'Mineral Data Set'!AT64+'Phase Rock Maker'!$D$65*'Mineral Data Set'!AT65+'Phase Rock Maker'!$D$66*'Mineral Data Set'!AT66+'Phase Rock Maker'!$D$67*'Mineral Data Set'!AT67+'Phase Rock Maker'!$D$68*'Mineral Data Set'!AT68+'Phase Rock Maker'!$D$69*'Mineral Data Set'!AT69+'Phase Rock Maker'!$D$70*'Mineral Data Set'!AT70+'Phase Rock Maker'!$D$71*'Mineral Data Set'!AT71+'Phase Rock Maker'!$D$72*'Mineral Data Set'!AT72+'Phase Rock Maker'!$D$73*'Mineral Data Set'!AT73+'Phase Rock Maker'!$D$74*'Mineral Data Set'!AT74+'Phase Rock Maker'!$D$75*'Mineral Data Set'!AT75+'Phase Rock Maker'!$D$76*'Mineral Data Set'!AT76+'Phase Rock Maker'!$D$77*'Mineral Data Set'!AT77+'Phase Rock Maker'!$D$78*'Mineral Data Set'!AT78+'Phase Rock Maker'!$D$79*'Mineral Data Set'!AT79+'Phase Rock Maker'!$D$80*'Mineral Data Set'!AT80+'Phase Rock Maker'!$D$81*'Mineral Data Set'!AT81+'Phase Rock Maker'!$D$82*'Mineral Data Set'!AT82+'Phase Rock Maker'!$D$83*'Mineral Data Set'!AT83+'Phase Rock Maker'!$D$84*'Mineral Data Set'!AT84+'Phase Rock Maker'!$D$85*'Mineral Data Set'!AT85+'Phase Rock Maker'!$D$86*'Mineral Data Set'!AT86+'Phase Rock Maker'!$D$87*'Mineral Data Set'!AT87+'Phase Rock Maker'!$D$88*'Mineral Data Set'!AT88+'Phase Rock Maker'!$D$89*'Mineral Data Set'!AT89+'Phase Rock Maker'!$D$90*'Mineral Data Set'!AT90+'Phase Rock Maker'!$D$91*'Mineral Data Set'!AT91+'Phase Rock Maker'!$D$92*'Mineral Data Set'!AT92+'Phase Rock Maker'!$D$93*'Mineral Data Set'!AT93+'Phase Rock Maker'!$D$94*'Mineral Data Set'!AT94+'Phase Rock Maker'!$D$95*'Mineral Data Set'!AT95+'Phase Rock Maker'!$D$96*'Mineral Data Set'!AT96+'Phase Rock Maker'!$D$97*'Mineral Data Set'!AT97+'Phase Rock Maker'!$D$98*'Mineral Data Set'!AT98+'Phase Rock Maker'!$D$99*'Mineral Data Set'!AT99+'Phase Rock Maker'!$D$100*'Mineral Data Set'!AT100+'Phase Rock Maker'!$D$101*'Mineral Data Set'!AT101+'Phase Rock Maker'!$D$102*'Mineral Data Set'!AT102+'Phase Rock Maker'!$D$103*'Mineral Data Set'!AT103+'Phase Rock Maker'!$D$104*'Mineral Data Set'!AT104+'Phase Rock Maker'!$D$105*'Mineral Data Set'!AT105+'Phase Rock Maker'!$D$106*'Mineral Data Set'!AT106+'Phase Rock Maker'!$D$107*'Mineral Data Set'!AT107+'Phase Rock Maker'!$D$108*'Mineral Data Set'!AT108","v":10000}]
[{"$f":"'Mineral Data Set'!A4","v":"Albite"},{"$f":"'Mineral Data Set'!B4","v":"NaAlSi3O8"},0,{"$f":"C4/$I$23*'Mineral Data Set'!C4","v":0},{"$f":"D4/'Mineral Data Set'!AR4","v":0},{"$f":"E4/$E$109*100","v":{"$error":"#DIV/0!"}},null,"Al2O3",{"$f":"Q4/$Q$22*100","v":0},{"$f":"IF(Q4<0, \" Negative value!\",\"\")","v":""},null,null,null,null,null,null,{"$f":"$D$3*'Mineral Data Set'!AU3+'Phase Rock Maker'!$D$4*'Mineral Data Set'!AU4+'Phase Rock Maker'!$D$5*'Mineral Data Set'!AU5+'Phase Rock Maker'!$D$6*'Mineral Data Set'!AU6+'Phase Rock Maker'!$D$7*'Mineral Data Set'!AU7+'Phase Rock Maker'!$D$8*'Mineral Data Set'!AU8+'Phase Rock Maker'!$D$9*'Mineral Data Set'!AU9+'Phase Rock Maker'!$D$10*'Mineral Data Set'!AU10+'Phase Rock Maker'!$D$11*'Mineral Data Set'!AU11+'Phase Rock Maker'!$D$12*'Mineral Data Set'!AU12+'Phase Rock Maker'!$D$13*'Mineral Data Set'!AU13+'Phase Rock Maker'!$D$14*'Mineral Data Set'!AU14+'Phase Rock Maker'!$D$15*'Mineral Data Set'!AU15+'Phase Rock Maker'!$D$16*'Mineral Data Set'!AU16+'Phase Rock Maker'!$D$17*'Mineral Data Set'!AU17+'Phase Rock Maker'!$D$18*'Mineral Data Set'!AU18+'Phase Rock Maker'!$D$19*'Mineral Data Set'!AU19+'Phase Rock Maker'!$D$20*'Mineral Data Set'!AU20+'Phase Rock Maker'!$D$21*'Mineral Data Set'!AU21+'Phase Rock Maker'!$D$22*'Mineral Data Set'!AU22+'Phase Rock Maker'!$D$23*'Mineral Data Set'!AU23+'Phase Rock Maker'!$D$24*'Mineral Data Set'!AU24+'Phase Rock Maker'!$D$25*'Mineral Data Set'!AU25+'Phase Rock Maker'!$D$26*'Mineral Data Set'!AU26+'Phase Rock Maker'!$D$27*'Mineral Data Set'!AU27+'Phase Rock Maker'!$D$28*'Mineral Data Set'!AU28+'Phase Rock Maker'!$D$29*'Mineral Data Set'!AU29+'Phase Rock Maker'!$D$30*'Mineral Data Set'!AU30+'Phase Rock Maker'!$D$31*'Mineral Data Set'!AU31+'Phase Rock Maker'!$D$32*'Mineral Data Set'!AU32+'Phase Rock Maker'!$D$33*'Mineral Data Set'!AU33+'Phase Rock Maker'!$D$34*'Mineral Data Set'!AU34+'Phase Rock Maker'!$D$35*'Mineral Data Set'!AU35+'Phase Rock Maker'!$D$36*'Mineral Data Set'!AU36+'Phase Rock Maker'!$D$37*'Mineral Data Set'!AU37+'Phase Rock Maker'!$D$38*'Mineral Data Set'!AU38+'Phase Rock Maker'!$D$39*'Mineral Data Set'!AU39+'Phase Rock Maker'!$D$40*'Mineral Data Set'!AU40+'Phase Rock Maker'!$D$41*'Mineral Data Set'!AU41+'Phase Rock Maker'!$D$42*'Mineral Data Set'!AU42+'Phase Rock Maker'!$D$43*'Mineral Data Set'!AU43+'Phase Rock Maker'!$D$44*'Mineral Data Set'!AU44+'Phase Rock Maker'!$D$45*'Mineral Data Set'!AU45+'Phase Rock Maker'!$D$46*'Mineral Data Set'!AU46+'Phase Rock Maker'!$D$47*'Mineral Data Set'!AU47+'Phase Rock Maker'!$D$48*'Mineral Data Set'!AU48+'Phase Rock Maker'!$D$49*'Mineral Data Set'!AU49+'Phase Rock Maker'!$D$50*'Mineral Data Set'!AU50+'Phase Rock Maker'!$D$51*'Mineral Data Set'!AU51+'Phase Rock Maker'!$D$52*'Mineral Data Set'!AU52+'Phase Rock Maker'!$D$53*'Mineral Data Set'!AU53+'Phase Rock Maker'!$D$54*'Mineral Data Set'!AU54+'Phase Rock Maker'!$D$55*'Mineral Data Set'!AU55+'Phase Rock Maker'!$D$56*'Mineral Data Set'!AU56+'Phase Rock Maker'!$D$57*'Mineral Data Set'!AU57+'Phase Rock Maker'!$D$58*'Mineral Data Set'!AU58+'Phase Rock Maker'!$D$59*'Mineral Data Set'!AU59+'Phase Rock Maker'!$D$60*'Mineral Data Set'!AU60+'Phase Rock Maker'!$D$61*'Mineral Data Set'!AU61+'Phase Rock Maker'!$D$62*'Mineral Data Set'!AU62+'Phase Rock Maker'!$D$63*'Mineral Data Set'!AU63+'Phase Rock Maker'!$D$64*'Mineral Data Set'!AU64+'Phase Rock Maker'!$D$65*'Mineral Data Set'!AU65+'Phase Rock Maker'!$D$66*'Mineral Data Set'!AU66+'Phase Rock Maker'!$D$67*'Mineral Data Set'!AU67+'Phase Rock Maker'!$D$68*'Mineral Data Set'!AU68+'Phase Rock Maker'!$D$69*'Mineral Data Set'!AU69+'Phase Rock Maker'!$D$70*'Mineral Data Set'!AU70+'Phase Rock Maker'!$D$71*'Mineral Data Set'!AU71+'Phase Rock Maker'!$D$72*'Mineral Data Set'!AU72+'Phase Rock Maker'!$D$73*'Mineral Data Set'!AU73+'Phase Rock Maker'!$D$74*'Mineral Data Set'!AU74+'Phase Rock Maker'!$D$75*'Mineral Data Set'!AU75+'Phase Rock Maker'!$D$76*'Mineral Data Set'!AU76+'Phase Rock Maker'!$D$77*'Mineral Data Set'!AU77+'Phase Rock Maker'!$D$78*'Mineral Data Set'!AU78+'Phase Rock Maker'!$D$79*'Mineral Data Set'!AU79+'Phase Rock Maker'!$D$80*'Mineral Data Set'!AU80+'Phase Rock Maker'!$D$81*'Mineral Data Set'!AU81+'Phase Rock Maker'!$D$82*'Mineral Data Set'!AU82+'Phase Rock Maker'!$D$83*'Mineral Data Set'!AU83+'Phase Rock Maker'!$D$84*'Mineral Data Set'!AU84+'Phase Rock Maker'!$D$85*'Mineral Data Set'!AU85+'Phase Rock Maker'!$D$86*'Mineral Data Set'!AU86+'Phase Rock Maker'!$D$87*'Mineral Data Set'!AU87+'Phase Rock Maker'!$D$88*'Mineral Data Set'!AU88+'Phase Rock Maker'!$D$89*'Mineral Data Set'!AU89+'Phase Rock Maker'!$D$90*'Mineral Data Set'!AU90+'Phase Rock Maker'!$D$91*'Mineral Data Set'!AU91+'Phase Rock Maker'!$D$92*'Mineral Data Set'!AU92+'Phase Rock Maker'!$D$93*'Mineral Data Set'!AU93+'Phase Rock Maker'!$D$94*'Mineral Data Set'!AU94+'Phase Rock Maker'!$D$95*'Mineral Data Set'!AU95+'Phase Rock Maker'!$D$96*'Mineral Data Set'!AU96+'Phase Rock Maker'!$D$97*'Mineral Data Set'!AU97+'Phase Rock Maker'!$D$98*'Mineral Data Set'!AU98+'Phase Rock Maker'!$D$99*'Mineral Data Set'!AU99+'Phase Rock Maker'!$D$100*'Mineral Data Set'!AU100+'Phase Rock Maker'!$D$101*'Mineral Data Set'!AU101+'Phase Rock Maker'!$D$102*'Mineral Data Set'!AU102+'Phase Rock Maker'!$D$103*'Mineral Data Set'!AU103+'Phase Rock Maker'!$D$104*'Mineral Data Set'!AU104+'Phase Rock Maker'!$D$105*'Mineral Data Set'!AU105+'Phase Rock Maker'!$D$106*'Mineral Data Set'!AU106+'Phase Rock Maker'!$D$107*'Mineral Data Set'!AU107+'Phase Rock Maker'!$D$108*'Mineral Data Set'!AU108","v":0}]
[{"$f":"'Mineral Data Set'!A5","v":"Anorthite"},{"$f":"'Mineral Data Set'!B5","v":"CaAl2Si2O8"},0,{"$f":"C5/$I$23*'Mineral Data Set'!C5","v":0},{"$f":"D5/'Mineral Data Set'!AR5","v":0},{"$f":"E5/$E$109*100","v":{"$error":"#DIV/0!"}},null,"Fe2O3",{"$f":"Q5/$Q$22*100","v":0},"",null,null,null,null,null,null,{"$f":"$D$3*'Mineral Data Set'!AX3+'Phase Rock Maker'!$D$4*'Mineral Data Set'!AX4+'Phase Rock Maker'!$D$5*'Mineral Data Set'!AX5+'Phase Rock Maker'!$D$6*'Mineral Data Set'!AX6+'Phase Rock Maker'!$D$7*'Mineral Data Set'!AX7+'Phase Rock Maker'!$D$8*'Mineral Data Set'!AX8+'Phase Rock Maker'!$D$9*'Mineral Data Set'!AX9+'Phase Rock Maker'!$D$10*'Mineral Data Set'!AX10+'Phase Rock Maker'!$D$11*'Mineral Data Set'!AX11+'Phase Rock Maker'!$D$12*'Mineral Data Set'!AX12+'Phase Rock Maker'!$D$13*'Mineral Data Set'!AX13+'Phase Rock Maker'!$D$14*'Mineral Data Set'!AX14+'Phase Rock Maker'!$D$15*'Mineral Data Set'!AX15+'Phase Rock Maker'!$D$16*'Mineral Data Set'!AX16+'Phase Rock Maker'!$D$17*'Mineral Data Set'!AX17+'Phase Rock Maker'!$D$18*'Mineral Data Set'!AX18+'Phase Rock Maker'!$D$19*'Mineral Data Set'!AX19+'Phase Rock Maker'!$D$20*'Mineral Data Set'!AX20+'Phase Rock Maker'!$D$21*'Mineral Data Set'!AX21+'Phase Rock Maker'!$D$22*'Mineral Data Set'!AX22+'Phase Rock Maker'!$D$23*'Mineral Data Set'!AX23+'Phase Rock Maker'!$D$24*'Mineral Data Set'!AX24+'Phase Rock Maker'!$D$25*'Mineral Data Set'!AX25+'Phase Rock Maker'!$D$26*'Mineral Data Set'!AX26+'Phase Rock Maker'!$D$27*'Mineral Data Set'!AX27+'Phase Rock Maker'!$D$28*'Mineral Data Set'!AX28+'Phase Rock Maker'!$D$29*'Mineral Data Set'!AX29+'Phase Rock Maker'!$D$30*'Mineral Data Set'!AX30+'Phase Rock Maker'!$D$31*'Mineral Data Set'!AX31+'Phase Rock Maker'!$D$32*'Mineral Data Set'!AX32+'Phase Rock Maker'!$D$33*'Mineral Data Set'!AX33+'Phase Rock Maker'!$D$34*'Mineral Data Set'!AX34+'Phase Rock Maker'!$D$35*'Mineral Data Set'!AX35+'Phase Rock Maker'!$D$36*'Mineral Data Set'!AX36+'Phase Rock Maker'!$D$37*'Mineral Data Set'!AX37+'Phase Rock Maker'!$D$38*'Mineral Data Set'!AX38+'Phase Rock Maker'!$D$39*'Mineral Data Set'!AX39+'Phase Rock Maker'!$D$40*'Mineral Data Set'!AX40+'Phase Rock Maker'!$D$41*'Mineral Data Set'!AX41+'Phase Rock Maker'!$D$42*'Mineral Data Set'!AX42+'Phase Rock Maker'!$D$43*'Mineral Data Set'!AX43+'Phase Rock Maker'!$D$44*'Mineral Data Set'!AX44+'Phase Rock Maker'!$D$45*'Mineral Data Set'!AX45+'Phase Rock Maker'!$D$46*'Mineral Data Set'!AX46+'Phase Rock Maker'!$D$47*'Mineral Data Set'!AX47+'Phase Rock Maker'!$D$48*'Mineral Data Set'!AX48+'Phase Rock Maker'!$D$49*'Mineral Data Set'!AX49+'Phase Rock Maker'!$D$50*'Mineral Data Set'!AX50+'Phase Rock Maker'!$D$51*'Mineral Data Set'!AX51+'Phase Rock Maker'!$D$52*'Mineral Data Set'!AX52+'Phase Rock Maker'!$D$53*'Mineral Data Set'!AX53+'Phase Rock Maker'!$D$54*'Mineral Data Set'!AX54+'Phase Rock Maker'!$D$55*'Mineral Data Set'!AX55+'Phase Rock Maker'!$D$56*'Mineral Data Set'!AX56+'Phase Rock Maker'!$D$57*'Mineral Data Set'!AX57+'Phase Rock Maker'!$D$58*'Mineral Data Set'!AX58+'Phase Rock Maker'!$D$59*'Mineral Data Set'!AX59+'Phase Rock Maker'!$D$60*'Mineral Data Set'!AX60+'Phase Rock Maker'!$D$61*'Mineral Data Set'!AX61+'Phase Rock Maker'!$D$62*'Mineral Data Set'!AX62+'Phase Rock Maker'!$D$63*'Mineral Data Set'!AX63+'Phase Rock Maker'!$D$64*'Mineral Data Set'!AX64+'Phase Rock Maker'!$D$65*'Mineral Data Set'!AX65+'Phase Rock Maker'!$D$66*'Mineral Data Set'!AX66+'Phase Rock Maker'!$D$67*'Mineral Data Set'!AX67+'Phase Rock Maker'!$D$68*'Mineral Data Set'!AX68+'Phase Rock Maker'!$D$69*'Mineral Data Set'!AX69+'Phase Rock Maker'!$D$70*'Mineral Data Set'!AX70+'Phase Rock Maker'!$D$71*'Mineral Data Set'!AX71+'Phase Rock Maker'!$D$72*'Mineral Data Set'!AX72+'Phase Rock Maker'!$D$73*'Mineral Data Set'!AX73+'Phase Rock Maker'!$D$74*'Mineral Data Set'!AX74+'Phase Rock Maker'!$D$75*'Mineral Data Set'!AX75+'Phase Rock Maker'!$D$76*'Mineral Data Set'!AX76+'Phase Rock Maker'!$D$77*'Mineral Data Set'!AX77+'Phase Rock Maker'!$D$78*'Mineral Data Set'!AX78+'Phase Rock Maker'!$D$79*'Mineral Data Set'!AX79+'Phase Rock Maker'!$D$80*'Mineral Data Set'!AX80+'Phase Rock Maker'!$D$81*'Mineral Data Set'!AX81+'Phase Rock Maker'!$D$82*'Mineral Data Set'!AX82+'Phase Rock Maker'!$D$83*'Mineral Data Set'!AX83+'Phase Rock Maker'!$D$84*'Mineral Data Set'!AX84+'Phase Rock Maker'!$D$85*'Mineral Data Set'!AX85+'Phase Rock Maker'!$D$86*'Mineral Data Set'!AX86+'Phase Rock Maker'!$D$87*'Mineral Data Set'!AX87+'Phase Rock Maker'!$D$88*'Mineral Data Set'!AX88+'Phase Rock Maker'!$D$89*'Mineral Data Set'!AX89+'Phase Rock Maker'!$D$90*'Mineral Data Set'!AX90+'Phase Rock Maker'!$D$91*'Mineral Data Set'!AX91+'Phase Rock Maker'!$D$92*'Mineral Data Set'!AX92+'Phase Rock Maker'!$D$93*'Mineral Data Set'!AX93+'Phase Rock Maker'!$D$94*'Mineral Data Set'!AX94+'Phase Rock Maker'!$D$95*'Mineral Data Set'!AX95+'Phase Rock Maker'!$D$96*'Mineral Data Set'!AX96+'Phase Rock Maker'!$D$97*'Mineral Data Set'!AX97+'Phase Rock Maker'!$D$98*'Mineral Data Set'!AX98+'Phase Rock Maker'!$D$99*'Mineral Data Set'!AX99+'Phase Rock Maker'!$D$100*'Mineral Data Set'!AX100+'Phase Rock Maker'!$D$101*'Mineral Data Set'!AX101+'Phase Rock Maker'!$D$102*'Mineral Data Set'!AX102+'Phase Rock Maker'!$D$103*'Mineral Data Set'!AX103+'Phase Rock Maker'!$D$104*'Mineral Data Set'!AX104+'Phase Rock Maker'!$D$105*'Mineral Data Set'!AX105+'Phase Rock Maker'!$D$106*'Mineral Data Set'!AX106+'Phase Rock Maker'!$D$107*'Mineral Data Set'!AX107+'Phase Rock Maker'!$D$108*'Mineral Data Set'!AX108","v":0}]
[{"$f":"'Mineral Data Set'!A6","v":"Oligoclase An15"},{"$f":"'Mineral Data Set'!B6","v":"Na0.85Ca0.15Al1.15Si2.85O8"},0,{"$f":"C6/$I$23*'Mineral Data Set'!C6","v":0},{"$f":"D6/'Mineral Data Set'!AR6","v":0},{"$f":"E6/$E$109*100","v":{"$error":"#DIV/0!"}},null,"Cr2O3",0,"",null,null,null,null,null,null,{"$f":"$D$3*'Mineral Data Set'!BD3+'Phase Rock Maker'!$D$4*'Mineral Data Set'!BD4+'Phase Rock Maker'!$D$5*'Mineral Data Set'!BD5+'Phase Rock Maker'!$D$6*'Mineral Data Set'!BD6+'Phase Rock Maker'!$D$7*'Mineral Data Set'!BD7+'Phase Rock Maker'!$D$8*'Mineral Data Set'!BD8+'Phase Rock Maker'!$D$9*'Mineral Data Set'!BD9+'Phase Rock Maker'!$D$10*'Mineral Data Set'!BD10+'Phase Rock Maker'!$D$11*'Mineral Data Set'!BD11+'Phase Rock Maker'!$D$12*'Mineral Data Set'!BD12+'Phase Rock Maker'!$D$13*'Mineral Data Set'!BD13+'Phase Rock Maker'!$D$14*'Mineral Data Set'!BD14+'Phase Rock Maker'!$D$15*'Mineral Data Set'!BD15+'Phase Rock Maker'!$D$16*'Mineral Data Set'!BD16+'Phase Rock Maker'!$D$17*'Mineral Data Set'!BD17+'Phase Rock Maker'!$D$18*'Mineral Data Set'!BD18+'Phase Rock Maker'!$D$19*'Mineral Data Set'!BD19+'Phase Rock Maker'!$D$20*'Mineral Data Set'!BD20+'Phase Rock Maker'!$D$21*'Mineral Data Set'!BD21+'Phase Rock Maker'!$D$22*'Mineral Data Set'!BD22+'Phase Rock Maker'!$D$23*'Mineral Data Set'!BD23+'Phase Rock Maker'!$D$24*'Mineral Data Set'!BD24+'Phase Rock Maker'!$D$25*'Mineral Data Set'!BD25+'Phase Rock Maker'!$D$26*'Mineral Data Set'!BD26+'Phase Rock Maker'!$D$27*'Mineral Data Set'!BD27+'Phase Rock Maker'!$D$28*'Mineral Data Set'!BD28+'Phase Rock Maker'!$D$29*'Mineral Data Set'!BD29+'Phase Rock Maker'!$D$30*'Mineral Data Set'!BD30+'Phase Rock Maker'!$D$31*'Mineral Data Set'!BD31+'Phase Rock Maker'!$D$32*'Mineral Data Set'!BD32+'Phase Rock Maker'!$D$33*'Mineral Data Set'!BD33+'Phase Rock Maker'!$D$34*'Mineral Data Set'!BD34+'Phase Rock Maker'!$D$35*'Mineral Data Set'!BD35+'Phase Rock Maker'!$D$36*'Mineral Data Set'!BD36+'Phase Rock Maker'!$D$37*'Mineral Data Set'!BD37+'Phase Rock Maker'!$D$38*'Mineral Data Set'!BD38+'Phase Rock Maker'!$D$39*'Mineral Data Set'!BD39+'Phase Rock Maker'!$D$40*'Mineral Data Set'!BD40+'Phase Rock Maker'!$D$41*'Mineral Data Set'!BD41+'Phase Rock Maker'!$D$42*'Mineral Data Set'!BD42+'Phase Rock Maker'!$D$43*'Mineral Data Set'!BD43+'Phase Rock Maker'!$D$44*'Mineral Data Set'!BD44+'Phase Rock Maker'!$D$45*'Mineral Data Set'!BD45+'Phase Rock Maker'!$D$46*'Mineral Data Set'!BD46+'Phase Rock Maker'!$D$47*'Mineral Data Set'!BD47+'Phase Rock Maker'!$D$48*'Mineral Data Set'!BD48+'Phase Rock Maker'!$D$49*'Mineral Data Set'!BD49+'Phase Rock Maker'!$D$50*'Mineral Data Set'!BD50+'Phase Rock Maker'!$D$51*'Mineral Data Set'!BD51+'Phase Rock Maker'!$D$52*'Mineral Data Set'!BD52+'Phase Rock Maker'!$D$53*'Mineral Data Set'!BD53+'Phase Rock Maker'!$D$54*'Mineral Data Set'!BD54+'Phase Rock Maker'!$D$55*'Mineral Data Set'!BD55+'Phase Rock Maker'!$D$56*'Mineral Data Set'!BD56+'Phase Rock Maker'!$D$57*'Mineral Data Set'!BD57+'Phase Rock Maker'!$D$58*'Mineral Data Set'!BD58+'Phase Rock Maker'!$D$59*'Mineral Data Set'!BD59+'Phase Rock Maker'!$D$60*'Mineral Data Set'!BD60+'Phase Rock Maker'!$D$61*'Mineral Data Set'!BD61+'Phase Rock Maker'!$D$62*'Mineral Data Set'!BD62+'Phase Rock Maker'!$D$63*'Mineral Data Set'!BD63+'Phase Rock Maker'!$D$64*'Mineral Data Set'!BD64+'Phase Rock Maker'!$D$65*'Mineral Data Set'!BD65+'Phase Rock Maker'!$D$66*'Mineral Data Set'!BD66+'Phase Rock Maker'!$D$67*'Mineral Data Set'!BD67+'Phase Rock Maker'!$D$68*'Mineral Data Set'!BD68+'Phase Rock Maker'!$D$69*'Mineral Data Set'!BD69+'Phase Rock Maker'!$D$70*'Mineral Data Set'!BD70+'Phase Rock Maker'!$D$71*'Mineral Data Set'!BD71+'Phase Rock Maker'!$D$72*'Mineral Data Set'!BD72+'Phase Rock Maker'!$D$73*'Mineral Data Set'!BD73+'Phase Rock Maker'!$D$74*'Mineral Data Set'!BD74+'Phase Rock Maker'!$D$75*'Mineral Data Set'!BD75+'Phase Rock Maker'!$D$76*'Mineral Data Set'!BD76+'Phase Rock Maker'!$D$77*'Mineral Data Set'!BD77+'Phase Rock Maker'!$D$78*'Mineral Data Set'!BD78+'Phase Rock Maker'!$D$79*'Mineral Data Set'!BD79+'Phase Rock Maker'!$D$80*'Mineral Data Set'!BD80+'Phase Rock Maker'!$D$81*'Mineral Data Set'!BD81+'Phase Rock Maker'!$D$82*'Mineral Data Set'!BD82+'Phase Rock Maker'!$D$83*'Mineral Data Set'!BD83+'Phase Rock Maker'!$D$84*'Mineral Data Set'!BD84+'Phase Rock Maker'!$D$85*'Mineral Data Set'!BD85+'Phase Rock Maker'!$D$86*'Mineral Data Set'!BD86+'Phase Rock Maker'!$D$87*'Mineral Data Set'!BD87+'Phase Rock Maker'!$D$88*'Mineral Data Set'!BD88+'Phase Rock Maker'!$D$89*'Mineral Data Set'!BD89+'Phase Rock Maker'!$D$90*'Mineral Data Set'!BD90+'Phase Rock Maker'!$D$91*'Mineral Data Set'!BD91+'Phase Rock Maker'!$D$92*'Mineral Data Set'!BD92+'Phase Rock Maker'!$D$93*'Mineral Data Set'!BD93+'Phase Rock Maker'!$D$94*'Mineral Data Set'!BD94+'Phase Rock Maker'!$D$95*'Mineral Data Set'!BD95+'Phase Rock Maker'!$D$96*'Mineral Data Set'!BD96+'Phase Rock Maker'!$D$97*'Mineral Data Set'!BD97+'Phase Rock Maker'!$D$98*'Mineral Data Set'!BD98+'Phase Rock Maker'!$D$99*'Mineral Data Set'!BD99+'Phase Rock Maker'!$D$100*'Mineral Data Set'!BD100+'Phase Rock Maker'!$D$101*'Mineral Data Set'!BD101+'Phase Rock Maker'!$D$102*'Mineral Data Set'!BD102+'Phase Rock Maker'!$D$103*'Mineral Data Set'!BD103+'Phase Rock Maker'!$D$104*'Mineral Data Set'!BD104+'Phase Rock Maker'!$D$105*'Mineral Data Set'!BD105+'Phase Rock Maker'!$D$106*'Mineral Data Set'!BD106+'Phase Rock Maker'!$D$107*'Mineral Data Set'!BD107+'Phase Rock Maker'!$D$108*'Mineral Data Set'!BD108","v":0}]
[{"$f":"'Mineral Data Set'!A7","v":"Andesine An40"},{"$f":"'Mineral Data Set'!B7","v":"Na0.6Ca0.4Al1.4Si2.6O8"},0,{"$f":"C7/$I$23*'Mineral Data Set'!C7","v":0},{"$f":"D7/'Mineral Data Set'!AR7","v":0},{"$error":"#DIV/0!"},null,"TiO2",0,"",null,null,null,null,null,null,{"$f":"$D$3*'Mineral Data Set'!BE3+'Phase Rock Maker'!$D$4*'Mineral Data Set'!BE4+'Phase Rock Maker'!$D$5*'Mineral Data Set'!BE5+'Phase Rock Maker'!$D$6*'Mineral Data Set'!BE6+'Phase Rock Maker'!$D$7*'Mineral Data Set'!BE7+'Phase Rock Maker'!$D$8*'Mineral Data Set'!BE8+'Phase Rock Maker'!$D$9*'Mineral Data Set'!BE9+'Phase Rock Maker'!$D$10*'Mineral Data Set'!BE10+'Phase Rock Maker'!$D$11*'Mineral Data Set'!BE11+'Phase Rock Maker'!$D$12*'Mineral Data Set'!BE12+'Phase Rock Maker'!$D$13*'Mineral Data Set'!BE13+'Phase Rock Maker'!$D$14*'Mineral Data Set'!BE14+'Phase Rock Maker'!$D$15*'Mineral Data Set'!BE15+'Phase Rock Maker'!$D$16*'Mineral Data Set'!BE16+'Phase Rock Maker'!$D$17*'Mineral Data Set'!BE17+'Phase Rock Maker'!$D$18*'Mineral Data Set'!BE18+'Phase Rock Maker'!$D$19*'Mineral Data Set'!BE19+'Phase Rock Maker'!$D$20*'Mineral Data Set'!BE20+'Phase Rock Maker'!$D$21*'Mineral Data Set'!BE21+'Phase Rock Maker'!$D$22*'Mineral Data Set'!BE22+'Phase Rock Maker'!$D$23*'Mineral Data Set'!BE23+'Phase Rock Maker'!$D$24*'Mineral Data Set'!BE24+'Phase Rock Maker'!$D$25*'Mineral Data Set'!BE25+'Phase Rock Maker'!$D$26*'Mineral Data Set'!BE26+'Phase Rock Maker'!$D$27*'Mineral Data Set'!BE27+'Phase Rock Maker'!$D$28*'Mineral Data Set'!BE28+'Phase Rock Maker'!$D$29*'Mineral Data Set'!BE29+'Phase Rock Maker'!$D$30*'Mineral Data Set'!BE30+'Phase Rock Maker'!$D$31*'Mineral Data Set'!BE31+'Phase Rock Maker'!$D$32*'Mineral Data Set'!BE32+'Phase Rock Maker'!$D$33*'Mineral Data Set'!BE33+'Phase Rock Maker'!$D$34*'Mineral Data Set'!BE34+'Phase Rock Maker'!$D$35*'Mineral Data Set'!BE35+'Phase Rock Maker'!$D$36*'Mineral Data Set'!BE36+'Phase Rock Maker'!$D$37*'Mineral Data Set'!BE37+'Phase Rock Maker'!$D$38*'Mineral Data Set'!BE38+'Phase Rock Maker'!$D$39*'Mineral Data Set'!BE39+'Phase Rock Maker'!$D$40*'Mineral Data Set'!BE40+'Phase Rock Maker'!$D$41*'Mineral Data Set'!BE41+'Phase Rock Maker'!$D$42*'Mineral Data Set'!BE42+'Phase Rock Maker'!$D$43*'Mineral Data Set'!BE43+'Phase Rock Maker'!$D$44*'Mineral Data Set'!BE44+'Phase Rock Maker'!$D$45*'Mineral Data Set'!BE45+'Phase Rock Maker'!$D$46*'Mineral Data Set'!BE46+'Phase Rock Maker'!$D$47*'Mineral Data Set'!BE47+'Phase Rock Maker'!$D$48*'Mineral Data Set'!BE48+'Phase Rock Maker'!$D$49*'Mineral Data Set'!BE49+'Phase Rock Maker'!$D$50*'Mineral Data Set'!BE50+'Phase Rock Maker'!$D$51*'Mineral Data Set'!BE51+'Phase Rock Maker'!$D$52*'Mineral Data Set'!BE52+'Phase Rock Maker'!$D$53*'Mineral Data Set'!BE53+'Phase Rock Maker'!$D$54*'Mineral Data Set'!BE54+'Phase Rock Maker'!$D$55*'Mineral Data Set'!BE55+'Phase Rock Maker'!$D$56*'Mineral Data Set'!BE56+'Phase Rock Maker'!$D$57*'Mineral Data Set'!BE57+'Phase Rock Maker'!$D$58*'Mineral Data Set'!BE58+'Phase Rock Maker'!$D$59*'Mineral Data Set'!BE59+'Phase Rock Maker'!$D$60*'Mineral Data Set'!BE60+'Phase Rock Maker'!$D$61*'Mineral Data Set'!BE61+'Phase Rock Maker'!$D$62*'Mineral Data Set'!BE62+'Phase Rock Maker'!$D$63*'Mineral Data Set'!BE63+'Phase Rock Maker'!$D$64*'Mineral Data Set'!BE64+'Phase Rock Maker'!$D$65*'Mineral Data Set'!BE65+'Phase Rock Maker'!$D$66*'Mineral Data Set'!BE66+'Phase Rock Maker'!$D$67*'Mineral Data Set'!BE67+'Phase Rock Maker'!$D$68*'Mineral Data Set'!BE68+'Phase Rock Maker'!$D$69*'Mineral Data Set'!BE69+'Phase Rock Maker'!$D$70*'Mineral Data Set'!BE70+'Phase Rock Maker'!$D$71*'Mineral Data Set'!BE71+'Phase Rock Maker'!$D$72*'Mineral Data Set'!BE72+'Phase Rock Maker'!$D$73*'Mineral Data Set'!BE73+'Phase Rock Maker'!$D$74*'Mineral Data Set'!BE74+'Phase Rock Maker'!$D$75*'Mineral Data Set'!BE75+'Phase Rock Maker'!$D$76*'Mineral Data Set'!BE76+'Phase Rock Maker'!$D$77*'Mineral Data Set'!BE77+'Phase Rock Maker'!$D$78*'Mineral Data Set'!BE78+'Phase Rock Maker'!$D$79*'Mineral Data Set'!BE79+'Phase Rock Maker'!$D$80*'Mineral Data Set'!BE80+'Phase Rock Maker'!$D$81*'Mineral Data Set'!BE81+'Phase Rock Maker'!$D$82*'Mineral Data Set'!BE82+'Phase Rock Maker'!$D$83*'Mineral Data Set'!BE83+'Phase Rock Maker'!$D$84*'Mineral Data Set'!BE84+'Phase Rock Maker'!$D$85*'Mineral Data Set'!BE85+'Phase Rock Maker'!$D$86*'Mineral Data Set'!BE86+'Phase Rock Maker'!$D$87*'Mineral Data Set'!BE87+'Phase Rock Maker'!$D$88*'Mineral Data Set'!BE88+'Phase Rock Maker'!$D$89*'Mineral Data Set'!BE89+'Phase Rock Maker'!$D$90*'Mineral Data Set'!BE90+'Phase Rock Maker'!$D$91*'Mineral Data Set'!BE91+'Phase Rock Maker'!$D$92*'Mineral Data Set'!BE92+'Phase Rock Maker'!$D$93*'Mineral Data Set'!BE93+'Phase Rock Maker'!$D$94*'Mineral Data Set'!BE94+'Phase Rock Maker'!$D$95*'Mineral Data Set'!BE95+'Phase Rock Maker'!$D$96*'Mineral Data Set'!BE96+'Phase Rock Maker'!$D$97*'Mineral Data Set'!BE97+'Phase Rock Maker'!$D$98*'Mineral Data Set'!BE98+'Phase Rock Maker'!$D$99*'Mineral Data Set'!BE99+'Phase Rock Maker'!$D$100*'Mineral Data Set'!BE100+'Phase Rock Maker'!$D$101*'Mineral Data Set'!BE101+'Phase Rock Maker'!$D$102*'Mineral Data Set'!BE102+'Phase Rock Maker'!$D$103*'Mineral Data Set'!BE103+'Phase Rock Maker'!$D$104*'Mineral Data Set'!BE104+'Phase Rock Maker'!$D$105*'Mineral Data Set'!BE105+'Phase Rock Maker'!$D$106*'Mineral Data Set'!BE106+'Phase Rock Maker'!$D$107*'Mineral Data Set'!BE107+'Phase Rock Maker'!$D$108*'Mineral Data Set'!BE108","v":0}]
[{"$f":"'Mineral Data Set'!A8","v":"Labradorite An60"},{"$f":"'Mineral Data Set'!B8","v":"Na0.4Ca0.6Al1.6Si2.4O8"},0,{"$f":"C8/$I$23*'Mineral Data Set'!C8","v":0},{"$f":"D8/'Mineral Data Set'!AR8","v":0},{"$error":"#DIV/0!"},null,"FeO",0,"",null,null,null,null,null,null,{"$f":"$D$3*'Mineral Data Set'!AW3+'Phase Rock Maker'!$D$4*'Mineral Data Set'!AW4+'Phase Rock Maker'!$D$5*'Mineral Data Set'!AW5+'Phase Rock Maker'!$D$6*'Mineral Data Set'!AW6+'Phase Rock Maker'!$D$7*'Mineral Data Set'!AW7+'Phase Rock Maker'!$D$8*'Mineral Data Set'!AW8+'Phase Rock Maker'!$D$9*'Mineral Data Set'!AW9+'Phase Rock Maker'!$D$10*'Mineral Data Set'!AW10+'Phase Rock Maker'!$D$11*'Mineral Data Set'!AW11+'Phase Rock Maker'!$D$12*'Mineral Data Set'!AW12+'Phase Rock Maker'!$D$13*'Mineral Data Set'!AW13+'Phase Rock Maker'!$D$14*'Mineral Data Set'!AW14+'Phase Rock Maker'!$D$15*'Mineral Data Set'!AW15+'Phase Rock Maker'!$D$16*'Mineral Data Set'!AW16+'Phase Rock Maker'!$D$17*'Mineral Data Set'!AW17+'Phase Rock Maker'!$D$18*'Mineral Data Set'!AW18+'Phase Rock Maker'!$D$19*'Mineral Data Set'!AW19+'Phase Rock Maker'!$D$20*'Mineral Data Set'!AW20+'Phase Rock Maker'!$D$21*'Mineral Data Set'!AW21+'Phase Rock Maker'!$D$22*'Mineral Data Set'!AW22+'Phase Rock Maker'!$D$23*'Mineral Data Set'!AW23+'Phase Rock Maker'!$D$24*'Mineral Data Set'!AW24+'Phase Rock Maker'!$D$25*'Mineral Data Set'!AW25+'Phase Rock Maker'!$D$26*'Mineral Data Set'!AW26+'Phase Rock Maker'!$D$27*'Mineral Data Set'!AW27+'Phase Rock Maker'!$D$28*'Mineral Data Set'!AW28+'Phase Rock Maker'!$D$29*'Mineral Data Set'!AW29+'Phase Rock Maker'!$D$30*'Mineral Data Set'!AW30+'Phase Rock Maker'!$D$31*'Mineral Data Set'!AW31+'Phase Rock Maker'!$D$32*'Mineral Data Set'!AW32+'Phase Rock Maker'!$D$33*'Mineral Data Set'!AW33+'Phase Rock Maker'!$D$34*'Mineral Data Set'!AW34+'Phase Rock Maker'!$D$35*'Mineral Data Set'!AW35+'Phase Rock Maker'!$D$36*'Mineral Data Set'!AW36+'Phase Rock Maker'!$D$37*'Mineral Data Set'!AW37+'Phase Rock Maker'!$D$38*'Mineral Data Set'!AW38+'Phase Rock Maker'!$D$39*'Mineral Data Set'!AW39+'Phase Rock Maker'!$D$40*'Mineral Data Set'!AW40+'Phase Rock Maker'!$D$41*'Mineral Data Set'!AW41+'Phase Rock Maker'!$D$42*'Mineral Data Set'!AW42+'Phase Rock Maker'!$D$43*'Mineral Data Set'!AW43+'Phase Rock Maker'!$D$44*'Mineral Data Set'!AW44+'Phase Rock Maker'!$D$45*'Mineral Data Set'!AW45+'Phase Rock Maker'!$D$46*'Mineral Data Set'!AW46+'Phase Rock Maker'!$D$47*'Mineral Data Set'!AW47+'Phase Rock Maker'!$D$48*'Mineral Data Set'!AW48+'Phase Rock Maker'!$D$49*'Mineral Data Set'!AW49+'Phase Rock Maker'!$D$50*'Mineral Data Set'!AW50+'Phase Rock Maker'!$D$51*'Mineral Data Set'!AW51+'Phase Rock Maker'!$D$52*'Mineral Data Set'!AW52+'Phase Rock Maker'!$D$53*'Mineral Data Set'!AW53+'Phase Rock Maker'!$D$54*'Mineral Data Set'!AW54+'Phase Rock Maker'!$D$55*'Mineral Data Set'!AW55+'Phase Rock Maker'!$D$56*'Mineral Data Set'!AW56+'Phase Rock Maker'!$D$57*'Mineral Data Set'!AW57+'Phase Rock Maker'!$D$58*'Mineral Data Set'!AW58+'Phase Rock Maker'!$D$59*'Mineral Data Set'!AW59+'Phase Rock Maker'!$D$60*'Mineral Data Set'!AW60+'Phase Rock Maker'!$D$61*'Mineral Data Set'!AW61+'Phase Rock Maker'!$D$62*'Mineral Data Set'!AW62+'Phase Rock Maker'!$D$63*'Mineral Data Set'!AW63+'Phase Rock Maker'!$D$64*'Mineral Data Set'!AW64+'Phase Rock Maker'!$D$65*'Mineral Data Set'!AW65+'Phase Rock Maker'!$D$66*'Mineral Data Set'!AW66+'Phase Rock Maker'!$D$67*'Mineral Data Set'!AW67+'Phase Rock Maker'!$D$68*'Mineral Data Set'!AW68+'Phase Rock Maker'!$D$69*'Mineral Data Set'!AW69+'Phase Rock Maker'!$D$70*'Mineral Data Set'!AW70+'Phase Rock Maker'!$D$71*'Mineral Data Set'!AW71+'Phase Rock Maker'!$D$72*'Mineral Data Set'!AW72+'Phase Rock Maker'!$D$73*'Mineral Data Set'!AW73+'Phase Rock Maker'!$D$74*'Mineral Data Set'!AW74+'Phase Rock Maker'!$D$75*'Mineral Data Set'!AW75+'Phase Rock Maker'!$D$76*'Mineral Data Set'!AW76+'Phase Rock Maker'!$D$77*'Mineral Data Set'!AW77+'Phase Rock Maker'!$D$78*'Mineral Data Set'!AW78+'Phase Rock Maker'!$D$79*'Mineral Data Set'!AW79+'Phase Rock Maker'!$D$80*'Mineral Data Set'!AW80+'Phase Rock Maker'!$D$81*'Mineral Data Set'!AW81+'Phase Rock Maker'!$D$82*'Mineral Data Set'!AW82+'Phase Rock Maker'!$D$83*'Mineral Data Set'!AW83+'Phase Rock Maker'!$D$84*'Mineral Data Set'!AW84+'Phase Rock Maker'!$D$85*'Mineral Data Set'!AW85+'Phase Rock Maker'!$D$86*'Mineral Data Set'!AW86+'Phase Rock Maker'!$D$87*'Mineral Data Set'!AW87+'Phase Rock Maker'!$D$88*'Mineral Data Set'!AW88+'Phase Rock Maker'!$D$89*'Mineral Data Set'!AW89+'Phase Rock Maker'!$D$90*'Mineral Data Set'!AW90+'Phase Rock Maker'!$D$91*'Mineral Data Set'!AW91+'Phase Rock Maker'!$D$92*'Mineral Data Set'!AW92+'Phase Rock Maker'!$D$93*'Mineral Data Set'!AW93+'Phase Rock Maker'!$D$94*'Mineral Data Set'!AW94+'Phase Rock Maker'!$D$95*'Mineral Data Set'!AW95+'Phase Rock Maker'!$D$96*'Mineral Data Set'!AW96+'Phase Rock Maker'!$D$97*'Mineral Data Set'!AW97+'Phase Rock Maker'!$D$98*'Mineral Data Set'!AW98+'Phase Rock Maker'!$D$99*'Mineral Data Set'!AW99+'Phase Rock Maker'!$D$100*'Mineral Data Set'!AW100+'Phase Rock Maker'!$D$101*'Mineral Data Set'!AW101+'Phase Rock Maker'!$D$102*'Mineral Data Set'!AW102+'Phase Rock Maker'!$D$103*'Mineral Data Set'!AW103+'Phase Rock Maker'!$D$104*'Mineral Data Set'!AW104+'Phase Rock Maker'!$D$105*'Mineral Data Set'!AW105+'Phase Rock Maker'!$D$106*'Mineral Data Set'!AW106+'Phase Rock Maker'!$D$107*'Mineral Data Set'!AW107+'Phase Rock Maker'!$D$108*'Mineral Data Set'!AW108","v":0}]
[{"$f":"'Mineral Data Set'!A9","v":"Bytownite An80"},{"$f":"'Mineral Data Set'!B9","v":"Na0.2Ca0.8Al1.8Si2.2O8"},0,{"$f":"C9/$I$23*'Mineral Data Set'!C9","v":0},{"$f":"D9/'Mineral Data Set'!AR9","v":0},{"$error":"#DIV/0!"},null,"MgO",0,"",null,{"$f":"IF(C109=100,\"\",\"Modal volume NOT 100%:\")","v":""},null,{"$f":"IF(C109=100,\"\",C109)","v":""},{"$f":"IF(C109=100,\"\",\"%\")","v":""},null,{"$f":"$D$3*'Mineral Data Set'!AV3+'Phase Rock Maker'!$D$4*'Mineral Data Set'!AV4+'Phase Rock Maker'!$D$5*'Mineral Data Set'!AV5+'Phase Rock Maker'!$D$6*'Mineral Data Set'!AV6+'Phase Rock Maker'!$D$7*'Mineral Data Set'!AV7+'Phase Rock Maker'!$D$8*'Mineral Data Set'!AV8+'Phase Rock Maker'!$D$9*'Mineral Data Set'!AV9+'Phase Rock Maker'!$D$10*'Mineral Data Set'!AV10+'Phase Rock Maker'!$D$11*'Mineral Data Set'!AV11+'Phase Rock Maker'!$D$12*'Mineral Data Set'!AV12+'Phase Rock Maker'!$D$13*'Mineral Data Set'!AV13+'Phase Rock Maker'!$D$14*'Mineral Data Set'!AV14+'Phase Rock Maker'!$D$15*'Mineral Data Set'!AV15+'Phase Rock Maker'!$D$16*'Mineral Data Set'!AV16+'Phase Rock Maker'!$D$17*'Mineral Data Set'!AV17+'Phase Rock Maker'!$D$18*'Mineral Data Set'!AV18+'Phase Rock Maker'!$D$19*'Mineral Data Set'!AV19+'Phase Rock Maker'!$D$20*'Mineral Data Set'!AV20+'Phase Rock Maker'!$D$21*'Mineral Data Set'!AV21+'Phase Rock Maker'!$D$22*'Mineral Data Set'!AV22+'Phase Rock Maker'!$D$23*'Mineral Data Set'!AV23+'Phase Rock Maker'!$D$24*'Mineral Data Set'!AV24+'Phase Rock Maker'!$D$25*'Mineral Data Set'!AV25+'Phase Rock Maker'!$D$26*'Mineral Data Set'!AV26+'Phase Rock Maker'!$D$27*'Mineral Data Set'!AV27+'Phase Rock Maker'!$D$28*'Mineral Data Set'!AV28+'Phase Rock Maker'!$D$29*'Mineral Data Set'!AV29+'Phase Rock Maker'!$D$30*'Mineral Data Set'!AV30+'Phase Rock Maker'!$D$31*'Mineral Data Set'!AV31+'Phase Rock Maker'!$D$32*'Mineral Data Set'!AV32+'Phase Rock Maker'!$D$33*'Mineral Data Set'!AV33+'Phase Rock Maker'!$D$34*'Mineral Data Set'!AV34+'Phase Rock Maker'!$D$35*'Mineral Data Set'!AV35+'Phase Rock Maker'!$D$36*'Mineral Data Set'!AV36+'Phase Rock Maker'!$D$37*'Mineral Data Set'!AV37+'Phase Rock Maker'!$D$38*'Mineral Data Set'!AV38+'Phase Rock Maker'!$D$39*'Mineral Data Set'!AV39+'Phase Rock Maker'!$D$40*'Mineral Data Set'!AV40+'Phase Rock Maker'!$D$41*'Mineral Data Set'!AV41+'Phase Rock Maker'!$D$42*'Mineral Data Set'!AV42+'Phase Rock Maker'!$D$43*'Mineral Data Set'!AV43+'Phase Rock Maker'!$D$44*'Mineral Data Set'!AV44+'Phase Rock Maker'!$D$45*'Mineral Data Set'!AV45+'Phase Rock Maker'!$D$46*'Mineral Data Set'!AV46+'Phase Rock Maker'!$D$47*'Mineral Data Set'!AV47+'Phase Rock Maker'!$D$48*'Mineral Data Set'!AV48+'Phase Rock Maker'!$D$49*'Mineral Data Set'!AV49+'Phase Rock Maker'!$D$50*'Mineral Data Set'!AV50+'Phase Rock Maker'!$D$51*'Mineral Data Set'!AV51+'Phase Rock Maker'!$D$52*'Mineral Data Set'!AV52+'Phase Rock Maker'!$D$53*'Mineral Data Set'!AV53+'Phase Rock Maker'!$D$54*'Mineral Data Set'!AV54+'Phase Rock Maker'!$D$55*'Mineral Data Set'!AV55+'Phase Rock Maker'!$D$56*'Mineral Data Set'!AV56+'Phase Rock Maker'!$D$57*'Mineral Data Set'!AV57+'Phase Rock Maker'!$D$58*'Mineral Data Set'!AV58+'Phase Rock Maker'!$D$59*'Mineral Data Set'!AV59+'Phase Rock Maker'!$D$60*'Mineral Data Set'!AV60+'Phase Rock Maker'!$D$61*'Mineral Data Set'!AV61+'Phase Rock Maker'!$D$62*'Mineral Data Set'!AV62+'Phase Rock Maker'!$D$63*'Mineral Data Set'!AV63+'Phase Rock Maker'!$D$64*'Mineral Data Set'!AV64+'Phase Rock Maker'!$D$65*'Mineral Data Set'!AV65+'Phase Rock Maker'!$D$66*'Mineral Data Set'!AV66+'Phase Rock Maker'!$D$67*'Mineral Data Set'!AV67+'Phase Rock Maker'!$D$68*'Mineral Data Set'!AV68+'Phase Rock Maker'!$D$69*'Mineral Data Set'!AV69+'Phase Rock Maker'!$D$70*'Mineral Data Set'!AV70+'Phase Rock Maker'!$D$71*'Mineral Data Set'!AV71+'Phase Rock Maker'!$D$72*'Mineral Data Set'!AV72+'Phase Rock Maker'!$D$73*'Mineral Data Set'!AV73+'Phase Rock Maker'!$D$74*'Mineral Data Set'!AV74+'Phase Rock Maker'!$D$75*'Mineral Data Set'!AV75+'Phase Rock Maker'!$D$76*'Mineral Data Set'!AV76+'Phase Rock Maker'!$D$77*'Mineral Data Set'!AV77+'Phase Rock Maker'!$D$78*'Mineral Data Set'!AV78+'Phase Rock Maker'!$D$79*'Mineral Data Set'!AV79+'Phase Rock Maker'!$D$80*'Mineral Data Set'!AV80+'Phase Rock Maker'!$D$81*'Mineral Data Set'!AV81+'Phase Rock Maker'!$D$82*'Mineral Data Set'!AV82+'Phase Rock Maker'!$D$83*'Mineral Data Set'!AV83+'Phase Rock Maker'!$D$84*'Mineral Data Set'!AV84+'Phase Rock Maker'!$D$85*'Mineral Data Set'!AV85+'Phase Rock Maker'!$D$86*'Mineral Data Set'!AV86+'Phase Rock Maker'!$D$87*'Mineral Data Set'!AV87+'Phase Rock Maker'!$D$88*'Mineral Data Set'!AV88+'Phase Rock Maker'!$D$89*'Mineral Data Set'!AV89+'Phase Rock Maker'!$D$90*'Mineral Data Set'!AV90+'Phase Rock Maker'!$D$91*'Mineral Data Set'!AV91+'Phase Rock Maker'!$D$92*'Mineral Data Set'!AV92+'Phase Rock Maker'!$D$93*'Mineral Data Set'!AV93+'Phase Rock Maker'!$D$94*'Mineral Data Set'!AV94+'Phase Rock Maker'!$D$95*'Mineral Data Set'!AV95+'Phase Rock Maker'!$D$96*'Mineral Data Set'!AV96+'Phase Rock Maker'!$D$97*'Mineral Data Set'!AV97+'Phase Rock Maker'!$D$98*'Mineral Data Set'!AV98+'Phase Rock Maker'!$D$99*'Mineral Data Set'!AV99+'Phase Rock Maker'!$D$100*'Mineral Data Set'!AV100+'Phase Rock Maker'!$D$101*'Mineral Data Set'!AV101+'Phase Rock Maker'!$D$102*'Mineral Data Set'!AV102+'Phase Rock Maker'!$D$103*'Mineral Data Set'!AV103+'Phase Rock Maker'!$D$104*'Mineral Data Set'!AV104+'Phase Rock Maker'!$D$105*'Mineral Data Set'!AV105+'Phase Rock Maker'!$D$106*'Mineral Data Set'!AV106+'Phase Rock Maker'!$D$107*'Mineral Data Set'!AV107+'Phase Rock Maker'!$D$108*'Mineral Data Set'!AV108","v":0}]
[{"$f":"'Mineral Data Set'!A10","v":"Orthoclase"},{"$f":"'Mineral Data Set'!B10","v":"KAlSi3O8"},0,{"$f":"C10/$I$23*'Mineral Data Set'!C10","v":0},{"$f":"D10/'Mineral Data Set'!AR10","v":0},{"$error":"#DIV/0!"},null,"MnO",0,"",null,null,{"$f":"IF(C109=100,\"Modal volume: 100%\",\"\")","v":"Modal volume: 100%"},null,null,null,{"$f":"$D$3*'Mineral Data Set'!AY3+'Phase Rock Maker'!$D$4*'Mineral Data Set'!AY4+'Phase Rock Maker'!$D$5*'Mineral Data Set'!AY5+'Phase Rock Maker'!$D$6*'Mineral Data Set'!AY6+'Phase Rock Maker'!$D$7*'Mineral Data Set'!AY7+'Phase Rock Maker'!$D$8*'Mineral Data Set'!AY8+'Phase Rock Maker'!$D$9*'Mineral Data Set'!AY9+'Phase Rock Maker'!$D$10*'Mineral Data Set'!AY10+'Phase Rock Maker'!$D$11*'Mineral Data Set'!AY11+'Phase Rock Maker'!$D$12*'Mineral Data Set'!AY12+'Phase Rock Maker'!$D$13*'Mineral Data Set'!AY13+'Phase Rock Maker'!$D$14*'Mineral Data Set'!AY14+'Phase Rock Maker'!$D$15*'Mineral Data Set'!AY15+'Phase Rock Maker'!$D$16*'Mineral Data Set'!AY16+'Phase Rock Maker'!$D$17*'Mineral Data Set'!AY17+'Phase Rock Maker'!$D$18*'Mineral Data Set'!AY18+'Phase Rock Maker'!$D$19*'Mineral Data Set'!AY19+'Phase Rock Maker'!$D$20*'Mineral Data Set'!AY20+'Phase Rock Maker'!$D$21*'Mineral Data Set'!AY21+'Phase Rock Maker'!$D$22*'Mineral Data Set'!AY22+'Phase Rock Maker'!$D$23*'Mineral Data Set'!AY23+'Phase Rock Maker'!$D$24*'Mineral Data Set'!AY24+'Phase Rock Maker'!$D$25*'Mineral Data Set'!AY25+'Phase Rock Maker'!$D$26*'Mineral Data Set'!AY26+'Phase Rock Maker'!$D$27*'Mineral Data Set'!AY27+'Phase Rock Maker'!$D$28*'Mineral Data Set'!AY28+'Phase Rock Maker'!$D$29*'Mineral Data Set'!AY29+'Phase Rock Maker'!$D$30*'Mineral Data Set'!AY30+'Phase Rock Maker'!$D$31*'Mineral Data Set'!AY31+'Phase Rock Maker'!$D$32*'Mineral Data Set'!AY32+'Phase Rock Maker'!$D$33*'Mineral Data Set'!AY33+'Phase Rock Maker'!$D$34*'Mineral Data Set'!AY34+'Phase Rock Maker'!$D$35*'Mineral Data Set'!AY35+'Phase Rock Maker'!$D$36*'Mineral Data Set'!AY36+'Phase Rock Maker'!$D$37*'Mineral Data Set'!AY37+'Phase Rock Maker'!$D$38*'Mineral Data Set'!AY38+'Phase Rock Maker'!$D$39*'Mineral Data Set'!AY39+'Phase Rock Maker'!$D$40*'Mineral Data Set'!AY40+'Phase Rock Maker'!$D$41*'Mineral Data Set'!AY41+'Phase Rock Maker'!$D$42*'Mineral Data Set'!AY42+'Phase Rock Maker'!$D$43*'Mineral Data Set'!AY43+'Phase Rock Maker'!$D$44*'Mineral Data Set'!AY44+'Phase Rock Maker'!$D$45*'Mineral Data Set'!AY45+'Phase Rock Maker'!$D$46*'Mineral Data Set'!AY46+'Phase Rock Maker'!$D$47*'Mineral Data Set'!AY47+'Phase Rock Maker'!$D$48*'Mineral Data Set'!AY48+'Phase Rock Maker'!$D$49*'Mineral Data Set'!AY49+'Phase Rock Maker'!$D$50*'Mineral Data Set'!AY50+'Phase Rock Maker'!$D$51*'Mineral Data Set'!AY51+'Phase Rock Maker'!$D$52*'Mineral Data Set'!AY52+'Phase Rock Maker'!$D$53*'Mineral Data Set'!AY53+'Phase Rock Maker'!$D$54*'Mineral Data Set'!AY54+'Phase Rock Maker'!$D$55*'Mineral Data Set'!AY55+'Phase Rock Maker'!$D$56*'Mineral Data Set'!AY56+'Phase Rock Maker'!$D$57*'Mineral Data Set'!AY57+'Phase Rock Maker'!$D$58*'Mineral Data Set'!AY58+'Phase Rock Maker'!$D$59*'Mineral Data Set'!AY59+'Phase Rock Maker'!$D$60*'Mineral Data Set'!AY60+'Phase Rock Maker'!$D$61*'Mineral Data Set'!AY61+'Phase Rock Maker'!$D$62*'Mineral Data Set'!AY62+'Phase Rock Maker'!$D$63*'Mineral Data Set'!AY63+'Phase Rock Maker'!$D$64*'Mineral Data Set'!AY64+'Phase Rock Maker'!$D$65*'Mineral Data Set'!AY65+'Phase Rock Maker'!$D$66*'Mineral Data Set'!AY66+'Phase Rock Maker'!$D$67*'Mineral Data Set'!AY67+'Phase Rock Maker'!$D$68*'Mineral Data Set'!AY68+'Phase Rock Maker'!$D$69*'Mineral Data Set'!AY69+'Phase Rock Maker'!$D$70*'Mineral Data Set'!AY70+'Phase Rock Maker'!$D$71*'Mineral Data Set'!AY71+'Phase Rock Maker'!$D$72*'Mineral Data Set'!AY72+'Phase Rock Maker'!$D$73*'Mineral Data Set'!AY73+'Phase Rock Maker'!$D$74*'Mineral Data Set'!AY74+'Phase Rock Maker'!$D$75*'Mineral Data Set'!AY75+'Phase Rock Maker'!$D$76*'Mineral Data Set'!AY76+'Phase Rock Maker'!$D$77*'Mineral Data Set'!AY77+'Phase Rock Maker'!$D$78*'Mineral Data Set'!AY78+'Phase Rock Maker'!$D$79*'Mineral Data Set'!AY79+'Phase Rock Maker'!$D$80*'Mineral Data Set'!AY80+'Phase Rock Maker'!$D$81*'Mineral Data Set'!AY81+'Phase Rock Maker'!$D$82*'Mineral Data Set'!AY82+'Phase Rock Maker'!$D$83*'Mineral Data Set'!AY83+'Phase Rock Maker'!$D$84*'Mineral Data Set'!AY84+'Phase Rock Maker'!$D$85*'Mineral Data Set'!AY85+'Phase Rock Maker'!$D$86*'Mineral Data Set'!AY86+'Phase Rock Maker'!$D$87*'Mineral Data Set'!AY87+'Phase Rock Maker'!$D$88*'Mineral Data Set'!AY88+'Phase Rock Maker'!$D$89*'Mineral Data Set'!AY89+'Phase Rock Maker'!$D$90*'Mineral Data Set'!AY90+'Phase Rock Maker'!$D$91*'Mineral Data Set'!AY91+'Phase Rock Maker'!$D$92*'Mineral Data Set'!AY92+'Phase Rock Maker'!$D$93*'Mineral Data Set'!AY93+'Phase Rock Maker'!$D$94*'Mineral Data Set'!AY94+'Phase Rock Maker'!$D$95*'Mineral Data Set'!AY95+'Phase Rock Maker'!$D$96*'Mineral Data Set'!AY96+'Phase Rock Maker'!$D$97*'Mineral Data Set'!AY97+'Phase Rock Maker'!$D$98*'Mineral Data Set'!AY98+'Phase Rock Maker'!$D$99*'Mineral Data Set'!AY99+'Phase Rock Maker'!$D$100*'Mineral Data Set'!AY100+'Phase Rock Maker'!$D$101*'Mineral Data Set'!AY101+'Phase Rock Maker'!$D$102*'Mineral Data Set'!AY102+'Phase Rock Maker'!$D$103*'Mineral Data Set'!AY103+'Phase Rock Maker'!$D$104*'Mineral Data Set'!AY104+'Phase Rock Maker'!$D$105*'Mineral Data Set'!AY105+'Phase Rock Maker'!$D$106*'Mineral Data Set'!AY106+'Phase Rock Maker'!$D$107*'Mineral Data Set'!AY107+'Phase Rock Maker'!$D$108*'Mineral Data Set'!AY108","v":0}]
[{"$f":"'Mineral Data Set'!A11","v":"Perthite Or70Ab30"},{"$f":"'Mineral Data Set'!B11","v":"K0.7Na0.3AlSi3O8"},0,{"$f":"C11/$I$23*'Mineral Data Set'!C11","v":0},{"$f":"D11/'Mineral Data Set'!AR11","v":0},{"$error":"#DIV/0!"},null,"CaO",0,"",null,null,null,null,null,null,{"$f":"$D$3*'Mineral Data Set'!AZ3+'Phase Rock Maker'!$D$4*'Mineral Data Set'!AZ4+'Phase Rock Maker'!$D$5*'Mineral Data Set'!AZ5+'Phase Rock Maker'!$D$6*'Mineral Data Set'!AZ6+'Phase Rock Maker'!$D$7*'Mineral Data Set'!AZ7+'Phase Rock Maker'!$D$8*'Mineral Data Set'!AZ8+'Phase Rock Maker'!$D$9*'Mineral Data Set'!AZ9+'Phase Rock Maker'!$D$10*'Mineral Data Set'!AZ10+'Phase Rock Maker'!$D$11*'Mineral Data Set'!AZ11+'Phase Rock Maker'!$D$12*'Mineral Data Set'!AZ12+'Phase Rock Maker'!$D$13*'Mineral Data Set'!AZ13+'Phase Rock Maker'!$D$14*'Mineral Data Set'!AZ14+'Phase Rock Maker'!$D$15*'Mineral Data Set'!AZ15+'Phase Rock Maker'!$D$16*'Mineral Data Set'!AZ16+'Phase Rock Maker'!$D$17*'Mineral Data Set'!AZ17+'Phase Rock Maker'!$D$18*'Mineral Data Set'!AZ18+'Phase Rock Maker'!$D$19*'Mineral Data Set'!AZ19+'Phase Rock Maker'!$D$20*'Mineral Data Set'!AZ20+'Phase Rock Maker'!$D$21*'Mineral Data Set'!AZ21+'Phase Rock Maker'!$D$22*'Mineral Data Set'!AZ22+'Phase Rock Maker'!$D$23*'Mineral Data Set'!AZ23+'Phase Rock Maker'!$D$24*'Mineral Data Set'!AZ24+'Phase Rock Maker'!$D$25*'Mineral Data Set'!AZ25+'Phase Rock Maker'!$D$26*'Mineral Data Set'!AZ26+'Phase Rock Maker'!$D$27*'Mineral Data Set'!AZ27+'Phase Rock Maker'!$D$28*'Mineral Data Set'!AZ28+'Phase Rock Maker'!$D$29*'Mineral Data Set'!AZ29+'Phase Rock Maker'!$D$30*'Mineral Data Set'!AZ30+'Phase Rock Maker'!$D$31*'Mineral Data Set'!AZ31+'Phase Rock Maker'!$D$32*'Mineral Data Set'!AZ32+'Phase Rock Maker'!$D$33*'Mineral Data Set'!AZ33+'Phase Rock Maker'!$D$34*'Mineral Data Set'!AZ34+'Phase Rock Maker'!$D$35*'Mineral Data Set'!AZ35+'Phase Rock Maker'!$D$36*'Mineral Data Set'!AZ36+'Phase Rock Maker'!$D$37*'Mineral Data Set'!AZ37+'Phase Rock Maker'!$D$38*'Mineral Data Set'!AZ38+'Phase Rock Maker'!$D$39*'Mineral Data Set'!AZ39+'Phase Rock Maker'!$D$40*'Mineral Data Set'!AZ40+'Phase Rock Maker'!$D$41*'Mineral Data Set'!AZ41+'Phase Rock Maker'!$D$42*'Mineral Data Set'!AZ42+'Phase Rock Maker'!$D$43*'Mineral Data Set'!AZ43+'Phase Rock Maker'!$D$44*'Mineral Data Set'!AZ44+'Phase Rock Maker'!$D$45*'Mineral Data Set'!AZ45+'Phase Rock Maker'!$D$46*'Mineral Data Set'!AZ46+'Phase Rock Maker'!$D$47*'Mineral Data Set'!AZ47+'Phase Rock Maker'!$D$48*'Mineral Data Set'!AZ48+'Phase Rock Maker'!$D$49*'Mineral Data Set'!AZ49+'Phase Rock Maker'!$D$50*'Mineral Data Set'!AZ50+'Phase Rock Maker'!$D$51*'Mineral Data Set'!AZ51+'Phase Rock Maker'!$D$52*'Mineral Data Set'!AZ52+'Phase Rock Maker'!$D$53*'Mineral Data Set'!AZ53+'Phase Rock Maker'!$D$54*'Mineral Data Set'!AZ54+'Phase Rock Maker'!$D$55*'Mineral Data Set'!AZ55+'Phase Rock Maker'!$D$56*'Mineral Data Set'!AZ56+'Phase Rock Maker'!$D$57*'Mineral Data Set'!AZ57+'Phase Rock Maker'!$D$58*'Mineral Data Set'!AZ58+'Phase Rock Maker'!$D$59*'Mineral Data Set'!AZ59+'Phase Rock Maker'!$D$60*'Mineral Data Set'!AZ60+'Phase Rock Maker'!$D$61*'Mineral Data Set'!AZ61+'Phase Rock Maker'!$D$62*'Mineral Data Set'!AZ62+'Phase Rock Maker'!$D$63*'Mineral Data Set'!AZ63+'Phase Rock Maker'!$D$64*'Mineral Data Set'!AZ64+'Phase Rock Maker'!$D$65*'Mineral Data Set'!AZ65+'Phase Rock Maker'!$D$66*'Mineral Data Set'!AZ66+'Phase Rock Maker'!$D$67*'Mineral Data Set'!AZ67+'Phase Rock Maker'!$D$68*'Mineral Data Set'!AZ68+'Phase Rock Maker'!$D$69*'Mineral Data Set'!AZ69+'Phase Rock Maker'!$D$70*'Mineral Data Set'!AZ70+'Phase Rock Maker'!$D$71*'Mineral Data Set'!AZ71+'Phase Rock Maker'!$D$72*'Mineral Data Set'!AZ72+'Phase Rock Maker'!$D$73*'Mineral Data Set'!AZ73+'Phase Rock Maker'!$D$74*'Mineral Data Set'!AZ74+'Phase Rock Maker'!$D$75*'Mineral Data Set'!AZ75+'Phase Rock Maker'!$D$76*'Mineral Data Set'!AZ76+'Phase Rock Maker'!$D$77*'Mineral Data Set'!AZ77+'Phase Rock Maker'!$D$78*'Mineral Data Set'!AZ78+'Phase Rock Maker'!$D$79*'Mineral Data Set'!AZ79+'Phase Rock Maker'!$D$80*'Mineral Data Set'!AZ80+'Phase Rock Maker'!$D$81*'Mineral Data Set'!AZ81+'Phase Rock Maker'!$D$82*'Mineral Data Set'!AZ82+'Phase Rock Maker'!$D$83*'Mineral Data Set'!AZ83+'Phase Rock Maker'!$D$84*'Mineral Data Set'!AZ84+'Phase Rock Maker'!$D$85*'Mineral Data Set'!AZ85+'Phase Rock Maker'!$D$86*'Mineral Data Set'!AZ86+'Phase Rock Maker'!$D$87*'Mineral Data Set'!AZ87+'Phase Rock Maker'!$D$88*'Mineral Data Set'!AZ88+'Phase Rock Maker'!$D$89*'Mineral Data Set'!AZ89+'Phase Rock Maker'!$D$90*'Mineral Data Set'!AZ90+'Phase Rock Maker'!$D$91*'Mineral Data Set'!AZ91+'Phase Rock Maker'!$D$92*'Mineral Data Set'!AZ92+'Phase Rock Maker'!$D$93*'Mineral Data Set'!AZ93+'Phase Rock Maker'!$D$94*'Mineral Data Set'!AZ94+'Phase Rock Maker'!$D$95*'Mineral Data Set'!AZ95+'Phase Rock Maker'!$D$96*'Mineral Data Set'!AZ96+'Phase Rock Maker'!$D$97*'Mineral Data Set'!AZ97+'Phase Rock Maker'!$D$98*'Mineral Data Set'!AZ98+'Phase Rock Maker'!$D$99*'Mineral Data Set'!AZ99+'Phase Rock Maker'!$D$100*'Mineral Data Set'!AZ100+'Phase Rock Maker'!$D$101*'Mineral Data Set'!AZ101+'Phase Rock Maker'!$D$102*'Mineral Data Set'!AZ102+'Phase Rock Maker'!$D$103*'Mineral Data Set'!AZ103+'Phase Rock Maker'!$D$104*'Mineral Data Set'!AZ104+'Phase Rock Maker'!$D$105*'Mineral Data Set'!AZ105+'Phase Rock Maker'!$D$106*'Mineral Data Set'!AZ106+'Phase Rock Maker'!$D$107*'Mineral Data Set'!AZ107+'Phase Rock Maker'!$D$108*'Mineral Data Set'!AZ108","v":0}]
[{"$f":"'Mineral Data Set'!A12","v":"Mesoperthite Or50Ab50"},{"$f":"'Mineral Data Set'!B12","v":"K0.5Na0.5AlSi3O8"},0,{"$f":"C12/$I$23*'Mineral Data Set'!C12","v":0},{"$f":"D12/'Mineral Data Set'!AR12","v":0},{"$error":"#DIV/0!"},null,"Na2O",0,"",null,null,null,null,null,null,{"$f":"$D$3*'Mineral Data Set'!BB3+'Phase Rock Maker'!$D$4*'Mineral Data Set'!BB4+'Phase Rock Maker'!$D$5*'Mineral Data Set'!BB5+'Phase Rock Maker'!$D$6*'Mineral Data Set'!BB6+'Phase Rock Maker'!$D$7*'Mineral Data Set'!BB7+'Phase Rock Maker'!$D$8*'Mineral Data Set'!BB8+'Phase Rock Maker'!$D$9*'Mineral Data Set'!BB9+'Phase Rock Maker'!$D$10*'Mineral Data Set'!BB10+'Phase Rock Maker'!$D$11*'Mineral Data Set'!BB11+'Phase Rock Maker'!$D$12*'Mineral Data Set'!BB12+'Phase Rock Maker'!$D$13*'Mineral Data Set'!BB13+'Phase Rock Maker'!$D$14*'Mineral Data Set'!BB14+'Phase Rock Maker'!$D$15*'Mineral Data Set'!BB15+'Phase Rock Maker'!$D$16*'Mineral Data Set'!BB16+'Phase Rock Maker'!$D$17*'Mineral Data Set'!BB17+'Phase Rock Maker'!$D$18*'Mineral Data Set'!BB18+'Phase Rock Maker'!$D$19*'Mineral Data Set'!BB19+'Phase Rock Maker'!$D$20*'Mineral Data Set'!BB20+'Phase Rock Maker'!$D$21*'Mineral Data Set'!BB21+'Phase Rock Maker'!$D$22*'Mineral Data Set'!BB22+'Phase Rock Maker'!$D$23*'Mineral Data Set'!BB23+'Phase Rock Maker'!$D$24*'Mineral Data Set'!BB24+'Phase Rock Maker'!$D$25*'Mineral Data Set'!BB25+'Phase Rock Maker'!$D$26*'Mineral Data Set'!BB26+'Phase Rock Maker'!$D$27*'Mineral Data Set'!BB27+'Phase Rock Maker'!$D$28*'Mineral Data Set'!BB28+'Phase Rock Maker'!$D$29*'Mineral Data Set'!BB29+'Phase Rock Maker'!$D$30*'Mineral Data Set'!BB30+'Phase Rock Maker'!$D$31*'Mineral Data Set'!BB31+'Phase Rock Maker'!$D$32*'Mineral Data Set'!BB32+'Phase Rock Maker'!$D$33*'Mineral Data Set'!BB33+'Phase Rock Maker'!$D$34*'Mineral Data Set'!BB34+'Phase Rock Maker'!$D$35*'Mineral Data Set'!BB35+'Phase Rock Maker'!$D$36*'Mineral Data Set'!BB36+'Phase Rock Maker'!$D$37*'Mineral Data Set'!BB37+'Phase Rock Maker'!$D$38*'Mineral Data Set'!BB38+'Phase Rock Maker'!$D$39*'Mineral Data Set'!BB39+'Phase Rock Maker'!$D$40*'Mineral Data Set'!BB40+'Phase Rock Maker'!$D$41*'Mineral Data Set'!BB41+'Phase Rock Maker'!$D$42*'Mineral Data Set'!BB42+'Phase Rock Maker'!$D$43*'Mineral Data Set'!BB43+'Phase Rock Maker'!$D$44*'Mineral Data Set'!BB44+'Phase Rock Maker'!$D$45*'Mineral Data Set'!BB45+'Phase Rock Maker'!$D$46*'Mineral Data Set'!BB46+'Phase Rock Maker'!$D$47*'Mineral Data Set'!BB47+'Phase Rock Maker'!$D$48*'Mineral Data Set'!BB48+'Phase Rock Maker'!$D$49*'Mineral Data Set'!BB49+'Phase Rock Maker'!$D$50*'Mineral Data Set'!BB50+'Phase Rock Maker'!$D$51*'Mineral Data Set'!BB51+'Phase Rock Maker'!$D$52*'Mineral Data Set'!BB52+'Phase Rock Maker'!$D$53*'Mineral Data Set'!BB53+'Phase Rock Maker'!$D$54*'Mineral Data Set'!BB54+'Phase Rock Maker'!$D$55*'Mineral Data Set'!BB55+'Phase Rock Maker'!$D$56*'Mineral Data Set'!BB56+'Phase Rock Maker'!$D$57*'Mineral Data Set'!BB57+'Phase Rock Maker'!$D$58*'Mineral Data Set'!BB58+'Phase Rock Maker'!$D$59*'Mineral Data Set'!BB59+'Phase Rock Maker'!$D$60*'Mineral Data Set'!BB60+'Phase Rock Maker'!$D$61*'Mineral Data Set'!BB61+'Phase Rock Maker'!$D$62*'Mineral Data Set'!BB62+'Phase Rock Maker'!$D$63*'Mineral Data Set'!BB63+'Phase Rock Maker'!$D$64*'Mineral Data Set'!BB64+'Phase Rock Maker'!$D$65*'Mineral Data Set'!BB65+'Phase Rock Maker'!$D$66*'Mineral Data Set'!BB66+'Phase Rock Maker'!$D$67*'Mineral Data Set'!BB67+'Phase Rock Maker'!$D$68*'Mineral Data Set'!BB68+'Phase Rock Maker'!$D$69*'Mineral Data Set'!BB69+'Phase Rock Maker'!$D$70*'Mineral Data Set'!BB70+'Phase Rock Maker'!$D$71*'Mineral Data Set'!BB71+'Phase Rock Maker'!$D$72*'Mineral Data Set'!BB72+'Phase Rock Maker'!$D$73*'Mineral Data Set'!BB73+'Phase Rock Maker'!$D$74*'Mineral Data Set'!BB74+'Phase Rock Maker'!$D$75*'Mineral Data Set'!BB75+'Phase Rock Maker'!$D$76*'Mineral Data Set'!BB76+'Phase Rock Maker'!$D$77*'Mineral Data Set'!BB77+'Phase Rock Maker'!$D$78*'Mineral Data Set'!BB78+'Phase Rock Maker'!$D$79*'Mineral Data Set'!BB79+'Phase Rock Maker'!$D$80*'Mineral Data Set'!BB80+'Phase Rock Maker'!$D$81*'Mineral Data Set'!BB81+'Phase Rock Maker'!$D$82*'Mineral Data Set'!BB82+'Phase Rock Maker'!$D$83*'Mineral Data Set'!BB83+'Phase Rock Maker'!$D$84*'Mineral Data Set'!BB84+'Phase Rock Maker'!$D$85*'Mineral Data Set'!BB85+'Phase Rock Maker'!$D$86*'Mineral Data Set'!BB86+'Phase Rock Maker'!$D$87*'Mineral Data Set'!BB87+'Phase Rock Maker'!$D$88*'Mineral Data Set'!BB88+'Phase Rock Maker'!$D$89*'Mineral Data Set'!BB89+'Phase Rock Maker'!$D$90*'Mineral Data Set'!BB90+'Phase Rock Maker'!$D$91*'Mineral Data Set'!BB91+'Phase Rock Maker'!$D$92*'Mineral Data Set'!BB92+'Phase Rock Maker'!$D$93*'Mineral Data Set'!BB93+'Phase Rock Maker'!$D$94*'Mineral Data Set'!BB94+'Phase Rock Maker'!$D$95*'Mineral Data Set'!BB95+'Phase Rock Maker'!$D$96*'Mineral Data Set'!BB96+'Phase Rock Maker'!$D$97*'Mineral Data Set'!BB97+'Phase Rock Maker'!$D$98*'Mineral Data Set'!BB98+'Phase Rock Maker'!$D$99*'Mineral Data Set'!BB99+'Phase Rock Maker'!$D$100*'Mineral Data Set'!BB100+'Phase Rock Maker'!$D$101*'Mineral Data Set'!BB101+'Phase Rock Maker'!$D$102*'Mineral Data Set'!BB102+'Phase Rock Maker'!$D$103*'Mineral Data Set'!BB103+'Phase Rock Maker'!$D$104*'Mineral Data Set'!BB104+'Phase Rock Maker'!$D$105*'Mineral Data Set'!BB105+'Phase Rock Maker'!$D$106*'Mineral Data Set'!BB106+'Phase Rock Maker'!$D$107*'Mineral Data Set'!BB107+'Phase Rock Maker'!$D$108*'Mineral Data Set'!BB108","v":0}]
[{"$f":"'Mineral Data Set'!A13","v":"Mesoperthite Or30Ab70"},{"$f":"'Mineral Data Set'!B13","v":"K0.3Na0.7AlSi3O8"},0,{"$f":"C13/$I$23*'Mineral Data Set'!C13","v":0},{"$f":"D13/'Mineral Data Set'!AR13","v":0},{"$error":"#DIV/0!"},null,"K2O",0,"",null,null,null,null,null,null,{"$f":"$D$3*'Mineral Data Set'!BA3+'Phase Rock Maker'!$D$4*'Mineral Data Set'!BA4+'Phase Rock Maker'!$D$5*'Mineral Data Set'!BA5+'Phase Rock Maker'!$D$6*'Mineral Data Set'!BA6+'Phase Rock Maker'!$D$7*'Mineral Data Set'!BA7+'Phase Rock Maker'!$D$8*'Mineral Data Set'!BA8+'Phase Rock Maker'!$D$9*'Mineral Data Set'!BA9+'Phase Rock Maker'!$D$10*'Mineral Data Set'!BA10+'Phase Rock Maker'!$D$11*'Mineral Data Set'!BA11+'Phase Rock Maker'!$D$12*'Mineral Data Set'!BA12+'Phase Rock Maker'!$D$13*'Mineral Data Set'!BA13+'Phase Rock Maker'!$D$14*'Mineral Data Set'!BA14+'Phase Rock Maker'!$D$15*'Mineral Data Set'!BA15+'Phase Rock Maker'!$D$16*'Mineral Data Set'!BA16+'Phase Rock Maker'!$D$17*'Mineral Data Set'!BA17+'Phase Rock Maker'!$D$18*'Mineral Data Set'!BA18+'Phase Rock Maker'!$D$19*'Mineral Data Set'!BA19+'Phase Rock Maker'!$D$20*'Mineral Data Set'!BA20+'Phase Rock Maker'!$D$21*'Mineral Data Set'!BA21+'Phase Rock Maker'!$D$22*'Mineral Data Set'!BA22+'Phase Rock Maker'!$D$23*'Mineral Data Set'!BA23+'Phase Rock Maker'!$D$24*'Mineral Data Set'!BA24+'Phase Rock Maker'!$D$25*'Mineral Data Set'!BA25+'Phase Rock Maker'!$D$26*'Mineral Data Set'!BA26+'Phase Rock Maker'!$D$27*'Mineral Data Set'!BA27+'Phase Rock Maker'!$D$28*'Mineral Data Set'!BA28+'Phase Rock Maker'!$D$29*'Mineral Data Set'!BA29+'Phase Rock Maker'!$D$30*'Mineral Data Set'!BA30+'Phase Rock Maker'!$D$31*'Mineral Data Set'!BA31+'Phase Rock Maker'!$D$32*'Mineral Data Set'!BA32+'Phase Rock Maker'!$D$33*'Mineral Data Set'!BA33+'Phase Rock Maker'!$D$34*'Mineral Data Set'!BA34+'Phase Rock Maker'!$D$35*'Mineral Data Set'!BA35+'Phase Rock Maker'!$D$36*'Mineral Data Set'!BA36+'Phase Rock Maker'!$D$37*'Mineral Data Set'!BA37+'Phase Rock Maker'!$D$38*'Mineral Data Set'!BA38+'Phase Rock Maker'!$D$39*'Mineral Data Set'!BA39+'Phase Rock Maker'!$D$40*'Mineral Data Set'!BA40+'Phase Rock Maker'!$D$41*'Mineral Data Set'!BA41+'Phase Rock Maker'!$D$42*'Mineral Data Set'!BA42+'Phase Rock Maker'!$D$43*'Mineral Data Set'!BA43+'Phase Rock Maker'!$D$44*'Mineral Data Set'!BA44+'Phase Rock Maker'!$D$45*'Mineral Data Set'!BA45+'Phase Rock Maker'!$D$46*'Mineral Data Set'!BA46+'Phase Rock Maker'!$D$47*'Mineral Data Set'!BA47+'Phase Rock Maker'!$D$48*'Mineral Data Set'!BA48+'Phase Rock Maker'!$D$49*'Mineral Data Set'!BA49+'Phase Rock Maker'!$D$50*'Mineral Data Set'!BA50+'Phase Rock Maker'!$D$51*'Mineral Data Set'!BA51+'Phase Rock Maker'!$D$52*'Mineral Data Set'!BA52+'Phase Rock Maker'!$D$53*'Mineral Data Set'!BA53+'Phase Rock Maker'!$D$54*'Mineral Data Set'!BA54+'Phase Rock Maker'!$D$55*'Mineral Data Set'!BA55+'Phase Rock Maker'!$D$56*'Mineral Data Set'!BA56+'Phase Rock Maker'!$D$57*'Mineral Data Set'!BA57+'Phase Rock Maker'!$D$58*'Mineral Data Set'!BA58+'Phase Rock Maker'!$D$59*'Mineral Data Set'!BA59+'Phase Rock Maker'!$D$60*'Mineral Data Set'!BA60+'Phase Rock Maker'!$D$61*'Mineral Data Set'!BA61+'Phase Rock Maker'!$D$62*'Mineral Data Set'!BA62+'Phase Rock Maker'!$D$63*'Mineral Data Set'!BA63+'Phase Rock Maker'!$D$64*'Mineral Data Set'!BA64+'Phase Rock Maker'!$D$65*'Mineral Data Set'!BA65+'Phase Rock Maker'!$D$66*'Mineral Data Set'!BA66+'Phase Rock Maker'!$D$67*'Mineral Data Set'!BA67+'Phase Rock Maker'!$D$68*'Mineral Data Set'!BA68+'Phase Rock Maker'!$D$69*'Mineral Data Set'!BA69+'Phase Rock Maker'!$D$70*'Mineral Data Set'!BA70+'Phase Rock Maker'!$D$71*'Mineral Data Set'!BA71+'Phase Rock Maker'!$D$72*'Mineral Data Set'!BA72+'Phase Rock Maker'!$D$73*'Mineral Data Set'!BA73+'Phase Rock Maker'!$D$74*'Mineral Data Set'!BA74+'Phase Rock Maker'!$D$75*'Mineral Data Set'!BA75+'Phase Rock Maker'!$D$76*'Mineral Data Set'!BA76+'Phase Rock Maker'!$D$77*'Mineral Data Set'!BA77+'Phase Rock Maker'!$D$78*'Mineral Data Set'!BA78+'Phase Rock Maker'!$D$79*'Mineral Data Set'!BA79+'Phase Rock Maker'!$D$80*'Mineral Data Set'!BA80+'Phase Rock Maker'!$D$81*'Mineral Data Set'!BA81+'Phase Rock Maker'!$D$82*'Mineral Data Set'!BA82+'Phase Rock Maker'!$D$83*'Mineral Data Set'!BA83+'Phase Rock Maker'!$D$84*'Mineral Data Set'!BA84+'Phase Rock Maker'!$D$85*'Mineral Data Set'!BA85+'Phase Rock Maker'!$D$86*'Mineral Data Set'!BA86+'Phase Rock Maker'!$D$87*'Mineral Data Set'!BA87+'Phase Rock Maker'!$D$88*'Mineral Data Set'!BA88+'Phase Rock Maker'!$D$89*'Mineral Data Set'!BA89+'Phase Rock Maker'!$D$90*'Mineral Data Set'!BA90+'Phase Rock Maker'!$D$91*'Mineral Data Set'!BA91+'Phase Rock Maker'!$D$92*'Mineral Data Set'!BA92+'Phase Rock Maker'!$D$93*'Mineral Data Set'!BA93+'Phase Rock Maker'!$D$94*'Mineral Data Set'!BA94+'Phase Rock Maker'!$D$95*'Mineral Data Set'!BA95+'Phase Rock Maker'!$D$96*'Mineral Data Set'!BA96+'Phase Rock Maker'!$D$97*'Mineral Data Set'!BA97+'Phase Rock Maker'!$D$98*'Mineral Data Set'!BA98+'Phase Rock Maker'!$D$99*'Mineral Data Set'!BA99+'Phase Rock Maker'!$D$100*'Mineral Data Set'!BA100+'Phase Rock Maker'!$D$101*'Mineral Data Set'!BA101+'Phase Rock Maker'!$D$102*'Mineral Data Set'!BA102+'Phase Rock Maker'!$D$103*'Mineral Data Set'!BA103+'Phase Rock Maker'!$D$104*'Mineral Data Set'!BA104+'Phase Rock Maker'!$D$105*'Mineral Data Set'!BA105+'Phase Rock Maker'!$D$106*'Mineral Data Set'!BA106+'Phase Rock Maker'!$D$107*'Mineral Data Set'!BA107+'Phase Rock Maker'!$D$108*'Mineral Data Set'!BA108","v":0}]
[{"$f":"'Mineral Data Set'!A14","v":"Annite"},{"$f":"'Mineral Data Set'!B14","v":"KFe2+3(Si3Al)O10(OH)2"},0,{"$f":"C14/$I$23*'Mineral Data Set'!C14","v":0},{"$f":"D14/'Mineral Data Set'!AR14","v":0},{"$error":"#DIV/0!"},null,"BaO",0,"",null,null,null,null,null,null,{"$f":"$D$3*'Mineral Data Set'!BC3+'Phase Rock Maker'!$D$4*'Mineral Data Set'!BC4+'Phase Rock Maker'!$D$5*'Mineral Data Set'!BC5+'Phase Rock Maker'!$D$6*'Mineral Data Set'!BC6+'Phase Rock Maker'!$D$7*'Mineral Data Set'!BC7+'Phase Rock Maker'!$D$8*'Mineral Data Set'!BC8+'Phase Rock Maker'!$D$9*'Mineral Data Set'!BC9+'Phase Rock Maker'!$D$10*'Mineral Data Set'!BC10+'Phase Rock Maker'!$D$11*'Mineral Data Set'!BC11+'Phase Rock Maker'!$D$12*'Mineral Data Set'!BC12+'Phase Rock Maker'!$D$13*'Mineral Data Set'!BC13+'Phase Rock Maker'!$D$14*'Mineral Data Set'!BC14+'Phase Rock Maker'!$D$15*'Mineral Data Set'!BC15+'Phase Rock Maker'!$D$16*'Mineral Data Set'!BC16+'Phase Rock Maker'!$D$17*'Mineral Data Set'!BC17+'Phase Rock Maker'!$D$18*'Mineral Data Set'!BC18+'Phase Rock Maker'!$D$19*'Mineral Data Set'!BC19+'Phase Rock Maker'!$D$20*'Mineral Data Set'!BC20+'Phase Rock Maker'!$D$21*'Mineral Data Set'!BC21+'Phase Rock Maker'!$D$22*'Mineral Data Set'!BC22+'Phase Rock Maker'!$D$23*'Mineral Data Set'!BC23+'Phase Rock Maker'!$D$24*'Mineral Data Set'!BC24+'Phase Rock Maker'!$D$25*'Mineral Data Set'!BC25+'Phase Rock Maker'!$D$26*'Mineral Data Set'!BC26+'Phase Rock Maker'!$D$27*'Mineral Data Set'!BC27+'Phase Rock Maker'!$D$28*'Mineral Data Set'!BC28+'Phase Rock Maker'!$D$29*'Mineral Data Set'!BC29+'Phase Rock Maker'!$D$30*'Mineral Data Set'!BC30+'Phase Rock Maker'!$D$31*'Mineral Data Set'!BC31+'Phase Rock Maker'!$D$32*'Mineral Data Set'!BC32+'Phase Rock Maker'!$D$33*'Mineral Data Set'!BC33+'Phase Rock Maker'!$D$34*'Mineral Data Set'!BC34+'Phase Rock Maker'!$D$35*'Mineral Data Set'!BC35+'Phase Rock Maker'!$D$36*'Mineral Data Set'!BC36+'Phase Rock Maker'!$D$37*'Mineral Data Set'!BC37+'Phase Rock Maker'!$D$38*'Mineral Data Set'!BC38+'Phase Rock Maker'!$D$39*'Mineral Data Set'!BC39+'Phase Rock Maker'!$D$40*'Mineral Data Set'!BC40+'Phase Rock Maker'!$D$41*'Mineral Data Set'!BC41+'Phase Rock Maker'!$D$42*'Mineral Data Set'!BC42+'Phase Rock Maker'!$D$43*'Mineral Data Set'!BC43+'Phase Rock Maker'!$D$44*'Mineral Data Set'!BC44+'Phase Rock Maker'!$D$45*'Mineral Data Set'!BC45+'Phase Rock Maker'!$D$46*'Mineral Data Set'!BC46+'Phase Rock Maker'!$D$47*'Mineral Data Set'!BC47+'Phase Rock Maker'!$D$48*'Mineral Data Set'!BC48+'Phase Rock Maker'!$D$49*'Mineral Data Set'!BC49+'Phase Rock Maker'!$D$50*'Mineral Data Set'!BC50+'Phase Rock Maker'!$D$51*'Mineral Data Set'!BC51+'Phase Rock Maker'!$D$52*'Mineral Data Set'!BC52+'Phase Rock Maker'!$D$53*'Mineral Data Set'!BC53+'Phase Rock Maker'!$D$54*'Mineral Data Set'!BC54+'Phase Rock Maker'!$D$55*'Mineral Data Set'!BC55+'Phase Rock Maker'!$D$56*'Mineral Data Set'!BC56+'Phase Rock Maker'!$D$57*'Mineral Data Set'!BC57+'Phase Rock Maker'!$D$58*'Mineral Data Set'!BC58+'Phase Rock Maker'!$D$59*'Mineral Data Set'!BC59+'Phase Rock Maker'!$D$60*'Mineral Data Set'!BC60+'Phase Rock Maker'!$D$61*'Mineral Data Set'!BC61+'Phase Rock Maker'!$D$62*'Mineral Data Set'!BC62+'Phase Rock Maker'!$D$63*'Mineral Data Set'!BC63+'Phase Rock Maker'!$D$64*'Mineral Data Set'!BC64+'Phase Rock Maker'!$D$65*'Mineral Data Set'!BC65+'Phase Rock Maker'!$D$66*'Mineral Data Set'!BC66+'Phase Rock Maker'!$D$67*'Mineral Data Set'!BC67+'Phase Rock Maker'!$D$68*'Mineral Data Set'!BC68+'Phase Rock Maker'!$D$69*'Mineral Data Set'!BC69+'Phase Rock Maker'!$D$70*'Mineral Data Set'!BC70+'Phase Rock Maker'!$D$71*'Mineral Data Set'!BC71+'Phase Rock Maker'!$D$72*'Mineral Data Set'!BC72+'Phase Rock Maker'!$D$73*'Mineral Data Set'!BC73+'Phase Rock Maker'!$D$74*'Mineral Data Set'!BC74+'Phase Rock Maker'!$D$75*'Mineral Data Set'!BC75+'Phase Rock Maker'!$D$76*'Mineral Data Set'!BC76+'Phase Rock Maker'!$D$77*'Mineral Data Set'!BC77+'Phase Rock Maker'!$D$78*'Mineral Data Set'!BC78+'Phase Rock Maker'!$D$79*'Mineral Data Set'!BC79+'Phase Rock Maker'!$D$80*'Mineral Data Set'!BC80+'Phase Rock Maker'!$D$81*'Mineral Data Set'!BC81+'Phase Rock Maker'!$D$82*'Mineral Data Set'!BC82+'Phase Rock Maker'!$D$83*'Mineral Data Set'!BC83+'Phase Rock Maker'!$D$84*'Mineral Data Set'!BC84+'Phase Rock Maker'!$D$85*'Mineral Data Set'!BC85+'Phase Rock Maker'!$D$86*'Mineral Data Set'!BC86+'Phase Rock Maker'!$D$87*'Mineral Data Set'!BC87+'Phase Rock Maker'!$D$88*'Mineral Data Set'!BC88+'Phase Rock Maker'!$D$89*'Mineral Data Set'!BC89+'Phase Rock Maker'!$D$90*'Mineral Data Set'!BC90+'Phase Rock Maker'!$D$91*'Mineral Data Set'!BC91+'Phase Rock Maker'!$D$92*'Mineral Data Set'!BC92+'Phase Rock Maker'!$D$93*'Mineral Data Set'!BC93+'Phase Rock Maker'!$D$94*'Mineral Data Set'!BC94+'Phase Rock Maker'!$D$95*'Mineral Data Set'!BC95+'Phase Rock Maker'!$D$96*'Mineral Data Set'!BC96+'Phase Rock Maker'!$D$97*'Mineral Data Set'!BC97+'Phase Rock Maker'!$D$98*'Mineral Data Set'!BC98+'Phase Rock Maker'!$D$99*'Mineral Data Set'!BC99+'Phase Rock Maker'!$D$100*'Mineral Data Set'!BC100+'Phase Rock Maker'!$D$101*'Mineral Data Set'!BC101+'Phase Rock Maker'!$D$102*'Mineral Data Set'!BC102+'Phase Rock Maker'!$D$103*'Mineral Data Set'!BC103+'Phase Rock Maker'!$D$104*'Mineral Data Set'!BC104+'Phase Rock Maker'!$D$105*'Mineral Data Set'!BC105+'Phase Rock Maker'!$D$106*'Mineral Data Set'!BC106+'Phase Rock Maker'!$D$107*'Mineral Data Set'!BC107+'Phase Rock Maker'!$D$108*'Mineral Data Set'!BC108","v":0}]
[{"$f":"'Mineral Data Set'!A15","v":"Phlogopite"},{"$f":"'Mineral Data Set'!B15","v":"KMg2+3(Si3Al)O10(OH)2"},0,{"$f":"C15/$I$23*'Mineral Data Set'!C15","v":0},{"$f":"D15/'Mineral Data Set'!AR15","v":0},{"$error":"#DIV/0!"},null,"H2O",0,"",null,null,null,null,null,null,{"$f":"$D$3*'Mineral Data Set'!BH3+'Phase Rock Maker'!$D$4*'Mineral Data Set'!BH4+'Phase Rock Maker'!$D$5*'Mineral Data Set'!BH5+'Phase Rock Maker'!$D$6*'Mineral Data Set'!BH6+'Phase Rock Maker'!$D$7*'Mineral Data Set'!BH7+'Phase Rock Maker'!$D$8*'Mineral Data Set'!BH8+'Phase Rock Maker'!$D$9*'Mineral Data Set'!BH9+'Phase Rock Maker'!$D$10*'Mineral Data Set'!BH10+'Phase Rock Maker'!$D$11*'Mineral Data Set'!BH11+'Phase Rock Maker'!$D$12*'Mineral Data Set'!BH12+'Phase Rock Maker'!$D$13*'Mineral Data Set'!BH13+'Phase Rock Maker'!$D$14*'Mineral Data Set'!BH14+'Phase Rock Maker'!$D$15*'Mineral Data Set'!BH15+'Phase Rock Maker'!$D$16*'Mineral Data Set'!BH16+'Phase Rock Maker'!$D$17*'Mineral Data Set'!BH17+'Phase Rock Maker'!$D$18*'Mineral Data Set'!BH18+'Phase Rock Maker'!$D$19*'Mineral Data Set'!BH19+'Phase Rock Maker'!$D$20*'Mineral Data Set'!BH20+'Phase Rock Maker'!$D$21*'Mineral Data Set'!BH21+'Phase Rock Maker'!$D$22*'Mineral Data Set'!BH22+'Phase Rock Maker'!$D$23*'Mineral Data Set'!BH23+'Phase Rock Maker'!$D$24*'Mineral Data Set'!BH24+'Phase Rock Maker'!$D$25*'Mineral Data Set'!BH25+'Phase Rock Maker'!$D$26*'Mineral Data Set'!BH26+'Phase Rock Maker'!$D$27*'Mineral Data Set'!BH27+'Phase Rock Maker'!$D$28*'Mineral Data Set'!BH28+'Phase Rock Maker'!$D$29*'Mineral Data Set'!BH29+'Phase Rock Maker'!$D$30*'Mineral Data Set'!BH30+'Phase Rock Maker'!$D$31*'Mineral Data Set'!BH31+'Phase Rock Maker'!$D$32*'Mineral Data Set'!BH32+'Phase Rock Maker'!$D$33*'Mineral Data Set'!BH33+'Phase Rock Maker'!$D$34*'Mineral Data Set'!BH34+'Phase Rock Maker'!$D$35*'Mineral Data Set'!BH35+'Phase Rock Maker'!$D$36*'Mineral Data Set'!BH36+'Phase Rock Maker'!$D$37*'Mineral Data Set'!BH37+'Phase Rock Maker'!$D$38*'Mineral Data Set'!BH38+'Phase Rock Maker'!$D$39*'Mineral Data Set'!BH39+'Phase Rock Maker'!$D$40*'Mineral Data Set'!BH40+'Phase Rock Maker'!$D$41*'Mineral Data Set'!BH41+'Phase Rock Maker'!$D$42*'Mineral Data Set'!BH42+'Phase Rock Maker'!$D$43*'Mineral Data Set'!BH43+'Phase Rock Maker'!$D$44*'Mineral Data Set'!BH44+'Phase Rock Maker'!$D$45*'Mineral Data Set'!BH45+'Phase Rock Maker'!$D$46*'Mineral Data Set'!BH46+'Phase Rock Maker'!$D$47*'Mineral Data Set'!BH47+'Phase Rock Maker'!$D$48*'Mineral Data Set'!BH48+'Phase Rock Maker'!$D$49*'Mineral Data Set'!BH49+'Phase Rock Maker'!$D$50*'Mineral Data Set'!BH50+'Phase Rock Maker'!$D$51*'Mineral Data Set'!BH51+'Phase Rock Maker'!$D$52*'Mineral Data Set'!BH52+'Phase Rock Maker'!$D$53*'Mineral Data Set'!BH53+'Phase Rock Maker'!$D$54*'Mineral Data Set'!BH54+'Phase Rock Maker'!$D$55*'Mineral Data Set'!BH55+'Phase Rock Maker'!$D$56*'Mineral Data Set'!BH56+'Phase Rock Maker'!$D$57*'Mineral Data Set'!BH57+'Phase Rock Maker'!$D$58*'Mineral Data Set'!BH58+'Phase Rock Maker'!$D$59*'Mineral Data Set'!BH59+'Phase Rock Maker'!$D$60*'Mineral Data Set'!BH60+'Phase Rock Maker'!$D$61*'Mineral Data Set'!BH61+'Phase Rock Maker'!$D$62*'Mineral Data Set'!BH62+'Phase Rock Maker'!$D$63*'Mineral Data Set'!BH63+'Phase Rock Maker'!$D$64*'Mineral Data Set'!BH64+'Phase Rock Maker'!$D$65*'Mineral Data Set'!BH65+'Phase Rock Maker'!$D$66*'Mineral Data Set'!BH66+'Phase Rock Maker'!$D$67*'Mineral Data Set'!BH67+'Phase Rock Maker'!$D$68*'Mineral Data Set'!BH68+'Phase Rock Maker'!$D$69*'Mineral Data Set'!BH69+'Phase Rock Maker'!$D$70*'Mineral Data Set'!BH70+'Phase Rock Maker'!$D$71*'Mineral Data Set'!BH71+'Phase Rock Maker'!$D$72*'Mineral Data Set'!BH72+'Phase Rock Maker'!$D$73*'Mineral Data Set'!BH73+'Phase Rock Maker'!$D$74*'Mineral Data Set'!BH74+'Phase Rock Maker'!$D$75*'Mineral Data Set'!BH75+'Phase Rock Maker'!$D$76*'Mineral Data Set'!BH76+'Phase Rock Maker'!$D$77*'Mineral Data Set'!BH77+'Phase Rock Maker'!$D$78*'Mineral Data Set'!BH78+'Phase Rock Maker'!$D$79*'Mineral Data Set'!BH79+'Phase Rock Maker'!$D$80*'Mineral Data Set'!BH80+'Phase Rock Maker'!$D$81*'Mineral Data Set'!BH81+'Phase Rock Maker'!$D$82*'Mineral Data Set'!BH82+'Phase Rock Maker'!$D$83*'Mineral Data Set'!BH83+'Phase Rock Maker'!$D$84*'Mineral Data Set'!BH84+'Phase Rock Maker'!$D$85*'Mineral Data Set'!BH85+'Phase Rock Maker'!$D$86*'Mineral Data Set'!BH86+'Phase Rock Maker'!$D$87*'Mineral Data Set'!BH87+'Phase Rock Maker'!$D$88*'Mineral Data Set'!BH88+'Phase Rock Maker'!$D$89*'Mineral Data Set'!BH89+'Phase Rock Maker'!$D$90*'Mineral Data Set'!BH90+'Phase Rock Maker'!$D$91*'Mineral Data Set'!BH91+'Phase Rock Maker'!$D$92*'Mineral Data Set'!BH92+'Phase Rock Maker'!$D$93*'Mineral Data Set'!BH93+'Phase Rock Maker'!$D$94*'Mineral Data Set'!BH94+'Phase Rock Maker'!$D$95*'Mineral Data Set'!BH95+'Phase Rock Maker'!$D$96*'Mineral Data Set'!BH96+'Phase Rock Maker'!$D$97*'Mineral Data Set'!BH97+'Phase Rock Maker'!$D$98*'Mineral Data Set'!BH98+'Phase Rock Maker'!$D$99*'Mineral Data Set'!BH99+'Phase Rock Maker'!$D$100*'Mineral Data Set'!BH100+'Phase Rock Maker'!$D$101*'Mineral Data Set'!BH101+'Phase Rock Maker'!$D$102*'Mineral Data Set'!BH102+'Phase Rock Maker'!$D$103*'Mineral Data Set'!BH103+'Phase Rock Maker'!$D$104*'Mineral Data Set'!BH104+'Phase Rock Maker'!$D$105*'Mineral Data Set'!BH105+'Phase Rock Maker'!$D$106*'Mineral Data Set'!BH106+'Phase Rock Maker'!$D$107*'Mineral Data Set'!BH107+'Phase Rock Maker'!$D$108*'Mineral Data Set'!BH108","v":0}]
[{"$f":"'Mineral Data Set'!A16","v":"Ann70Phl30"},{"$f":"'Mineral Data Set'!B16","v":"KMg0.9Fe2+2.1(Si3Al)O10(OH)2"},0,{"$f":"C16/$I$23*'Mineral Data Set'!C16","v":0},{"$f":"D16/'Mineral Data Set'!AR16","v":0},{"$error":"#DIV/0!"},null,"CO2",0,"",null,null,null,null,null,null,{"$f":"$D$3*'Mineral Data Set'!BI3+'Phase Rock Maker'!$D$4*'Mineral Data Set'!BI4+'Phase Rock Maker'!$D$5*'Mineral Data Set'!BI5+'Phase Rock Maker'!$D$6*'Mineral Data Set'!BI6+'Phase Rock Maker'!$D$7*'Mineral Data Set'!BI7+'Phase Rock Maker'!$D$8*'Mineral Data Set'!BI8+'Phase Rock Maker'!$D$9*'Mineral Data Set'!BI9+'Phase Rock Maker'!$D$10*'Mineral Data Set'!BI10+'Phase Rock Maker'!$D$11*'Mineral Data Set'!BI11+'Phase Rock Maker'!$D$12*'Mineral Data Set'!BI12+'Phase Rock Maker'!$D$13*'Mineral Data Set'!BI13+'Phase Rock Maker'!$D$14*'Mineral Data Set'!BI14+'Phase Rock Maker'!$D$15*'Mineral Data Set'!BI15+'Phase Rock Maker'!$D$16*'Mineral Data Set'!BI16+'Phase Rock Maker'!$D$17*'Mineral Data Set'!BI17+'Phase Rock Maker'!$D$18*'Mineral Data Set'!BI18+'Phase Rock Maker'!$D$19*'Mineral Data Set'!BI19+'Phase Rock Maker'!$D$20*'Mineral Data Set'!BI20+'Phase Rock Maker'!$D$21*'Mineral Data Set'!BI21+'Phase Rock Maker'!$D$22*'Mineral Data Set'!BI22+'Phase Rock Maker'!$D$23*'Mineral Data Set'!BI23+'Phase Rock Maker'!$D$24*'Mineral Data Set'!BI24+'Phase Rock Maker'!$D$25*'Mineral Data Set'!BI25+'Phase Rock Maker'!$D$26*'Mineral Data Set'!BI26+'Phase Rock Maker'!$D$27*'Mineral Data Set'!BI27+'Phase Rock Maker'!$D$28*'Mineral Data Set'!BI28+'Phase Rock Maker'!$D$29*'Mineral Data Set'!BI29+'Phase Rock Maker'!$D$30*'Mineral Data Set'!BI30+'Phase Rock Maker'!$D$31*'Mineral Data Set'!BI31+'Phase Rock Maker'!$D$32*'Mineral Data Set'!BI32+'Phase Rock Maker'!$D$33*'Mineral Data Set'!BI33+'Phase Rock Maker'!$D$34*'Mineral Data Set'!BI34+'Phase Rock Maker'!$D$35*'Mineral Data Set'!BI35+'Phase Rock Maker'!$D$36*'Mineral Data Set'!BI36+'Phase Rock Maker'!$D$37*'Mineral Data Set'!BI37+'Phase Rock Maker'!$D$38*'Mineral Data Set'!BI38+'Phase Rock Maker'!$D$39*'Mineral Data Set'!BI39+'Phase Rock Maker'!$D$40*'Mineral Data Set'!BI40+'Phase Rock Maker'!$D$41*'Mineral Data Set'!BI41+'Phase Rock Maker'!$D$42*'Mineral Data Set'!BI42+'Phase Rock Maker'!$D$43*'Mineral Data Set'!BI43+'Phase Rock Maker'!$D$44*'Mineral Data Set'!BI44+'Phase Rock Maker'!$D$45*'Mineral Data Set'!BI45+'Phase Rock Maker'!$D$46*'Mineral Data Set'!BI46+'Phase Rock Maker'!$D$47*'Mineral Data Set'!BI47+'Phase Rock Maker'!$D$48*'Mineral Data Set'!BI48+'Phase Rock Maker'!$D$49*'Mineral Data Set'!BI49+'Phase Rock Maker'!$D$50*'Mineral Data Set'!BI50+'Phase Rock Maker'!$D$51*'Mineral Data Set'!BI51+'Phase Rock Maker'!$D$52*'Mineral Data Set'!BI52+'Phase Rock Maker'!$D$53*'Mineral Data Set'!BI53+'Phase Rock Maker'!$D$54*'Mineral Data Set'!BI54+'Phase Rock Maker'!$D$55*'Mineral Data Set'!BI55+'Phase Rock Maker'!$D$56*'Mineral Data Set'!BI56+'Phase Rock Maker'!$D$57*'Mineral Data Set'!BI57+'Phase Rock Maker'!$D$58*'Mineral Data Set'!BI58+'Phase Rock Maker'!$D$59*'Mineral Data Set'!BI59+'Phase Rock Maker'!$D$60*'Mineral Data Set'!BI60+'Phase Rock Maker'!$D$61*'Mineral Data Set'!BI61+'Phase Rock Maker'!$D$62*'Mineral Data Set'!BI62+'Phase Rock Maker'!$D$63*'Mineral Data Set'!BI63+'Phase Rock Maker'!$D$64*'Mineral Data Set'!BI64+'Phase Rock Maker'!$D$65*'Mineral Data Set'!BI65+'Phase Rock Maker'!$D$66*'Mineral Data Set'!BI66+'Phase Rock Maker'!$D$67*'Mineral Data Set'!BI67+'Phase Rock Maker'!$D$68*'Mineral Data Set'!BI68+'Phase Rock Maker'!$D$69*'Mineral Data Set'!BI69+'Phase Rock Maker'!$D$70*'Mineral Data Set'!BI70+'Phase Rock Maker'!$D$71*'Mineral Data Set'!BI71+'Phase Rock Maker'!$D$72*'Mineral Data Set'!BI72+'Phase Rock Maker'!$D$73*'Mineral Data Set'!BI73+'Phase Rock Maker'!$D$74*'Mineral Data Set'!BI74+'Phase Rock Maker'!$D$75*'Mineral Data Set'!BI75+'Phase Rock Maker'!$D$76*'Mineral Data Set'!BI76+'Phase Rock Maker'!$D$77*'Mineral Data Set'!BI77+'Phase Rock Maker'!$D$78*'Mineral Data Set'!BI78+'Phase Rock Maker'!$D$79*'Mineral Data Set'!BI79+'Phase Rock Maker'!$D$80*'Mineral Data Set'!BI80+'Phase Rock Maker'!$D$81*'Mineral Data Set'!BI81+'Phase Rock Maker'!$D$82*'Mineral Data Set'!BI82+'Phase Rock Maker'!$D$83*'Mineral Data Set'!BI83+'Phase Rock Maker'!$D$84*'Mineral Data Set'!BI84+'Phase Rock Maker'!$D$85*'Mineral Data Set'!BI85+'Phase Rock Maker'!$D$86*'Mineral Data Set'!BI86+'Phase Rock Maker'!$D$87*'Mineral Data Set'!BI87+'Phase Rock Maker'!$D$88*'Mineral Data Set'!BI88+'Phase Rock Maker'!$D$89*'Mineral Data Set'!BI89+'Phase Rock Maker'!$D$90*'Mineral Data Set'!BI90+'Phase Rock Maker'!$D$91*'Mineral Data Set'!BI91+'Phase Rock Maker'!$D$92*'Mineral Data Set'!BI92+'Phase Rock Maker'!$D$93*'Mineral Data Set'!BI93+'Phase Rock Maker'!$D$94*'Mineral Data Set'!BI94+'Phase Rock Maker'!$D$95*'Mineral Data Set'!BI95+'Phase Rock Maker'!$D$96*'Mineral Data Set'!BI96+'Phase Rock Maker'!$D$97*'Mineral Data Set'!BI97+'Phase Rock Maker'!$D$98*'Mineral Data Set'!BI98+'Phase Rock Maker'!$D$99*'Mineral Data Set'!BI99+'Phase Rock Maker'!$D$100*'Mineral Data Set'!BI100+'Phase Rock Maker'!$D$101*'Mineral Data Set'!BI101+'Phase Rock Maker'!$D$102*'Mineral Data Set'!BI102+'Phase Rock Maker'!$D$103*'Mineral Data Set'!BI103+'Phase Rock Maker'!$D$104*'Mineral Data Set'!BI104+'Phase Rock Maker'!$D$105*'Mineral Data Set'!BI105+'Phase Rock Maker'!$D$106*'Mineral Data Set'!BI106+'Phase Rock Maker'!$D$107*'Mineral Data Set'!BI107+'Phase Rock Maker'!$D$108*'Mineral Data Set'!BI108","v":0}]
[{"$f":"'Mineral Data Set'!A17","v":"Ann50Phl50"},{"$f":"'Mineral Data Set'!B17","v":"KMg1.5Fe2+1.5(Si3Al)O10(OH)2"},0,{"$f":"C17/$I$23*'Mineral Data Set'!C17","v":0},{"$f":"D17/'Mineral Data Set'!AR17","v":0},{"$error":"#DIV/0!"},null,"SO3",0,"",null,null,null,null,null,null,{"$f":"$D$3*'Mineral Data Set'!BF3+'Phase Rock Maker'!$D$4*'Mineral Data Set'!BF4+'Phase Rock Maker'!$D$5*'Mineral Data Set'!BF5+'Phase Rock Maker'!$D$6*'Mineral Data Set'!BF6+'Phase Rock Maker'!$D$7*'Mineral Data Set'!BF7+'Phase Rock Maker'!$D$8*'Mineral Data Set'!BF8+'Phase Rock Maker'!$D$9*'Mineral Data Set'!BF9+'Phase Rock Maker'!$D$10*'Mineral Data Set'!BF10+'Phase Rock Maker'!$D$11*'Mineral Data Set'!BF11+'Phase Rock Maker'!$D$12*'Mineral Data Set'!BF12+'Phase Rock Maker'!$D$13*'Mineral Data Set'!BF13+'Phase Rock Maker'!$D$14*'Mineral Data Set'!BF14+'Phase Rock Maker'!$D$15*'Mineral Data Set'!BF15+'Phase Rock Maker'!$D$16*'Mineral Data Set'!BF16+'Phase Rock Maker'!$D$17*'Mineral Data Set'!BF17+'Phase Rock Maker'!$D$18*'Mineral Data Set'!BF18+'Phase Rock Maker'!$D$19*'Mineral Data Set'!BF19+'Phase Rock Maker'!$D$20*'Mineral Data Set'!BF20+'Phase Rock Maker'!$D$21*'Mineral Data Set'!BF21+'Phase Rock Maker'!$D$22*'Mineral Data Set'!BF22+'Phase Rock Maker'!$D$23*'Mineral Data Set'!BF23+'Phase Rock Maker'!$D$24*'Mineral Data Set'!BF24+'Phase Rock Maker'!$D$25*'Mineral Data Set'!BF25+'Phase Rock Maker'!$D$26*'Mineral Data Set'!BF26+'Phase Rock Maker'!$D$27*'Mineral Data Set'!BF27+'Phase Rock Maker'!$D$28*'Mineral Data Set'!BF28+'Phase Rock Maker'!$D$29*'Mineral Data Set'!BF29+'Phase Rock Maker'!$D$30*'Mineral Data Set'!BF30+'Phase Rock Maker'!$D$31*'Mineral Data Set'!BF31+'Phase Rock Maker'!$D$32*'Mineral Data Set'!BF32+'Phase Rock Maker'!$D$33*'Mineral Data Set'!BF33+'Phase Rock Maker'!$D$34*'Mineral Data Set'!BF34+'Phase Rock Maker'!$D$35*'Mineral Data Set'!BF35+'Phase Rock Maker'!$D$36*'Mineral Data Set'!BF36+'Phase Rock Maker'!$D$37*'Mineral Data Set'!BF37+'Phase Rock Maker'!$D$38*'Mineral Data Set'!BF38+'Phase Rock Maker'!$D$39*'Mineral Data Set'!BF39+'Phase Rock Maker'!$D$40*'Mineral Data Set'!BF40+'Phase Rock Maker'!$D$41*'Mineral Data Set'!BF41+'Phase Rock Maker'!$D$42*'Mineral Data Set'!BF42+'Phase Rock Maker'!$D$43*'Mineral Data Set'!BF43+'Phase Rock Maker'!$D$44*'Mineral Data Set'!BF44+'Phase Rock Maker'!$D$45*'Mineral Data Set'!BF45+'Phase Rock Maker'!$D$46*'Mineral Data Set'!BF46+'Phase Rock Maker'!$D$47*'Mineral Data Set'!BF47+'Phase Rock Maker'!$D$48*'Mineral Data Set'!BF48+'Phase Rock Maker'!$D$49*'Mineral Data Set'!BF49+'Phase Rock Maker'!$D$50*'Mineral Data Set'!BF50+'Phase Rock Maker'!$D$51*'Mineral Data Set'!BF51+'Phase Rock Maker'!$D$52*'Mineral Data Set'!BF52+'Phase Rock Maker'!$D$53*'Mineral Data Set'!BF53+'Phase Rock Maker'!$D$54*'Mineral Data Set'!BF54+'Phase Rock Maker'!$D$55*'Mineral Data Set'!BF55+'Phase Rock Maker'!$D$56*'Mineral Data Set'!BF56+'Phase Rock Maker'!$D$57*'Mineral Data Set'!BF57+'Phase Rock Maker'!$D$58*'Mineral Data Set'!BF58+'Phase Rock Maker'!$D$59*'Mineral Data Set'!BF59+'Phase Rock Maker'!$D$60*'Mineral Data Set'!BF60+'Phase Rock Maker'!$D$61*'Mineral Data Set'!BF61+'Phase Rock Maker'!$D$62*'Mineral Data Set'!BF62+'Phase Rock Maker'!$D$63*'Mineral Data Set'!BF63+'Phase Rock Maker'!$D$64*'Mineral Data Set'!BF64+'Phase Rock Maker'!$D$65*'Mineral Data Set'!BF65+'Phase Rock Maker'!$D$66*'Mineral Data Set'!BF66+'Phase Rock Maker'!$D$67*'Mineral Data Set'!BF67+'Phase Rock Maker'!$D$68*'Mineral Data Set'!BF68+'Phase Rock Maker'!$D$69*'Mineral Data Set'!BF69+'Phase Rock Maker'!$D$70*'Mineral Data Set'!BF70+'Phase Rock Maker'!$D$71*'Mineral Data Set'!BF71+'Phase Rock Maker'!$D$72*'Mineral Data Set'!BF72+'Phase Rock Maker'!$D$73*'Mineral Data Set'!BF73+'Phase Rock Maker'!$D$74*'Mineral Data Set'!BF74+'Phase Rock Maker'!$D$75*'Mineral Data Set'!BF75+'Phase Rock Maker'!$D$76*'Mineral Data Set'!BF76+'Phase Rock Maker'!$D$77*'Mineral Data Set'!BF77+'Phase Rock Maker'!$D$78*'Mineral Data Set'!BF78+'Phase Rock Maker'!$D$79*'Mineral Data Set'!BF79+'Phase Rock Maker'!$D$80*'Mineral Data Set'!BF80+'Phase Rock Maker'!$D$81*'Mineral Data Set'!BF81+'Phase Rock Maker'!$D$82*'Mineral Data Set'!BF82+'Phase Rock Maker'!$D$83*'Mineral Data Set'!BF83+'Phase Rock Maker'!$D$84*'Mineral Data Set'!BF84+'Phase Rock Maker'!$D$85*'Mineral Data Set'!BF85+'Phase Rock Maker'!$D$86*'Mineral Data Set'!BF86+'Phase Rock Maker'!$D$87*'Mineral Data Set'!BF87+'Phase Rock Maker'!$D$88*'Mineral Data Set'!BF88+'Phase Rock Maker'!$D$89*'Mineral Data Set'!BF89+'Phase Rock Maker'!$D$90*'Mineral Data Set'!BF90+'Phase Rock Maker'!$D$91*'Mineral Data Set'!BF91+'Phase Rock Maker'!$D$92*'Mineral Data Set'!BF92+'Phase Rock Maker'!$D$93*'Mineral Data Set'!BF93+'Phase Rock Maker'!$D$94*'Mineral Data Set'!BF94+'Phase Rock Maker'!$D$95*'Mineral Data Set'!BF95+'Phase Rock Maker'!$D$96*'Mineral Data Set'!BF96+'Phase Rock Maker'!$D$97*'Mineral Data Set'!BF97+'Phase Rock Maker'!$D$98*'Mineral Data Set'!BF98+'Phase Rock Maker'!$D$99*'Mineral Data Set'!BF99+'Phase Rock Maker'!$D$100*'Mineral Data Set'!BF100+'Phase Rock Maker'!$D$101*'Mineral Data Set'!BF101+'Phase Rock Maker'!$D$102*'Mineral Data Set'!BF102+'Phase Rock Maker'!$D$103*'Mineral Data Set'!BF103+'Phase Rock Maker'!$D$104*'Mineral Data Set'!BF104+'Phase Rock Maker'!$D$105*'Mineral Data Set'!BF105+'Phase Rock Maker'!$D$106*'Mineral Data Set'!BF106+'Phase Rock Maker'!$D$107*'Mineral Data Set'!BF107+'Phase Rock Maker'!$D$108*'Mineral Data Set'!BF108","v":0}]
[{"$f":"'Mineral Data Set'!A18","v":"Ann30Phl70"},{"$f":"'Mineral Data Set'!B18","v":"KMg2.1Fe2+0.9(Si3Al)O10(OH)2"},0,{"$f":"C18/$I$23*'Mineral Data Set'!C18","v":0},{"$f":"D18/'Mineral Data Set'!AR18","v":0},{"$error":"#DIV/0!"},null,"O2",0,"",null,null,null,null,null,null,{"$f":"$D$3*'Mineral Data Set'!BG3+'Phase Rock Maker'!$D$4*'Mineral Data Set'!BG4+'Phase Rock Maker'!$D$5*'Mineral Data Set'!BG5+'Phase Rock Maker'!$D$6*'Mineral Data Set'!BG6+'Phase Rock Maker'!$D$7*'Mineral Data Set'!BG7+'Phase Rock Maker'!$D$8*'Mineral Data Set'!BG8+'Phase Rock Maker'!$D$9*'Mineral Data Set'!BG9+'Phase Rock Maker'!$D$10*'Mineral Data Set'!BG10+'Phase Rock Maker'!$D$11*'Mineral Data Set'!BG11+'Phase Rock Maker'!$D$12*'Mineral Data Set'!BG12+'Phase Rock Maker'!$D$13*'Mineral Data Set'!BG13+'Phase Rock Maker'!$D$14*'Mineral Data Set'!BG14+'Phase Rock Maker'!$D$15*'Mineral Data Set'!BG15+'Phase Rock Maker'!$D$16*'Mineral Data Set'!BG16+'Phase Rock Maker'!$D$17*'Mineral Data Set'!BG17+'Phase Rock Maker'!$D$18*'Mineral Data Set'!BG18+'Phase Rock Maker'!$D$19*'Mineral Data Set'!BG19+'Phase Rock Maker'!$D$20*'Mineral Data Set'!BG20+'Phase Rock Maker'!$D$21*'Mineral Data Set'!BG21+'Phase Rock Maker'!$D$22*'Mineral Data Set'!BG22+'Phase Rock Maker'!$D$23*'Mineral Data Set'!BG23+'Phase Rock Maker'!$D$24*'Mineral Data Set'!BG24+'Phase Rock Maker'!$D$25*'Mineral Data Set'!BG25+'Phase Rock Maker'!$D$26*'Mineral Data Set'!BG26+'Phase Rock Maker'!$D$27*'Mineral Data Set'!BG27+'Phase Rock Maker'!$D$28*'Mineral Data Set'!BG28+'Phase Rock Maker'!$D$29*'Mineral Data Set'!BG29+'Phase Rock Maker'!$D$30*'Mineral Data Set'!BG30+'Phase Rock Maker'!$D$31*'Mineral Data Set'!BG31+'Phase Rock Maker'!$D$32*'Mineral Data Set'!BG32+'Phase Rock Maker'!$D$33*'Mineral Data Set'!BG33+'Phase Rock Maker'!$D$34*'Mineral Data Set'!BG34+'Phase Rock Maker'!$D$35*'Mineral Data Set'!BG35+'Phase Rock Maker'!$D$36*'Mineral Data Set'!BG36+'Phase Rock Maker'!$D$37*'Mineral Data Set'!BG37+'Phase Rock Maker'!$D$38*'Mineral Data Set'!BG38+'Phase Rock Maker'!$D$39*'Mineral Data Set'!BG39+'Phase Rock Maker'!$D$40*'Mineral Data Set'!BG40+'Phase Rock Maker'!$D$41*'Mineral Data Set'!BG41+'Phase Rock Maker'!$D$42*'Mineral Data Set'!BG42+'Phase Rock Maker'!$D$43*'Mineral Data Set'!BG43+'Phase Rock Maker'!$D$44*'Mineral Data Set'!BG44+'Phase Rock Maker'!$D$45*'Mineral Data Set'!BG45+'Phase Rock Maker'!$D$46*'Mineral Data Set'!BG46+'Phase Rock Maker'!$D$47*'Mineral Data Set'!BG47+'Phase Rock Maker'!$D$48*'Mineral Data Set'!BG48+'Phase Rock Maker'!$D$49*'Mineral Data Set'!BG49+'Phase Rock Maker'!$D$50*'Mineral Data Set'!BG50+'Phase Rock Maker'!$D$51*'Mineral Data Set'!BG51+'Phase Rock Maker'!$D$52*'Mineral Data Set'!BG52+'Phase Rock Maker'!$D$53*'Mineral Data Set'!BG53+'Phase Rock Maker'!$D$54*'Mineral Data Set'!BG54+'Phase Rock Maker'!$D$55*'Mineral Data Set'!BG55+'Phase Rock Maker'!$D$56*'Mineral Data Set'!BG56+'Phase Rock Maker'!$D$57*'Mineral Data Set'!BG57+'Phase Rock Maker'!$D$58*'Mineral Data Set'!BG58+'Phase Rock Maker'!$D$59*'Mineral Data Set'!BG59+'Phase Rock Maker'!$D$60*'Mineral Data Set'!BG60+'Phase Rock Maker'!$D$61*'Mineral Data Set'!BG61+'Phase Rock Maker'!$D$62*'Mineral Data Set'!BG62+'Phase Rock Maker'!$D$63*'Mineral Data Set'!BG63+'Phase Rock Maker'!$D$64*'Mineral Data Set'!BG64+'Phase Rock Maker'!$D$65*'Mineral Data Set'!BG65+'Phase Rock Maker'!$D$66*'Mineral Data Set'!BG66+'Phase Rock Maker'!$D$67*'Mineral Data Set'!BG67+'Phase Rock Maker'!$D$68*'Mineral Data Set'!BG68+'Phase Rock Maker'!$D$69*'Mineral Data Set'!BG69+'Phase Rock Maker'!$D$70*'Mineral Data Set'!BG70+'Phase Rock Maker'!$D$71*'Mineral Data Set'!BG71+'Phase Rock Maker'!$D$72*'Mineral Data Set'!BG72+'Phase Rock Maker'!$D$73*'Mineral Data Set'!BG73+'Phase Rock Maker'!$D$74*'Mineral Data Set'!BG74+'Phase Rock Maker'!$D$75*'Mineral Data Set'!BG75+'Phase Rock Maker'!$D$76*'Mineral Data Set'!BG76+'Phase Rock Maker'!$D$77*'Mineral Data Set'!BG77+'Phase Rock Maker'!$D$78*'Mineral Data Set'!BG78+'Phase Rock Maker'!$D$79*'Mineral Data Set'!BG79+'Phase Rock Maker'!$D$80*'Mineral Data Set'!BG80+'Phase Rock Maker'!$D$81*'Mineral Data Set'!BG81+'Phase Rock Maker'!$D$82*'Mineral Data Set'!BG82+'Phase Rock Maker'!$D$83*'Mineral Data Set'!BG83+'Phase Rock Maker'!$D$84*'Mineral Data Set'!BG84+'Phase Rock Maker'!$D$85*'Mineral Data Set'!BG85+'Phase Rock Maker'!$D$86*'Mineral Data Set'!BG86+'Phase Rock Maker'!$D$87*'Mineral Data Set'!BG87+'Phase Rock Maker'!$D$88*'Mineral Data Set'!BG88+'Phase Rock Maker'!$D$89*'Mineral Data Set'!BG89+'Phase Rock Maker'!$D$90*'Mineral Data Set'!BG90+'Phase Rock Maker'!$D$91*'Mineral Data Set'!BG91+'Phase Rock Maker'!$D$92*'Mineral Data Set'!BG92+'Phase Rock Maker'!$D$93*'Mineral Data Set'!BG93+'Phase Rock Maker'!$D$94*'Mineral Data Set'!BG94+'Phase Rock Maker'!$D$95*'Mineral Data Set'!BG95+'Phase Rock Maker'!$D$96*'Mineral Data Set'!BG96+'Phase Rock Maker'!$D$97*'Mineral Data Set'!BG97+'Phase Rock Maker'!$D$98*'Mineral Data Set'!BG98+'Phase Rock Maker'!$D$99*'Mineral Data Set'!BG99+'Phase Rock Maker'!$D$100*'Mineral Data Set'!BG100+'Phase Rock Maker'!$D$101*'Mineral Data Set'!BG101+'Phase Rock Maker'!$D$102*'Mineral Data Set'!BG102+'Phase Rock Maker'!$D$103*'Mineral Data Set'!BG103+'Phase Rock Maker'!$D$104*'Mineral Data Set'!BG104+'Phase Rock Maker'!$D$105*'Mineral Data Set'!BG105+'Phase Rock Maker'!$D$106*'Mineral Data Set'!BG106+'Phase Rock Maker'!$D$107*'Mineral Data Set'!BG107+'Phase Rock Maker'!$D$108*'Mineral Data Set'!BG108","v":0}]
[{"$f":"'Mineral Data Set'!A19","v":"Muscovite"},{"$f":"'Mineral Data Set'!B19","v":"K(Si3Al3)O10(OH)2"},0,{"$f":"C19/$I$23*'Mineral Data Set'!C19","v":0},{"$f":"D19/'Mineral Data Set'!AR19","v":0},{"$error":"#DIV/0!"},null,"LiO2",0,"",null,null,null,null,null,null,{"$f":"$D$3*'Mineral Data Set'!BJ3+'Phase Rock Maker'!$D$4*'Mineral Data Set'!BJ4+'Phase Rock Maker'!$D$5*'Mineral Data Set'!BJ5+'Phase Rock Maker'!$D$6*'Mineral Data Set'!BJ6+'Phase Rock Maker'!$D$7*'Mineral Data Set'!BJ7+'Phase Rock Maker'!$D$8*'Mineral Data Set'!BJ8+'Phase Rock Maker'!$D$9*'Mineral Data Set'!BJ9+'Phase Rock Maker'!$D$10*'Mineral Data Set'!BJ10+'Phase Rock Maker'!$D$11*'Mineral Data Set'!BJ11+'Phase Rock Maker'!$D$12*'Mineral Data Set'!BJ12+'Phase Rock Maker'!$D$13*'Mineral Data Set'!BJ13+'Phase Rock Maker'!$D$14*'Mineral Data Set'!BJ14+'Phase Rock Maker'!$D$15*'Mineral Data Set'!BJ15+'Phase Rock Maker'!$D$16*'Mineral Data Set'!BJ16+'Phase Rock Maker'!$D$17*'Mineral Data Set'!BJ17+'Phase Rock Maker'!$D$18*'Mineral Data Set'!BJ18+'Phase Rock Maker'!$D$19*'Mineral Data Set'!BJ19+'Phase Rock Maker'!$D$20*'Mineral Data Set'!BJ20+'Phase Rock Maker'!$D$21*'Mineral Data Set'!BJ21+'Phase Rock Maker'!$D$22*'Mineral Data Set'!BJ22+'Phase Rock Maker'!$D$23*'Mineral Data Set'!BJ23+'Phase Rock Maker'!$D$24*'Mineral Data Set'!BJ24+'Phase Rock Maker'!$D$25*'Mineral Data Set'!BJ25+'Phase Rock Maker'!$D$26*'Mineral Data Set'!BJ26+'Phase Rock Maker'!$D$27*'Mineral Data Set'!BJ27+'Phase Rock Maker'!$D$28*'Mineral Data Set'!BJ28+'Phase Rock Maker'!$D$29*'Mineral Data Set'!BJ29+'Phase Rock Maker'!$D$30*'Mineral Data Set'!BJ30+'Phase Rock Maker'!$D$31*'Mineral Data Set'!BJ31+'Phase Rock Maker'!$D$32*'Mineral Data Set'!BJ32+'Phase Rock Maker'!$D$33*'Mineral Data Set'!BJ33+'Phase Rock Maker'!$D$34*'Mineral Data Set'!BJ34+'Phase Rock Maker'!$D$35*'Mineral Data Set'!BJ35+'Phase Rock Maker'!$D$36*'Mineral Data Set'!BJ36+'Phase Rock Maker'!$D$37*'Mineral Data Set'!BJ37+'Phase Rock Maker'!$D$38*'Mineral Data Set'!BJ38+'Phase Rock Maker'!$D$39*'Mineral Data Set'!BJ39+'Phase Rock Maker'!$D$40*'Mineral Data Set'!BJ40+'Phase Rock Maker'!$D$41*'Mineral Data Set'!BJ41+'Phase Rock Maker'!$D$42*'Mineral Data Set'!BJ42+'Phase Rock Maker'!$D$43*'Mineral Data Set'!BJ43+'Phase Rock Maker'!$D$44*'Mineral Data Set'!BJ44+'Phase Rock Maker'!$D$45*'Mineral Data Set'!BJ45+'Phase Rock Maker'!$D$46*'Mineral Data Set'!BJ46+'Phase Rock Maker'!$D$47*'Mineral Data Set'!BJ47+'Phase Rock Maker'!$D$48*'Mineral Data Set'!BJ48+'Phase Rock Maker'!$D$49*'Mineral Data Set'!BJ49+'Phase Rock Maker'!$D$50*'Mineral Data Set'!BJ50+'Phase Rock Maker'!$D$51*'Mineral Data Set'!BJ51+'Phase Rock Maker'!$D$52*'Mineral Data Set'!BJ52+'Phase Rock Maker'!$D$53*'Mineral Data Set'!BJ53+'Phase Rock Maker'!$D$54*'Mineral Data Set'!BJ54+'Phase Rock Maker'!$D$55*'Mineral Data Set'!BJ55+'Phase Rock Maker'!$D$56*'Mineral Data Set'!BJ56+'Phase Rock Maker'!$D$57*'Mineral Data Set'!BJ57+'Phase Rock Maker'!$D$58*'Mineral Data Set'!BJ58+'Phase Rock Maker'!$D$59*'Mineral Data Set'!BJ59+'Phase Rock Maker'!$D$60*'Mineral Data Set'!BJ60+'Phase Rock Maker'!$D$61*'Mineral Data Set'!BJ61+'Phase Rock Maker'!$D$62*'Mineral Data Set'!BJ62+'Phase Rock Maker'!$D$63*'Mineral Data Set'!BJ63+'Phase Rock Maker'!$D$64*'Mineral Data Set'!BJ64+'Phase Rock Maker'!$D$65*'Mineral Data Set'!BJ65+'Phase Rock Maker'!$D$66*'Mineral Data Set'!BJ66+'Phase Rock Maker'!$D$67*'Mineral Data Set'!BJ67+'Phase Rock Maker'!$D$68*'Mineral Data Set'!BJ68+'Phase Rock Maker'!$D$69*'Mineral Data Set'!BJ69+'Phase Rock Maker'!$D$70*'Mineral Data Set'!BJ70+'Phase Rock Maker'!$D$71*'Mineral Data Set'!BJ71+'Phase Rock Maker'!$D$72*'Mineral Data Set'!BJ72+'Phase Rock Maker'!$D$73*'Mineral Data Set'!BJ73+'Phase Rock Maker'!$D$74*'Mineral Data Set'!BJ74+'Phase Rock Maker'!$D$75*'Mineral Data Set'!BJ75+'Phase Rock Maker'!$D$76*'Mineral Data Set'!BJ76+'Phase Rock Maker'!$D$77*'Mineral Data Set'!BJ77+'Phase Rock Maker'!$D$78*'Mineral Data Set'!BJ78+'Phase Rock Maker'!$D$79*'Mineral Data Set'!BJ79+'Phase Rock Maker'!$D$80*'Mineral Data Set'!BJ80+'Phase Rock Maker'!$D$81*'Mineral Data Set'!BJ81+'Phase Rock Maker'!$D$82*'Mineral Data Set'!BJ82+'Phase Rock Maker'!$D$83*'Mineral Data Set'!BJ83+'Phase Rock Maker'!$D$84*'Mineral Data Set'!BJ84+'Phase Rock Maker'!$D$85*'Mineral Data Set'!BJ85+'Phase Rock Maker'!$D$86*'Mineral Data Set'!BJ86+'Phase Rock Maker'!$D$87*'Mineral Data Set'!BJ87+'Phase Rock Maker'!$D$88*'Mineral Data Set'!BJ88+'Phase Rock Maker'!$D$89*'Mineral Data Set'!BJ89+'Phase Rock Maker'!$D$90*'Mineral Data Set'!BJ90+'Phase Rock Maker'!$D$91*'Mineral Data Set'!BJ91+'Phase Rock Maker'!$D$92*'Mineral Data Set'!BJ92+'Phase Rock Maker'!$D$93*'Mineral Data Set'!BJ93+'Phase Rock Maker'!$D$94*'Mineral Data Set'!BJ94+'Phase Rock Maker'!$D$95*'Mineral Data Set'!BJ95+'Phase Rock Maker'!$D$96*'Mineral Data Set'!BJ96+'Phase Rock Maker'!$D$97*'Mineral Data Set'!BJ97+'Phase Rock Maker'!$D$98*'Mineral Data Set'!BJ98+'Phase Rock Maker'!$D$99*'Mineral Data Set'!BJ99+'Phase Rock Maker'!$D$100*'Mineral Data Set'!BJ100+'Phase Rock Maker'!$D$101*'Mineral Data Set'!BJ101+'Phase Rock Maker'!$D$102*'Mineral Data Set'!BJ102+'Phase Rock Maker'!$D$103*'Mineral Data Set'!BJ103+'Phase Rock Maker'!$D$104*'Mineral Data Set'!BJ104+'Phase Rock Maker'!$D$105*'Mineral Data Set'!BJ105+'Phase Rock Maker'!$D$106*'Mineral Data Set'!BJ106+'Phase Rock Maker'!$D$107*'Mineral Data Set'!BJ107+'Phase Rock Maker'!$D$108*'Mineral Data Set'!BJ108","v":0}]
[{"$f":"'Mineral Data Set'!A20","v":"Talc"},{"$f":"'Mineral Data Set'!B20","v":"Mg3Si4O10(OH)2"},0,{"$f":"C20/$I$23*'Mineral Data Set'!C20","v":0},{"$f":"D20/'Mineral Data Set'!AR20","v":0},{"$error":"#DIV/0!"},null,"B2O3",0,"",null,null,null,null,null,null,{"$f":"$D$3*'Mineral Data Set'!BK3+'Phase Rock Maker'!$D$4*'Mineral Data Set'!BK4+'Phase Rock Maker'!$D$5*'Mineral Data Set'!BK5+'Phase Rock Maker'!$D$6*'Mineral Data Set'!BK6+'Phase Rock Maker'!$D$7*'Mineral Data Set'!BK7+'Phase Rock Maker'!$D$8*'Mineral Data Set'!BK8+'Phase Rock Maker'!$D$9*'Mineral Data Set'!BK9+'Phase Rock Maker'!$D$10*'Mineral Data Set'!BK10+'Phase Rock Maker'!$D$11*'Mineral Data Set'!BK11+'Phase Rock Maker'!$D$12*'Mineral Data Set'!BK12+'Phase Rock Maker'!$D$13*'Mineral Data Set'!BK13+'Phase Rock Maker'!$D$14*'Mineral Data Set'!BK14+'Phase Rock Maker'!$D$15*'Mineral Data Set'!BK15+'Phase Rock Maker'!$D$16*'Mineral Data Set'!BK16+'Phase Rock Maker'!$D$17*'Mineral Data Set'!BK17+'Phase Rock Maker'!$D$18*'Mineral Data Set'!BK18+'Phase Rock Maker'!$D$19*'Mineral Data Set'!BK19+'Phase Rock Maker'!$D$20*'Mineral Data Set'!BK20+'Phase Rock Maker'!$D$21*'Mineral Data Set'!BK21+'Phase Rock Maker'!$D$22*'Mineral Data Set'!BK22+'Phase Rock Maker'!$D$23*'Mineral Data Set'!BK23+'Phase Rock Maker'!$D$24*'Mineral Data Set'!BK24+'Phase Rock Maker'!$D$25*'Mineral Data Set'!BK25+'Phase Rock Maker'!$D$26*'Mineral Data Set'!BK26+'Phase Rock Maker'!$D$27*'Mineral Data Set'!BK27+'Phase Rock Maker'!$D$28*'Mineral Data Set'!BK28+'Phase Rock Maker'!$D$29*'Mineral Data Set'!BK29+'Phase Rock Maker'!$D$30*'Mineral Data Set'!BK30+'Phase Rock Maker'!$D$31*'Mineral Data Set'!BK31+'Phase Rock Maker'!$D$32*'Mineral Data Set'!BK32+'Phase Rock Maker'!$D$33*'Mineral Data Set'!BK33+'Phase Rock Maker'!$D$34*'Mineral Data Set'!BK34+'Phase Rock Maker'!$D$35*'Mineral Data Set'!BK35+'Phase Rock Maker'!$D$36*'Mineral Data Set'!BK36+'Phase Rock Maker'!$D$37*'Mineral Data Set'!BK37+'Phase Rock Maker'!$D$38*'Mineral Data Set'!BK38+'Phase Rock Maker'!$D$39*'Mineral Data Set'!BK39+'Phase Rock Maker'!$D$40*'Mineral Data Set'!BK40+'Phase Rock Maker'!$D$41*'Mineral Data Set'!BK41+'Phase Rock Maker'!$D$42*'Mineral Data Set'!BK42+'Phase Rock Maker'!$D$43*'Mineral Data Set'!BK43+'Phase Rock Maker'!$D$44*'Mineral Data Set'!BK44+'Phase Rock Maker'!$D$45*'Mineral Data Set'!BK45+'Phase Rock Maker'!$D$46*'Mineral Data Set'!BK46+'Phase Rock Maker'!$D$47*'Mineral Data Set'!BK47+'Phase Rock Maker'!$D$48*'Mineral Data Set'!BK48+'Phase Rock Maker'!$D$49*'Mineral Data Set'!BK49+'Phase Rock Maker'!$D$50*'Mineral Data Set'!BK50+'Phase Rock Maker'!$D$51*'Mineral Data Set'!BK51+'Phase Rock Maker'!$D$52*'Mineral Data Set'!BK52+'Phase Rock Maker'!$D$53*'Mineral Data Set'!BK53+'Phase Rock Maker'!$D$54*'Mineral Data Set'!BK54+'Phase Rock Maker'!$D$55*'Mineral Data Set'!BK55+'Phase Rock Maker'!$D$56*'Mineral Data Set'!BK56+'Phase Rock Maker'!$D$57*'Mineral Data Set'!BK57+'Phase Rock Maker'!$D$58*'Mineral Data Set'!BK58+'Phase Rock Maker'!$D$59*'Mineral Data Set'!BK59+'Phase Rock Maker'!$D$60*'Mineral Data Set'!BK60+'Phase Rock Maker'!$D$61*'Mineral Data Set'!BK61+'Phase Rock Maker'!$D$62*'Mineral Data Set'!BK62+'Phase Rock Maker'!$D$63*'Mineral Data Set'!BK63+'Phase Rock Maker'!$D$64*'Mineral Data Set'!BK64+'Phase Rock Maker'!$D$65*'Mineral Data Set'!BK65+'Phase Rock Maker'!$D$66*'Mineral Data Set'!BK66+'Phase Rock Maker'!$D$67*'Mineral Data Set'!BK67+'Phase Rock Maker'!$D$68*'Mineral Data Set'!BK68+'Phase Rock Maker'!$D$69*'Mineral Data Set'!BK69+'Phase Rock Maker'!$D$70*'Mineral Data Set'!BK70+'Phase Rock Maker'!$D$71*'Mineral Data Set'!BK71+'Phase Rock Maker'!$D$72*'Mineral Data Set'!BK72+'Phase Rock Maker'!$D$73*'Mineral Data Set'!BK73+'Phase Rock Maker'!$D$74*'Mineral Data Set'!BK74+'Phase Rock Maker'!$D$75*'Mineral Data Set'!BK75+'Phase Rock Maker'!$D$76*'Mineral Data Set'!BK76+'Phase Rock Maker'!$D$77*'Mineral Data Set'!BK77+'Phase Rock Maker'!$D$78*'Mineral Data Set'!BK78+'Phase Rock Maker'!$D$79*'Mineral Data Set'!BK79+'Phase Rock Maker'!$D$80*'Mineral Data Set'!BK80+'Phase Rock Maker'!$D$81*'Mineral Data Set'!BK81+'Phase Rock Maker'!$D$82*'Mineral Data Set'!BK82+'Phase Rock Maker'!$D$83*'Mineral Data Set'!BK83+'Phase Rock Maker'!$D$84*'Mineral Data Set'!BK84+'Phase Rock Maker'!$D$85*'Mineral Data Set'!BK85+'Phase Rock Maker'!$D$86*'Mineral Data Set'!BK86+'Phase Rock Maker'!$D$87*'Mineral Data Set'!BK87+'Phase Rock Maker'!$D$88*'Mineral Data Set'!BK88+'Phase Rock Maker'!$D$89*'Mineral Data Set'!BK89+'Phase Rock Maker'!$D$90*'Mineral Data Set'!BK90+'Phase Rock Maker'!$D$91*'Mineral Data Set'!BK91+'Phase Rock Maker'!$D$92*'Mineral Data Set'!BK92+'Phase Rock Maker'!$D$93*'Mineral Data Set'!BK93+'Phase Rock Maker'!$D$94*'Mineral Data Set'!BK94+'Phase Rock Maker'!$D$95*'Mineral Data Set'!BK95+'Phase Rock Maker'!$D$96*'Mineral Data Set'!BK96+'Phase Rock Maker'!$D$97*'Mineral Data Set'!BK97+'Phase Rock Maker'!$D$98*'Mineral Data Set'!BK98+'Phase Rock Maker'!$D$99*'Mineral Data Set'!BK99+'Phase Rock Maker'!$D$100*'Mineral Data Set'!BK100+'Phase Rock Maker'!$D$101*'Mineral Data Set'!BK101+'Phase Rock Maker'!$D$102*'Mineral Data Set'!BK102+'Phase Rock Maker'!$D$103*'Mineral Data Set'!BK103+'Phase Rock Maker'!$D$104*'Mineral Data Set'!BK104+'Phase Rock Maker'!$D$105*'Mineral Data Set'!BK105+'Phase Rock Maker'!$D$106*'Mineral Data Set'!BK106+'Phase Rock Maker'!$D$107*'Mineral Data Set'!BK107+'Phase Rock Maker'!$D$108*'Mineral Data Set'!BK108","v":0}]
[{"$f":"'Mineral Data Set'!A21","v":"Serpentine"},{"$f":"'Mineral Data Set'!B21","v":"Mg3Si2O5(OH)4"},0,{"$f":"C21/$I$23*'Mineral Data Set'!C21","v":0},{"$f":"D21/'Mineral Data Set'!AR21","v":0},{"$error":"#DIV/0!"},null,"P2O5",0,"",null,null,null,null,null,null,{"$f":"$D$3*'Mineral Data Set'!BL3+'Phase Rock Maker'!$D$4*'Mineral Data Set'!BL4+'Phase Rock Maker'!$D$5*'Mineral Data Set'!BL5+'Phase Rock Maker'!$D$6*'Mineral Data Set'!BL6+'Phase Rock Maker'!$D$7*'Mineral Data Set'!BL7+'Phase Rock Maker'!$D$8*'Mineral Data Set'!BL8+'Phase Rock Maker'!$D$9*'Mineral Data Set'!BL9+'Phase Rock Maker'!$D$10*'Mineral Data Set'!BL10+'Phase Rock Maker'!$D$11*'Mineral Data Set'!BL11+'Phase Rock Maker'!$D$12*'Mineral Data Set'!BL12+'Phase Rock Maker'!$D$13*'Mineral Data Set'!BL13+'Phase Rock Maker'!$D$14*'Mineral Data Set'!BL14+'Phase Rock Maker'!$D$15*'Mineral Data Set'!BL15+'Phase Rock Maker'!$D$16*'Mineral Data Set'!BL16+'Phase Rock Maker'!$D$17*'Mineral Data Set'!BL17+'Phase Rock Maker'!$D$18*'Mineral Data Set'!BL18+'Phase Rock Maker'!$D$19*'Mineral Data Set'!BL19+'Phase Rock Maker'!$D$20*'Mineral Data Set'!BL20+'Phase Rock Maker'!$D$21*'Mineral Data Set'!BL21+'Phase Rock Maker'!$D$22*'Mineral Data Set'!BL22+'Phase Rock Maker'!$D$23*'Mineral Data Set'!BL23+'Phase Rock Maker'!$D$24*'Mineral Data Set'!BL24+'Phase Rock Maker'!$D$25*'Mineral Data Set'!BL25+'Phase Rock Maker'!$D$26*'Mineral Data Set'!BL26+'Phase Rock Maker'!$D$27*'Mineral Data Set'!BL27+'Phase Rock Maker'!$D$28*'Mineral Data Set'!BL28+'Phase Rock Maker'!$D$29*'Mineral Data Set'!BL29+'Phase Rock Maker'!$D$30*'Mineral Data Set'!BL30+'Phase Rock Maker'!$D$31*'Mineral Data Set'!BL31+'Phase Rock Maker'!$D$32*'Mineral Data Set'!BL32+'Phase Rock Maker'!$D$33*'Mineral Data Set'!BL33+'Phase Rock Maker'!$D$34*'Mineral Data Set'!BL34+'Phase Rock Maker'!$D$35*'Mineral Data Set'!BL35+'Phase Rock Maker'!$D$36*'Mineral Data Set'!BL36+'Phase Rock Maker'!$D$37*'Mineral Data Set'!BL37+'Phase Rock Maker'!$D$38*'Mineral Data Set'!BL38+'Phase Rock Maker'!$D$39*'Mineral Data Set'!BL39+'Phase Rock Maker'!$D$40*'Mineral Data Set'!BL40+'Phase Rock Maker'!$D$41*'Mineral Data Set'!BL41+'Phase Rock Maker'!$D$42*'Mineral Data Set'!BL42+'Phase Rock Maker'!$D$43*'Mineral Data Set'!BL43+'Phase Rock Maker'!$D$44*'Mineral Data Set'!BL44+'Phase Rock Maker'!$D$45*'Mineral Data Set'!BL45+'Phase Rock Maker'!$D$46*'Mineral Data Set'!BL46+'Phase Rock Maker'!$D$47*'Mineral Data Set'!BL47+'Phase Rock Maker'!$D$48*'Mineral Data Set'!BL48+'Phase Rock Maker'!$D$49*'Mineral Data Set'!BL49+'Phase Rock Maker'!$D$50*'Mineral Data Set'!BL50+'Phase Rock Maker'!$D$51*'Mineral Data Set'!BL51+'Phase Rock Maker'!$D$52*'Mineral Data Set'!BL52+'Phase Rock Maker'!$D$53*'Mineral Data Set'!BL53+'Phase Rock Maker'!$D$54*'Mineral Data Set'!BL54+'Phase Rock Maker'!$D$55*'Mineral Data Set'!BL55+'Phase Rock Maker'!$D$56*'Mineral Data Set'!BL56+'Phase Rock Maker'!$D$57*'Mineral Data Set'!BL57+'Phase Rock Maker'!$D$58*'Mineral Data Set'!BL58+'Phase Rock Maker'!$D$59*'Mineral Data Set'!BL59+'Phase Rock Maker'!$D$60*'Mineral Data Set'!BL60+'Phase Rock Maker'!$D$61*'Mineral Data Set'!BL61+'Phase Rock Maker'!$D$62*'Mineral Data Set'!BL62+'Phase Rock Maker'!$D$63*'Mineral Data Set'!BL63+'Phase Rock Maker'!$D$64*'Mineral Data Set'!BL64+'Phase Rock Maker'!$D$65*'Mineral Data Set'!BL65+'Phase Rock Maker'!$D$66*'Mineral Data Set'!BL66+'Phase Rock Maker'!$D$67*'Mineral Data Set'!BL67+'Phase Rock Maker'!$D$68*'Mineral Data Set'!BL68+'Phase Rock Maker'!$D$69*'Mineral Data Set'!BL69+'Phase Rock Maker'!$D$70*'Mineral Data Set'!BL70+'Phase Rock Maker'!$D$71*'Mineral Data Set'!BL71+'Phase Rock Maker'!$D$72*'Mineral Data Set'!BL72+'Phase Rock Maker'!$D$73*'Mineral Data Set'!BL73+'Phase Rock Maker'!$D$74*'Mineral Data Set'!BL74+'Phase Rock Maker'!$D$75*'Mineral Data Set'!BL75+'Phase Rock Maker'!$D$76*'Mineral Data Set'!BL76+'Phase Rock Maker'!$D$77*'Mineral Data Set'!BL77+'Phase Rock Maker'!$D$78*'Mineral Data Set'!BL78+'Phase Rock Maker'!$D$79*'Mineral Data Set'!BL79+'Phase Rock Maker'!$D$80*'Mineral Data Set'!BL80+'Phase Rock Maker'!$D$81*'Mineral Data Set'!BL81+'Phase Rock Maker'!$D$82*'Mineral Data Set'!BL82+'Phase Rock Maker'!$D$83*'Mineral Data Set'!BL83+'Phase Rock Maker'!$D$84*'Mineral Data Set'!BL84+'Phase Rock Maker'!$D$85*'Mineral Data Set'!BL85+'Phase Rock Maker'!$D$86*'Mineral Data Set'!BL86+'Phase Rock Maker'!$D$87*'Mineral Data Set'!BL87+'Phase Rock Maker'!$D$88*'Mineral Data Set'!BL88+'Phase Rock Maker'!$D$89*'Mineral Data Set'!BL89+'Phase Rock Maker'!$D$90*'Mineral Data Set'!BL90+'Phase Rock Maker'!$D$91*'Mineral Data Set'!BL91+'Phase Rock Maker'!$D$92*'Mineral Data Set'!BL92+'Phase Rock Maker'!$D$93*'Mineral Data Set'!BL93+'Phase Rock Maker'!$D$94*'Mineral Data Set'!BL94+'Phase Rock Maker'!$D$95*'Mineral Data Set'!BL95+'Phase Rock Maker'!$D$96*'Mineral Data Set'!BL96+'Phase Rock Maker'!$D$97*'Mineral Data Set'!BL97+'Phase Rock Maker'!$D$98*'Mineral Data Set'!BL98+'Phase Rock Maker'!$D$99*'Mineral Data Set'!BL99+'Phase Rock Maker'!$D$100*'Mineral Data Set'!BL100+'Phase Rock Maker'!$D$101*'Mineral Data Set'!BL101+'Phase Rock Maker'!$D$102*'Mineral Data Set'!BL102+'Phase Rock Maker'!$D$103*'Mineral Data Set'!BL103+'Phase Rock Maker'!$D$104*'Mineral Data Set'!BL104+'Phase Rock Maker'!$D$105*'Mineral Data Set'!BL105+'Phase Rock Maker'!$D$106*'Mineral Data Set'!BL106+'Phase Rock Maker'!$D$107*'Mineral Data Set'!BL107+'Phase Rock Maker'!$D$108*'Mineral Data Set'!BL108","v":0}]
[{"$f":"'Mineral Data Set'!A22","v":"Kaolinite"},{"$f":"'Mineral Data Set'!B22","v":"Al2Si2O5(OH)4"},0,{"$f":"C22/$I$23*'Mineral Data Set'!C22","v":0},{"$f":"D22/'Mineral Data Set'!AR22","v":0},{"$error":"#DIV/0!"},null,"Total",{"$f":"SUM(I3:I21)","v":100},null,null,null,null,null,null,null,{"$f":"SUM(Q3:Q21)","v":10000}]
[{"$f":"'Mineral Data Set'!A23","v":"Illite"},{"$f":"'Mineral Data Set'!B23","v":"KAl5Si7O20(OH)4"},0,{"$f":"C23/$I$23*'Mineral Data Set'!C23","v":0},{"$f":"D23/'Mineral Data Set'!AR23","v":0},{"$error":"#DIV/0!"},null,"ρWR",{"$f":" 'Mineral Data Set'!D109/'Phase Rock Maker'!C109","v":2.65}]
[{"$f":"'Mineral Data Set'!A24","v":"Nepheline"},{"$f":"'Mineral Data Set'!B24","v":"Na3KSi4Al4O16"},0,{"$f":"C24/$I$23*'Mineral Data Set'!C24","v":0},{"$f":"D24/'Mineral Data Set'!AR24","v":0},{"$error":"#DIV/0!"}]
[{"$f":"'Mineral Data Set'!A25","v":"Leucite"},{"$f":"'Mineral Data Set'!B25","v":"KAlSi2O6"},0,{"$f":"C25/$I$23*'Mineral Data Set'!C25","v":0},{"$f":"D25/'Mineral Data Set'!AR25","v":0},{"$error":"#DIV/0!"}]
[{"$f":"'Mineral Data Set'!A26","v":"Cordierite"},{"$f":"'Mineral Data Set'!B26","v":"Mg2+2(Si5Al4)O18(OH)"},0,{"$f":"C26/$I$23*'Mineral Data Set'!C26","v":0},{"$f":"D26/'Mineral Data Set'!AR26","v":0},{"$error":"#DIV/0!"}]
[{"$f":"'Mineral Data Set'!A27","v":"Fe-Cordierite"},{"$f":"'Mineral Data Set'!B27","v":"Fe2+2(Si5Al4)O18(OH)"},0,{"$f":"C27/$I$23*'Mineral Data Set'!C27","v":0},{"$f":"D27/'Mineral Data Set'!AR27","v":0},{"$error":"#DIV/0!"}]
[{"$f":"'Mineral Data Set'!A28","v":"Mg80Fe20 Cordierite"},{"$f":"'Mineral Data Set'!B28","v":"Fe2+0.4Mg2+1.6(Si5Al4)O18(OH)"},0,{"$f":"C28/$I$23*'Mineral Data Set'!C28","v":0},{"$f":"D28/'Mineral Data Set'!AR28","v":0},{"$error":"#DIV/0!"}]
[{"$f":"'Mineral Data Set'!A29","v":"Fe Staurolite"},{"$f":"'Mineral Data Set'!B29","v":"Fe2+2Al9Si4O20(OH)2"},0,{"$f":"C29/$I$23*'Mineral Data Set'!C29","v":0},{"$f":"D29/'Mineral Data Set'!AR29","v":0},{"$error":"#DIV/0!"}]
[{"$f":"'Mineral Data Set'!A30","v":"Fe80Mg20 Staurolite"},{"$f":"'Mineral Data Set'!B30","v":"Fe2+1.6Mg0.4Al9Si4O20(OH)2"},0,{"$f":"C30/$I$23*'Mineral Data Set'!C30","v":0},{"$f":"D30/'Mineral Data Set'!AR30","v":0},{"$error":"#DIV/0!"}]
[{"$f":"'Mineral Data Set'!A31","v":"Fe Chloritoid"},{"$f":"'Mineral Data Set'!B31","v":"Fe2+Al2OSiO4(OH)2"},0,{"$f":"C31/$I$23*'Mineral Data Set'!C31","v":0},{"$f":"D31/'Mineral Data Set'!AR31","v":0},{"$error":"#DIV/0!"}]
[{"$f":"'Mineral Data Set'!A32","v":"Mg Chloritoid"},{"$f":"'Mineral Data Set'!B32","v":"MgAl2OSiO4(OH)2"},0,{"$f":"C32/$I$23*'Mineral Data Set'!C32","v":0},{"$f":"D32/'Mineral Data Set'!AR32","v":0},{"$error":"#DIV/0!"}]
[{"$f":"'Mineral Data Set'!A33","v":"Fe80Mg20 Chloritoid"},{"$f":"'Mineral Data Set'!B33","v":"Mg0.2Fe0.8Al2OSiO4(OH)2"},0,{"$f":"C33/$I$23*'Mineral Data Set'!C33","v":0},{"$f":"D33/'Mineral Data Set'!AR33","v":0},{"$error":"#DIV/0!"}]
[{"$f":"'Mineral Data Set'!A34","v":"Sillimanite"},{"$f":"'Mineral Data Set'!B34","v":"Al2SiO5"},0,{"$f":"C34/$I$23*'Mineral Data Set'!C34","v":0},{"$f":"D34/'Mineral Data Set'!AR34","v":0},{"$error":"#DIV/0!"}]
[{"$f":"'Mineral Data Set'!A35","v":"Kyanite"},{"$f":"'Mineral Data Set'!B35","v":"Al2SiO5"},0,{"$f":"C35/$I$23*'Mineral Data Set'!C35","v":0},{"$f":"D35/'Mineral Data Set'!AR35","v":0},{"$error":"#DIV/0!"}]
[{"$f":"'Mineral Data Set'!A36","v":"Andalusite"},{"$f":"'Mineral Data Set'!B36","v":"Al2SiO5"},0,{"$f":"C36/$I$23*'Mineral Data Set'!C36","v":0},{"$f":"D36/'Mineral Data Set'!AR36","v":0},{"$error":"#DIV/0!"}]
[{"$f":"'Mineral Data Set'!A37","v":"Almandine"},{"$f":"'Mineral Data Set'!B37","v":"Fe2+3Al2(SiO4)3"},0,{"$f":"C37/$I$23*'Mineral Data Set'!C37","v":0},{"$f":"D37/'Mineral Data Set'!AR37","v":0},{"$error":"#DIV/0!"}]
[{"$f":"'Mineral Data Set'!A38","v":"Pyrope"},{"$f":"'Mineral Data Set'!B38","v":"Mg2+3Al2(SiO4)3"},0,{"$f":"C38/$I$23*'Mineral Data Set'!C38","v":0},{"$f":"D38/'Mineral Data Set'!AR38","v":0},{"$error":"#DIV/0!"}]
[{"$f":"'Mineral Data Set'!A39","v":"Grossular"},{"$f":"'Mineral Data Set'!B39","v":"Ca2+3Al2(SiO4)3"},0,{"$f":"C39/$I$23*'Mineral Data Set'!C39","v":0},{"$f":"D39/'Mineral Data Set'!AR39","v":0},{"$error":"#DIV/0!"}]
[{"$f":"'Mineral Data Set'!A40","v":"Andradite"},{"$f":"'Mineral Data Set'!B40","v":"Ca3Fe3+2(SiO4)3"},0,{"$f":"C40/$I$23*'Mineral Data Set'!C40","v":0},{"$f":"D40/'Mineral Data Set'!AR40","v":0},{"$error":"#DIV/0!"}]
[{"$f":"'Mineral Data Set'!A41","v":"Spessartine"},{"$f":"'Mineral Data Set'!B41","v":"Mn3Fe3+2(SiO4)3"},0,{"$f":"C41/$I$23*'Mineral Data Set'!C41","v":0},{"$f":"D41/'Mineral Data Set'!AR41","v":0},{"$error":"#DIV/0!"}]
[{"$f":"'Mineral Data Set'!A42","v":"Alm80Pyp20"},{"$f":"'Mineral Data Set'!B42","v":"Fe2+2.4Mg0.6Al2(SiO4)3"},0,{"$f":"C42/$I$23*'Mineral Data Set'!C42","v":0},{"$f":"D42/'Mineral Data Set'!AR42","v":0},{"$error":"#DIV/0!"}]
[{"$f":"'Mineral Data Set'!A43","v":"Alm70Pyp20Gross10"},{"$f":"'Mineral Data Set'!B43","v":"Fe2+2.1Mg0.6Ca0.3Al2(SiO4)3"},0,{"$f":"C43/$I$23*'Mineral Data Set'!C43","v":0},{"$f":"D43/'Mineral Data Set'!AR43","v":0},{"$error":"#DIV/0!"}]
[{"$f":"'Mineral Data Set'!A44","v":"Alm60Pyp20Spess10Gross10"},{"$f":"'Mineral Data Set'!B44","v":"Fe2+1.8Mg0.6Ca0.3Mn0.3Al2(SiO4)3"},0,{"$f":"C44/$I$23*'Mineral Data Set'!C44","v":0},{"$f":"D44/'Mineral Data Set'!AR44","v":0},{"$error":"#DIV/0!"}]
[{"$f":"'Mineral Data Set'!A45","v":"Forsterite"},{"$f":"'Mineral Data Set'!B45","v":"Mg2SiO4"},0,{"$f":"C45/$I$23*'Mineral Data Set'!C45","v":0},{"$f":"D45/'Mineral Data Set'!AR45","v":0},{"$error":"#DIV/0!"}]
[{"$f":"'Mineral Data Set'!A46","v":"Fayalite"},{"$f":"'Mineral Data Set'!B46","v":"Fe2SiO4"},0,{"$f":"C46/$I$23*'Mineral Data Set'!C46","v":0},{"$f":"D46/'Mineral Data Set'!AR46","v":0},{"$error":"#DIV/0!"}]
[{"$f":"'Mineral Data Set'!A47","v":"Chrysolite Fa20Fo80"},{"$f":"'Mineral Data Set'!B47","v":"Fe0.4Mg1.6SiO4"},0,{"$f":"C47/$I$23*'Mineral Data Set'!C47","v":0},{"$f":"D47/'Mineral Data Set'!AR47","v":0},{"$error":"#DIV/0!"}]
[{"$f":"'Mineral Data Set'!A48","v":"Hortonolite Fa50Fo50"},{"$f":"'Mineral Data Set'!B48","v":"FeMgSiO4"},0,{"$f":"C48/$I$23*'Mineral Data Set'!C48","v":0},{"$f":"D48/'Mineral Data Set'!AR48","v":0},{"$error":"#DIV/0!"}]
[{"$f":"'Mineral Data Set'!A49","v":"Ferro-Hortonolite Fo20Fa80"},{"$f":"'Mineral Data Set'!B49","v":"Fe1.6Mg0.4SiO4"},0,{"$f":"C49/$I$23*'Mineral Data Set'!C49","v":0},{"$f":"D49/'Mineral Data Set'!AR49","v":0},{"$error":"#DIV/0!"}]
[{"$f":"'Mineral Data Set'!A50","v":"Enstatite"},{"$f":"'Mineral Data Set'!B50","v":"Mg2Si2O6"},0,{"$f":"C50/$I$23*'Mineral Data Set'!C50","v":0},{"$f":"D50/'Mineral Data Set'!AR50","v":0},{"$error":"#DIV/0!"}]
[{"$f":"'Mineral Data Set'!A51","v":"Ferrosilite "},{"$f":"'Mineral Data Set'!B51","v":"Fe2Si2O6"},0,{"$f":"C51/$I$23*'Mineral Data Set'!C51","v":0},{"$f":"D51/'Mineral Data Set'!AR51","v":0},{"$error":"#DIV/0!"}]
[{"$f":"'Mineral Data Set'!A52","v":"HyperstheneEn50Fs50"},{"$f":"'Mineral Data Set'!B52","v":"FeMgSi2O6"},0,{"$f":"C52/$I$23*'Mineral Data Set'!C52","v":0},{"$f":"D52/'Mineral Data Set'!AR52","v":0},{"$error":"#DIV/0!"}]
[{"$f":"'Mineral Data Set'!A53","v":"Diopside"},{"$f":"'Mineral Data Set'!B53","v":"CaMgSi2O6"},0,{"$f":"C53/$I$23*'Mineral Data Set'!C53","v":0},{"$f":"D53/'Mineral Data Set'!AR53","v":0},{"$error":"#DIV/0!"}]
[{"$f":"'Mineral Data Set'!A54","v":"Hedenbergite"},{"$f":"'Mineral Data Set'!B54","v":"CaFeSi2O6"},0,{"$f":"C54/$I$23*'Mineral Data Set'!C54","v":0},{"$f":"D54/'Mineral Data Set'!AR54","v":0},{"$error":"#DIV/0!"}]
[{"$f":"'Mineral Data Set'!A55","v":"Salite Di50Hed50"},{"$f":"'Mineral Data Set'!B55","v":"Ca2FeMgSi4O12"},0,{"$f":"C55/$I$23*'Mineral Data Set'!C55","v":0},{"$f":"D55/'Mineral Data Set'!AR55","v":0},{"$error":"#DIV/0!"}]
[{"$f":"'Mineral Data Set'!A56","v":"Wollastonite"},{"$f":"'Mineral Data Set'!B56","v":"Ca2Si2O6"},0,{"$f":"C56/$I$23*'Mineral Data Set'!C56","v":0},{"$f":"D56/'Mineral Data Set'!AR56","v":0},{"$error":"#DIV/0!"}]
[{"$f":"'Mineral Data Set'!A57","v":"Fe Chlorite (Chamosite)"},{"$f":"'Mineral Data Set'!B57","v":"Fe2+10Al4Si6O20(OH)16"},0,{"$f":"C57/$I$23*'Mineral Data Set'!C57","v":0},{"$f":"D57/'Mineral Data Set'!AR57","v":0},{"$error":"#DIV/0!"}]
[{"$f":"'Mineral Data Set'!A58","v":"Mg Chlorite (Clinochlore)"},{"$f":"'Mineral Data Set'!B58","v":"Mg10Al4Si6O20(OH)16"},0,{"$f":"C58/$I$23*'Mineral Data Set'!C58","v":0},{"$f":"D58/'Mineral Data Set'!AR58","v":0},{"$error":"#DIV/0!"}]
[{"$f":"'Mineral Data Set'!A59","v":"Chlorite Fe20Mg80"},{"$f":"'Mineral Data Set'!B59","v":"Fe2+2Mg8Al4Si6O20(OH)16"},0,{"$f":"C59/$I$23*'Mineral Data Set'!C59","v":0},{"$f":"D59/'Mineral Data Set'!AR59","v":0},{"$error":"#DIV/0!"}]
[{"$f":"'Mineral Data Set'!A60","v":"Chlorite Fe50Mg50"},{"$f":"'Mineral Data Set'!B60","v":"Fe2+5Mg5Al4Si6O20(OH)16"},0,{"$f":"C60/$I$23*'Mineral Data Set'!C60","v":0},{"$f":"D60/'Mineral Data Set'!AR60","v":0},{"$error":"#DIV/0!"}]
[{"$f":"'Mineral Data Set'!A61","v":"Chlorite Fe80Mg20"},{"$f":"'Mineral Data Set'!B61","v":"Fe2+8Mg2Al4Si6O20(OH)16"},0,{"$f":"C61/$I$23*'Mineral Data Set'!C61","v":0},{"$f":"D61/'Mineral Data Set'!AR61","v":0},{"$error":"#DIV/0!"}]
[{"$f":"'Mineral Data Set'!A62","v":"Hornblende"},{"$f":"'Mineral Data Set'!B62","v":"   Ca2Fe2Mg2Al2Si7O22(OH)2"},0,{"$f":"C62/$I$23*'Mineral Data Set'!C62","v":0},{"$f":"D62/'Mineral Data Set'!AR62","v":0},{"$error":"#DIV/0!"}]
[{"$f":"'Mineral Data Set'!A63","v":"Glaucophane"},{"$f":"'Mineral Data Set'!B63","v":"   Na2Mg3Al2Si8O22(OH)2"},0,{"$f":"C63/$I$23*'Mineral Data Set'!C63","v":0},{"$f":"D63/'Mineral Data Set'!AR63","v":0},{"$error":"#DIV/0!"}]
[{"$f":"'Mineral Data Set'!A64","v":"Tremolite"},{"$f":"'Mineral Data Set'!B64","v":"   Ca2Mg5Si8O22(OH)2"},0,{"$f":"C64/$I$23*'Mineral Data Set'!C64","v":0},{"$f":"D64/'Mineral Data Set'!AR64","v":0},{"$error":"#DIV/0!"}]
[{"$f":"'Mineral Data Set'!A65","v":"Actinolite"},{"$f":"'Mineral Data Set'!B65","v":"   Ca2Fe2Mg3Si8O22(OH)2"},0,{"$f":"C65/$I$23*'Mineral Data Set'!C65","v":0},{"$f":"D65/'Mineral Data Set'!AR65","v":0},{"$error":"#DIV/0!"}]
[{"$f":"'Mineral Data Set'!A66","v":"Ferro-Edenite"},{"$f":"'Mineral Data Set'!B66","v":"   NaCa2Mg2Fe3AlSi7O22(OH)2"},0,{"$f":"C66/$I$23*'Mineral Data Set'!C66","v":0},{"$f":"D66/'Mineral Data Set'!AR66","v":0},{"$error":"#DIV/0!"}]
[{"$f":"'Mineral Data Set'!A67","v":"Tschermakite"},{"$f":"'Mineral Data Set'!B67","v":"   Ca2Mg3Al4Si6O22(OH)2"},0,{"$f":"C67/$I$23*'Mineral Data Set'!C67","v":0},{"$f":"D67/'Mineral Data Set'!AR67","v":0},{"$error":"#DIV/0!"}]
[{"$f":"'Mineral Data Set'!A68","v":"Pargasite"},{"$f":"'Mineral Data Set'!B68","v":"NaCa2Fe2Mg2Al3Si6O22(OH)2"},0,{"$f":"C68/$I$23*'Mineral Data Set'!C68","v":0},{"$f":"D68/'Mineral Data Set'!AR68","v":0},{"$error":"#DIV/0!"}]
[{"$f":"'Mineral Data Set'!A69","v":"Hastingsite"},{"$f":"'Mineral Data Set'!B69","v":"NaCa2Fe2+4Fe3+Al2Si6O22(OH)2"},0,{"$f":"C69/$I$23*'Mineral Data Set'!C69","v":0},{"$f":"D69/'Mineral Data Set'!AR69","v":0},{"$error":"#DIV/0!"}]
[{"$f":"'Mineral Data Set'!A70","v":"NaCa Scapolite (Mizzonite)"},{"$f":"'Mineral Data Set'!B70","v":"Na4Ca4(Al9Si15O47.5)CO3SO4"},0,{"$f":"C70/$I$23*'Mineral Data Set'!C70","v":0},{"$f":"D70/'Mineral Data Set'!AR70","v":0},{"$f":"E70/$E$109*100","v":{"$error":"#DIV/0!"}}]
[{"$f":"'Mineral Data Set'!A71","v":"Titanite"},{"$f":"'Mineral Data Set'!B71","v":"CaTiSiO5"},0,{"$f":"C71/$I$23*'Mineral Data Set'!C71","v":0},{"$f":"D71/'Mineral Data Set'!AR71","v":0},{"$error":"#DIV/0!"}]
[{"$f":"'Mineral Data Set'!A72","v":"Rutile"},{"$f":"'Mineral Data Set'!B72","v":"TiO2"},0,{"$f":"C72/$I$23*'Mineral Data Set'!C72","v":0},{"$f":"D72/'Mineral Data Set'!AR72","v":0},{"$error":"#DIV/0!"}]
[{"$f":"'Mineral Data Set'!A73","v":"Spinel"},{"$f":"'Mineral Data Set'!B73","v":"MgAl2O4"},0,{"$f":"C73/$I$23*'Mineral Data Set'!C73","v":0},{"$f":"D73/'Mineral Data Set'!AR73","v":0},{"$error":"#DIV/0!"}]
[{"$f":"'Mineral Data Set'!A74","v":"Hercynite"},{"$f":"'Mineral Data Set'!B74","v":"Fe2+Al2O4"},0,{"$f":"C74/$I$23*'Mineral Data Set'!C74","v":0},{"$f":"D74/'Mineral Data Set'!AR74","v":0},{"$error":"#DIV/0!"}]
[{"$f":"'Mineral Data Set'!A75","v":"Chromite"},{"$f":"'Mineral Data Set'!B75","v":"Fe2+Cr2O4"},0,{"$f":"C75/$I$23*'Mineral Data Set'!C75","v":0},{"$f":"D75/'Mineral Data Set'!AR75","v":0},{"$error":"#DIV/0!"}]
[{"$f":"'Mineral Data Set'!A76","v":"Magnetite"},{"$f":"'Mineral Data Set'!B76","v":"Fe3O4"},0,{"$f":"C76/$I$23*'Mineral Data Set'!C76","v":0},{"$f":"D76/'Mineral Data Set'!AR76","v":0},{"$error":"#DIV/0!"}]
[{"$f":"'Mineral Data Set'!A77","v":"Ilmenite"},{"$f":"'Mineral Data Set'!B77","v":"FeTiO3"},0,{"$f":"C77/$I$23*'Mineral Data Set'!C77","v":0},{"$f":"D77/'Mineral Data Set'!AR77","v":0},{"$error":"#DIV/0!"}]
[{"$f":"'Mineral Data Set'!A78","v":"Hematite"},{"$f":"'Mineral Data Set'!B78","v":"Fe2O3"},0,{"$f":"C78/$I$23*'Mineral Data Set'!C78","v":0},{"$f":"D78/'Mineral Data Set'!AR78","v":0},{"$error":"#DIV/0!"}]
[{"$f":"'Mineral Data Set'!A79","v":"Gypsum"},{"$f":"'Mineral Data Set'!B79","v":"CaSO4 ˑ 2H2O"},0,{"$f":"C79/$I$23*'Mineral Data Set'!C79","v":0},{"$f":"D79/'Mineral Data Set'!AR79","v":0},{"$error":"#DIV/0!"}]
[{"$f":"'Mineral Data Set'!A80","v":"Baryte"},{"$f":"'Mineral Data Set'!B80","v":"BaSO4"},0,{"$f":"C80/$I$23*'Mineral Data Set'!C80","v":0},{"$f":"D80/'Mineral Data Set'!AR80","v":0},{"$error":"#DIV/0!"}]
[{"$f":"'Mineral Data Set'!A81","v":"Calcite"},{"$f":"'Mineral Data Set'!B81","v":"CaCO3"},0,{"$f":"C81/$I$23*'Mineral Data Set'!C81","v":0},{"$f":"D81/'Mineral Data Set'!AR81","v":0},{"$error":"#DIV/0!"}]
[{"$f":"'Mineral Data Set'!A82","v":"Dolomite"},{"$f":"'Mineral Data Set'!B82","v":"MgCa(CO3)2"},0,{"$f":"C82/$I$23*'Mineral Data Set'!C82","v":0},{"$f":"D82/'Mineral Data Set'!AR82","v":0},{"$error":"#DIV/0!"}]
[{"$f":"'Mineral Data Set'!A83","v":"Magnesite"},{"$f":"'Mineral Data Set'!B83","v":"MgCO3"},0,{"$f":"C83/$I$23*'Mineral Data Set'!C83","v":0},{"$f":"D83/'Mineral Data Set'!AR83","v":0},{"$error":"#DIV/0!"}]
[{"$f":"'Mineral Data Set'!A84","v":"Siderite"},{"$f":"'Mineral Data Set'!B84","v":"FeCO3"},0,{"$f":"C84/$I$23*'Mineral Data Set'!C84","v":0},{"$f":"D84/'Mineral Data Set'!AR84","v":0},{"$error":"#DIV/0!"}]
[{"$f":"'Mineral Data Set'!A85","v":"Corundum"},{"$f":"'Mineral Data Set'!B85","v":"Al2O3"},0,{"$f":"C85/$I$23*'Mineral Data Set'!C85","v":0},{"$f":"D85/'Mineral Data Set'!AR85","v":0},{"$error":"#DIV/0!"}]
[{"$f":"'Mineral Data Set'!A86","v":"Epidote"},{"$f":"'Mineral Data Set'!B86","v":"Ca2Al2Fe3+Si3O12(OH)"},0,{"$f":"C86/$I$23*'Mineral Data Set'!C86","v":0},{"$f":"D86/'Mineral Data Set'!AR86","v":0},{"$error":"#DIV/0!"}]
[{"$f":"'Mineral Data Set'!A87","v":"Zoisite"},{"$f":"'Mineral Data Set'!B87","v":"Ca2Al3Si3O12(OH)"},0,{"$f":"C87/$I$23*'Mineral Data Set'!C87","v":0},{"$f":"D87/'Mineral Data Set'!AR87","v":0},{"$error":"#DIV/0!"}]
[{"$f":"'Mineral Data Set'!A88","v":"Apatite (Hydroxylapatite)"},{"$f":"'Mineral Data Set'!B88","v":"Ca5(PO4)3(OH)"},0,{"$f":"C88/$I$23*'Mineral Data Set'!C88","v":0},{"$f":"D88/'Mineral Data Set'!AR88","v":0},{"$error":"#DIV/0!"}]
[{"$f":"'Mineral Data Set'!A89","v":"Tourmaline Drav50Schorl50"},{"$f":"'Mineral Data Set'!B89","v":"NaFe2+1.5Mg1.5Al6(BO3)3Si6O18(OH)4"},0,{"$f":"C89/$I$23*'Mineral Data Set'!C89","v":0},{"$f":"D89/'Mineral Data Set'!AR89","v":0},{"$error":"#DIV/0!"}]
[{"$f":"'Mineral Data Set'!A90","v":"grt"},{"$f":"'Mineral Data Set'!B90","v":"HV6.2b_1"},0,{"$f":"C90/$I$23*'Mineral Data Set'!C90","v":0},{"$f":"D90/'Mineral Data Set'!AR90","v":{"$error":"#DIV/0!"}},{"$error":"#DIV/0!"}]
[{"$f":"'Mineral Data Set'!A91","v":"grt"},{"$f":"'Mineral Data Set'!B91","v":"HV6.2b_2"},0,{"$f":"C91/$I$23*'Mineral Data Set'!C91","v":0},{"$f":"D91/'Mineral Data Set'!AR91","v":{"$error":"#DIV/0!"}},{"$error":"#DIV/0!"}]
[{"$f":"'Mineral Data Set'!A92","v":"grt"},{"$f":"'Mineral Data Set'!B92","v":"HV6.2b_3"},0,{"$f":"C92/$I$23*'Mineral Data Set'!C92","v":0},{"$f":"D92/'Mineral Data Set'!AR92","v":{"$error":"#DIV/0!"}},{"$error":"#DIV/0!"}]
[{"$f":"'Mineral Data Set'!A93","v":"cpx"},{"$f":"'Mineral Data Set'!B93","v":"HV6.2b_6"},0,{"$f":"C93/$I$23*'Mineral Data Set'!C93","v":0},{"$f":"D93/'Mineral Data Set'!AR93","v":{"$error":"#DIV/0!"}},{"$error":"#DIV/0!"}]
[{"$f":"'Mineral Data Set'!A94","v":"cpx"},{"$f":"'Mineral Data Set'!B94","v":"HV6.2b_7"},0,{"$f":"C94/$I$23*'Mineral Data Set'!C94","v":0},{"$f":"D94/'Mineral Data Set'!AR94","v":{"$error":"#DIV/0!"}},{"$error":"#DIV/0!"}]
[{"$f":"'Mineral Data Set'!A95","v":"cpx"},{"$f":"'Mineral Data Set'!B95","v":"HV6.2b_8"},0,{"$f":"C95/$I$23*'Mineral Data Set'!C95","v":0},{"$f":"D95/'Mineral Data Set'!AR95","v":{"$error":"#DIV/0!"}},{"$error":"#DIV/0!"}]
[{"$f":"'Mineral Data Set'!A96","v":"cpx"},{"$f":"'Mineral Data Set'!B96","v":"HV6.2b_11"},0,{"$f":"C96/$I$23*'Mineral Data Set'!C96","v":0},{"$f":"D96/'Mineral Data Set'!AR96","v":{"$error":"#DIV/0!"}},{"$error":"#DIV/0!"}]
[{"$f":"'Mineral Data Set'!A97","v":"Hbl"},{"$f":"'Mineral Data Set'!B97","v":"HV6.2b_9"},0,{"$f":"C97/$I$23*'Mineral Data Set'!C97","v":0},{"$f":"D97/'Mineral Data Set'!AR97","v":{"$error":"#DIV/0!"}},{"$error":"#DIV/0!"}]
[{"$f":"'Mineral Data Set'!A98","v":"Hbl"},{"$f":"'Mineral Data Set'!B98","v":"HV6.2b_10"},0,{"$f":"C98/$I$23*'Mineral Data Set'!C98","v":0},{"$f":"D98/'Mineral Data Set'!AR98","v":{"$error":"#DIV/0!"}},{"$error":"#DIV/0!"}]
[{"$f":"'Mineral Data Set'!A99","v":"Prg"},{"$f":"'Mineral Data Set'!B99","v":"HV6.2b_18"},0,{"$f":"C99/$I$23*'Mineral Data Set'!C99","v":0},{"$f":"D99/'Mineral Data Set'!AR99","v":{"$error":"#DIV/0!"}},{"$error":"#DIV/0!"}]
[{"$f":"'Mineral Data Set'!A100","v":"Prg"},{"$f":"'Mineral Data Set'!B100","v":"HV6.2b_19"},0,{"$f":"C100/$I$23*'Mineral Data Set'!C100","v":0},{"$f":"D100/'Mineral Data Set'!AR100","v":{"$error":"#DIV/0!"}},{"$error":"#DIV/0!"}]
[{"$f":"'Mineral Data Set'!A101","v":"Chl"},{"$f":"'Mineral Data Set'!B101","v":"HV6.2a_3"},0,{"$f":"C101/$I$23*'Mineral Data Set'!C101","v":0},{"$f":"D101/'Mineral Data Set'!AR101","v":{"$error":"#DIV/0!"}},{"$error":"#DIV/0!"}]
[{"$f":"'Mineral Data Set'!A102","v":"Chl"},{"$f":"'Mineral Data Set'!B102","v":"HV6.2a_4"},0,{"$f":"C102/$I$23*'Mineral Data Set'!C102","v":0},{"$f":"D102/'Mineral Data Set'!AR102","v":{"$error":"#DIV/0!"}},{"$error":"#DIV/0!"}]
[{"$f":"'Mineral Data Set'!A103","v":"Ep"},{"$f":"'Mineral Data Set'!B103","v":"HV6.2b_7"},0,{"$f":"C103/$I$23*'Mineral Data Set'!C103","v":0},{"$f":"D103/'Mineral Data Set'!AR103","v":{"$error":"#DIV/0!"}},{"$error":"#DIV/0!"}]
[{"$f":"'Mineral Data Set'!A104","v":"Ep"},{"$f":"'Mineral Data Set'!B104","v":"HV6.2b_8"},0,{"$f":"C104/$I$23*'Mineral Data Set'!C104","v":0},{"$f":"D104/'Mineral Data Set'!AR104","v":{"$error":"#DIV/0!"}},{"$error":"#DIV/0!"}]
[{"$f":"'Mineral Data Set'!A105","v":"New Phase"},{"$f":"'Mineral Data Set'!B105","v":0},0,{"$f":"C105/$I$23*'Mineral Data Set'!C105","v":0},{"$f":"D105/'Mineral Data Set'!AR105","v":0},{"$error":"#DIV/0!"}]
[{"$f":"'Mineral Data Set'!A106","v":"New Phase"},{"$f":"'Mineral Data Set'!B106","v":0},0,{"$f":"C106/$I$23*'Mineral Data Set'!C106","v":0},{"$f":"D106/'Mineral Data Set'!AR106","v":0},{"$error":"#DIV/0!"}]
[{"$f":"'Mineral Data Set'!A107","v":"New Phase"},{"$f":"'Mineral Data Set'!B107","v":0},0,{"$f":"C107/$I$23*'Mineral Data Set'!C107","v":0},{"$f":"D107/'Mineral Data Set'!AR107","v":0},{"$error":"#DIV/0!"}]
[{"$f":"'Mineral Data Set'!A108","v":"New Phase"},{"$f":"'Mineral Data Set'!B108","v":0},0,{"$f":"C108/$I$23*'Mineral Data Set'!C108","v":0},{"$f":"D108/'Mineral Data Set'!AR108","v":0},{"$error":"#DIV/0!"}]
[null,"Total",{"$f":"SUM(C3:C108)","v":100},{"$f":"SUM(D3:D108)","v":100},{"$f":"SUM(E3:E108)","v":{"$error":"#DIV/0!"}},{"$error":"#DIV/0!"}]

{"sheet":"Phase Theriak converter","index":4,"n_rows":27,"n_cols":6,"rows_kept":27,"cut":false,"hidden":false,"merged":[]}
[]
[null,"Input oxide wt%  ","Oxide mole prop.","Atomic prop.",null,"Copy to Theriak-Domino THERIN file"]
["Wt%                                 SiO2",{"$f":"'Phase Rock Maker'!I3","v":100},{"$f":"B3/Info!C25","v":1.6643144355976887},{"$f":"INT('Phase Rock Maker'!$Q$22*C3/$C$23)/100","v":100},null,{"$f":"\"SI(\"&D3&\")AL(\"&D4&\")FE(\"&D22&\")MG(\"&D9&\")CA(\"&D11&\")NA(\"&D12&\")K(\"&D13&\")O(?)H(\"&D15&\")C(\"&D16&\")S(\"&D17&\")O(\"&D18&\")\"","v":"SI(100)AL(0)FE(0)MG(0)CA(0)NA(0)K(0)O(?)H(0)C(0)S(0)O(0)"}]
["Al2O3",{"$f":"'Phase Rock Maker'!I4","v":0},{"$f":"2*B4/Info!C27","v":0},{"$f":"INT('Phase Rock Maker'!$Q$22*C4/$C$23)/100","v":0}]
["Fe2O3",{"$f":"'Phase Rock Maker'!I5","v":0}," -"," -"]
["Cr2O3",{"$f":"'Phase Rock Maker'!I6","v":0},{"$f":"2*B6/Info!C28","v":0},{"$f":"INT('Phase Rock Maker'!$Q$22*C6/$C$23)/100","v":0}]
["TiO2",{"$f":"'Phase Rock Maker'!I7","v":0},{"$f":"B7/Info!C26","v":0},{"$f":"INT('Phase Rock Maker'!$Q$22*C7/$C$23)/100","v":0}]
["FeO",{"$f":"'Phase Rock Maker'!I8","v":0}," -"," -"]
["MgO",{"$f":"'Phase Rock Maker'!I9","v":0},{"$f":"B9/Info!C29","v":0},{"$f":"INT('Phase Rock Maker'!$Q$22*C9/$C$23)/100","v":0}]
["MnO",{"$f":"'Phase Rock Maker'!I10","v":0},{"$f":"B10/Info!C31","v":0},{"$f":"INT('Phase Rock Maker'!$Q$22*C10/$C$23)/100","v":0}]
["CaO",{"$f":"'Phase Rock Maker'!I11","v":0},{"$f":"B11/Info!C30","v":0},{"$f":"INT('Phase Rock Maker'!$Q$22*C11/$C$23)/100","v":0}]
["Na2O",{"$f":"'Phase Rock Maker'!I12","v":0},{"$f":"2*B12/Info!C35","v":0},{"$f":"INT('Phase Rock Maker'!$Q$22*C12/$C$23)/100","v":0}]
["K2O",{"$f":"'Phase Rock Maker'!I13","v":0},{"$f":"2*B13/Info!C36","v":0},{"$f":"INT('Phase Rock Maker'!$Q$22*C13/$C$23)/100","v":0}]
["BaO",{"$f":"'Phase Rock Maker'!I14","v":0},{"$f":"B14/Info!C34","v":0},{"$f":"INT('Phase Rock Maker'!$Q$22*C14/$C$23)/100","v":0}]
["H2O",{"$f":"'Phase Rock Maker'!I15","v":0},{"$f":"2*B15/Info!C39","v":0},{"$f":"INT('Phase Rock Maker'!$Q$22*C15/$C$23)/100","v":0}]
["CO2",{"$f":"'Phase Rock Maker'!I16","v":0},{"$f":"B16/Info!C40","v":0},{"$f":"INT('Phase Rock Maker'!$Q$22*C16/$C$23)/100","v":0}]
["SO3",{"$f":"'Phase Rock Maker'!I17","v":0},{"$f":"B17/Info!C37","v":0},{"$f":"INT('Phase Rock Maker'!$Q$22*C17/$C$23)/100","v":0}]
["O2",{"$f":"'Phase Rock Maker'!I18","v":0},{"$f":"B18/Info!C38","v":0},{"$f":"INT('Phase Rock Maker'!$Q$22*C18/$C$23)/100","v":0}]
["Li2O",{"$f":"'Phase Rock Maker'!I19","v":0},{"$f":"2*B19/Info!C43","v":0},{"$f":"INT('Phase Rock Maker'!$Q$22*C19/$C$23)/100","v":0}]
["B2O3",{"$f":"'Phase Rock Maker'!I20","v":0},{"$f":"B20*B20/Info!C41","v":0},{"$f":"INT('Phase Rock Maker'!$Q$22*C20/$C$23)/100","v":0}]
["P2O5",{"$f":"'Phase Rock Maker'!I21","v":0},{"$f":"2*B21/Info!C42","v":0},{"$f":"INT('Phase Rock Maker'!$Q$22*C21/$C$23)/100","v":0}]
["FeOtot",{"$f":"B8+B5*0.8998","v":0},{"$f":"B22/Info!C32","v":0},{"$f":"INT('Phase Rock Maker'!$Q$22*C22/$C$23)/100","v":0}]
["Total",{"$f":"'Whole Rock Maker'!C86","v":99.999999999999986},{"$f":"SUM(C3:C22)","v":1.6643144355976887},{"$f":"SUM(D3:D22)","v":100}]
[]
[]
["Important!"]
["The value Fe2O3 from the chemical analysis is transformed into FeO (FeOtot = FeO+Fe2O3 x 0.8998). "]

{"sheet":"Mineral Maker","index":5,"n_rows":29,"n_cols":10,"rows_kept":29,"cut":false,"hidden":false,"merged":[]}
[]
[null,"Input oxide wt%  ","Oxide mole prop.","Atomic prop.","Oxygens",null,"Norm Atom prop.","Rounded"]
["Wt%                                 SiO2",38.798730230888239,{"$f":"B3/Info!C25","v":0.64573286806127739},{"$f":"INT(100*$B$22*C3/$C$22)/100","v":30},{"$f":"D3*2","v":60},"Si",{"$f":"(D3*$G$25)","v":3},{"$f":"ROUND((D3*$G$25), 2)","v":3},null,{"$f":"\"Si(\"&H3&\")Al(\"&H4&\")Fe3+(\"&H5&\")Cr(\"&H6&\")Ti(\"&H7&\")Fe2+(\"&H8&\")Mg(\"&H9&\")Mn(\"&H10&\")Ca(\"&H11&\")Na(\"&H12&\")K(\"&H13&\")Ba(\"&H14&\")Li(\"&H19&\")B(\"&H20&\")PO4(\"&H21&\")OH(\"&H15&\")CO2(\"&H16&\")SO3(\"&H17&\")O2(\"&H18&\")O(\"&G24-0.5*H15&\")\"","v":"Si(3)Al(1)Fe3+(0)Cr(0)Ti(0)Fe2+(1.5)Mg(1.5)Mn(0)Ca(0)Na(0)K(1)Ba(0)Li(0)B(0)PO4(0)OH(2)CO2(0)SO3(0)O2(0)O(10)"}]
["Al2O3",10.973283017828253,{"$f":"2*B4/Info!C27","v":0.21524428935375914},10,{"$f":"D4*1.5","v":15},"Al",{"$f":"(D4*$G$25)","v":1},{"$f":"ROUND((D4*$G$25), 2)","v":1}]
["Fe2O3",0,{"$f":"2*B5/Info!C33","v":0},0,{"$f":"D5*1.5","v":0},"Fe3+",{"$f":"(D5*$G$25)","v":0},0]
["Cr2O3",0,{"$f":"2*B6/Info!C28","v":0},0,{"$f":"D6*1.5","v":0},"Cr",0,0]
["TiO2",0,{"$f":"B7/Info!C26","v":0},0,{"$f":"D7*2","v":0},"Ti",0,0]
["FeO",23.196790965938881,{"$f":"B8/Info!C32","v":0.32286643403063869},15,{"$f":"D8","v":15},"Fe2+",1.5,1.5]
["MgO",13.01519796878269,{"$f":"B9/Info!C29","v":0.32286643403063875},15,{"$f":"D9","v":15},"Mg",1.5,1.5]
["MnO",0,{"$f":"B10/Info!C31","v":0},0,{"$f":"D10","v":0},"Mn",0,0]
["CaO",0,{"$f":"B11/Info!C30","v":0},0,{"$f":"D11","v":0},"Ca",0,0]
["Na2O",0,{"$f":"2*B12/Info!C35","v":0},0,{"$f":"D12*0.5","v":0},"Na",0,0]
["K2O",10.138371943853958,{"$f":"2*B13/Info!C36","v":0.21524428935375917},10,{"$f":"D13*0.5","v":5},"K",1,1]
["BaO",0,{"$f":"B14/Info!C34","v":0},0,{"$f":"D14","v":0},"Ba",0,0]
["H2O",3.8776258727079709,{"$f":"2*B15/Info!C39","v":0.43048857870751828},20,{"$f":"D15*0.5","v":10},"OH",2,2]
["CO2",0,{"$f":"B16/Info!C40","v":0},0,{"$f":"D16*2","v":0},"(CO2)",0,0]
["SO3",0,{"$f":"B17/Info!C37","v":0},0,{"$f":"D17*3","v":0},"(SO3)",0,0]
["O2",0,{"$f":"B18/Info!C38","v":0},0,{"$f":"D18","v":0},"(O2)",0,0]
["Li2O",0,{"$f":"2*B19/Info!C43","v":0},0,{"$f":"D19*0.5","v":0},"Li",0,0]
["B2O3",0,{"$f":"2*B20/Info!C41","v":0},0,{"$f":"D20*1.5","v":0},"BO3",0,0]
["P2O5",0,{"$f":"2*B21/Info!C42","v":0},0,{"$f":"D21*2.5","v":0},"PO4",0,0]
["Total",{"$f":"SUM(B3:B21)","v":99.999999999999972},{"$f":"SUM(C3:C21)","v":2.1524428935375912},{"$f":"SUM(D3:D21)","v":100},{"$f":"SUM(E3:E14)+E19+E20+E21","v":110},"Total",{"$f":"SUM(G3:G21)","v":10},{"$f":"SUM(H3:H21)","v":10}]
[]
[null,null,null,null,null,"Normalise to ",11,"cation+ anionic oxygens*"]
[null,null,null,null,null,"Factor",{"$f":"G24/E22","v":0.1}]
[]
[null,null,null,null,null,"*Add all oxygens in molecules (CO3, SO4, BO3, etc.), but for (OH) only 0.5 oxygens. "]
[null,null,null,null,null,"  Leave out oxygen in (OH) if this (OH) is not part of the structure (e.g. in cordierite) "]
[null,null,null,null,null,"  and correct the oxygen number in the structural formula accordingly."]

{"sheet":"Mineral Data Set","index":6,"n_rows":117,"n_cols":65,"rows_kept":117,"cut":false,"hidden":false,"merged":[]}
[null,null,null,null,"Molar Proportions",null,null,null,null,null,null,null,null,null,null,null,null,null,null,null,null,null,null,null,"Oxide Weight Proportions",null,null,null,null,null,null,null,null,null,null,null,null,null,null,null,null,null,null,null,null,"Oxide wt%"]
["Phase ","Structural formula","Density","Prop. density","SiO2","Al2O3","MgO","FeO","Fe2O3","MnO","CaO","K2O","Na2O","BaO","Cr2O3","TiO2","SO3","O2","H2O","CO2","Li2O","B2O3","P2O5",null,"SiO2","Al2O3","MgO","FeO","Fe2O3","MnO","CaO","K2O","Na2O","BaO","Cr2O3","TiO2","SO3","O2","H2O","CO2","Li2O","B2O3","P2O5","Molar mass",null,"SiO2","Al2O3","MgO","FeO","Fe2O3","MnO","CaO","K2O","Na2O","BaO","Cr2O3","TiO2","SO3","O2","H2O","CO2","Li2O","B2O3","P2O5","Total"]
["Quartz","SiO2",2.65,{"$f":"C3*'Phase Rock Maker'!C3","v":265},1,null,null,null,null,null,null,null,null,null,null,null,null,null,null,null,null,null,null,null,{"$f":"E3*Info!$C$25","v":60.084800000000001},{"$f":"F3*Info!$C$27","v":0},{"$f":"G3*Info!$C$29","v":0},{"$f":"H3*Info!$C$32","v":0},{"$f":"I3*Info!$C$33","v":0},{"$f":"J3*Info!$C$31","v":0},{"$f":"K3*Info!$C$30","v":0},{"$f":"L3*Info!$C$36","v":0},{"$f":"M3*Info!$C$35","v":0},{"$f":"N3*Info!$C$34","v":0},{"$f":"O3*Info!$C$28","v":0},{"$f":"P3*Info!$C$26","v":0},{"$f":"Q3*Info!$C$37","v":0},{"$f":"R3*Info!$C$38","v":0},{"$f":"S3*Info!$C$39","v":0},{"$f":"T3*Info!$C$40","v":0},{"$f":"U3*Info!$C$43","v":0},{"$f":"V3*Info!$C$41","v":0},{"$f":"W3*Info!$C$42","v":0},{"$f":"SUM(Y3:AQ3)","v":60.084800000000001},null,{"$f":"Y3/$AR3*100","v":100},0,0,0,0,0,0,0,0,0,0,0,0,0,0,0,0,{"$f":"AP3/$AR3*100","v":0},{"$f":"AQ3/$AR3*100","v":0},{"$f":"SUM(AT3:BL3)","v":100}]
["Albite","NaAlSi3O8",2.62,{"$f":"C4*'Phase Rock Maker'!C4","v":0},3,0.5,null,null,null,null,null,null,0.5,null,null,null,null,null,null,null,null,null,null,null,{"$f":"E4*Info!$C$25","v":180.2544},{"$f":"F4*Info!$C$27","v":50.980600000000003},{"$f":"G4*Info!$C$29","v":0},{"$f":"H4*Info!$C$32","v":0},{"$f":"I4*Info!$C$33","v":0},{"$f":"J4*Info!$C$31","v":0},{"$f":"K4*Info!$C$30","v":0},{"$f":"L4*Info!$C$36","v":0},{"$f":"M4*Info!$C$35","v":30.9895},{"$f":"N4*Info!$C$34","v":0},{"$f":"O4*Info!$C$28","v":0},{"$f":"P4*Info!$C$26","v":0},{"$f":"Q4*Info!$C$37","v":0},{"$f":"R4*Info!$C$38","v":0},{"$f":"S4*Info!$C$39","v":0},{"$f":"T4*Info!$C$40","v":0},{"$f":"U4*Info!$C$43","v":0},{"$f":"V4*Info!$C$41","v":0},{"$f":"W4*Info!$C$42","v":0},{"$f":"SUM(Y4:AQ4)","v":262.22450000000003},null,{"$f":"Y4/$AR4*100","v":68.74048763559469},{"$f":"Z4/$AR4*100","v":19.441585359110228},{"$f":"AA4/$AR4*100","v":0},{"$f":"AB4/$AR4*100","v":0},{"$f":"AC4/$AR4*100","v":0},{"$f":"AD4/$AR4*100","v":0},{"$f":"AE4/$AR4*100","v":0},{"$f":"AF4/$AR4*100","v":0},{"$f":"AG4/$AR4*100","v":11.817927005295079},{"$f":"AH4/$AR4*100","v":0},{"$f":"AI4/$AR4*100","v":0},{"$f":"AJ4/$AR4*100","v":0},{"$f":"AK4/$AR4*100","v":0},{"$f":"AL4/$AR4*100","v":0},{"$f":"AM4/$AR4*100","v":0},{"$f":"AN4/$AR4*100","v":0},0,{"$f":"AP4/$AR4*100","v":0},{"$f":"AQ4/$AR4*100","v":0},{"$f":"SUM(AT4:BL4)","v":100}]
["Anorthite","CaAl2Si2O8",2.76,{"$f":"C5*'Phase Rock Maker'!C5","v":0},2,1,null,null,null,null,1,null,null,null,null,null,null,null,null,null,null,null,null,null,{"$f":"E5*Info!$C$25","v":120.1696},{"$f":"F5*Info!$C$27","v":101.96120000000001},{"$f":"G5*Info!$C$29","v":0},{"$f":"H5*Info!$C$32","v":0},{"$f":"I5*Info!$C$33","v":0},{"$f":"J5*Info!$C$31","v":0},{"$f":"K5*Info!$C$30","v":56.0794},{"$f":"L5*Info!$C$36","v":0},{"$f":"M5*Info!$C$35","v":0},{"$f":"N5*Info!$C$34","v":0},{"$f":"O5*Info!$C$28","v":0},{"$f":"P5*Info!$C$26","v":0},{"$f":"Q5*Info!$C$37","v":0},{"$f":"R5*Info!$C$38","v":0},{"$f":"S5*Info!$C$39","v":0},{"$f":"T5*Info!$C$40","v":0},{"$f":"U5*Info!$C$43","v":0},{"$f":"V5*Info!$C$41","v":0},{"$f":"W5*Info!$C$42","v":0},278.21020000000004,null,{"$f":"Y5/$AR5*100","v":43.193815323809112},36.648979800165485,0,0,0,0,20.157204876025393,0,0,0,0,0,0,0,0,0,0,0,0,{"$f":"SUM(AT5:BL5)","v":99.999999999999986}]
["Oligoclase An15","Na0.85Ca0.15Al1.15Si2.85O8",2.64,{"$f":"C6*'Phase Rock Maker'!C6","v":0},2.85,0.57499999999999996,null,null,null,null,0.15,null,0.42499999999999999,null,null,null,null,null,null,null,null,null,null,null,{"$f":"E6*Info!$C$25","v":171.24168},{"$f":"F6*Info!$C$27","v":58.627690000000001},{"$f":"G6*Info!$C$29","v":0},{"$f":"H6*Info!$C$32","v":0},{"$f":"I6*Info!$C$33","v":0},{"$f":"J6*Info!$C$31","v":0},{"$f":"K6*Info!$C$30","v":8.4119099999999989},{"$f":"L6*Info!$C$36","v":0},{"$f":"M6*Info!$C$35","v":26.341075},{"$f":"N6*Info!$C$34","v":0},{"$f":"O6*Info!$C$28","v":0},{"$f":"P6*Info!$C$26","v":0},{"$f":"Q6*Info!$C$37","v":0},{"$f":"R6*Info!$C$38","v":0},{"$f":"S6*Info!$C$39","v":0},{"$f":"T6*Info!$C$40","v":0},{"$f":"U6*Info!$C$43","v":0},{"$f":"V6*Info!$C$41","v":0},{"$f":"W6*Info!$C$42","v":0},264.62235500000003,null,{"$f":"Y6/$AR6*100","v":64.711720973082564},{"$f":"Z6/$AR6*100","v":22.155229477872343},{"$f":"AA6/$AR6*100","v":0},{"$f":"AB6/$AR6*100","v":0},{"$f":"AC6/$AR6*100","v":0},{"$f":"AD6/$AR6*100","v":0},{"$f":"AE6/$AR6*100","v":3.1788357412207287},{"$f":"AF6/$AR6*100","v":0},{"$f":"AG6/$AR6*100","v":9.9542138078243614},{"$f":"AH6/$AR6*100","v":0},{"$f":"AI6/$AR6*100","v":0},{"$f":"AJ6/$AR6*100","v":0},{"$f":"AK6/$AR6*100","v":0},{"$f":"AL6/$AR6*100","v":0},{"$f":"AM6/$AR6*100","v":0},{"$f":"AN6/$AR6*100","v":0},0,0,0,99.999999999999986]
["Andesine An40","Na0.6Ca0.4Al1.4Si2.6O8",2.68,{"$f":"C7*'Phase Rock Maker'!C7","v":0},2.6,0.7,null,null,null,null,0.4,null,0.3,null,null,null,null,null,null,null,null,null,null,null,{"$f":"E7*Info!$C$25","v":156.22048000000001},{"$f":"F7*Info!$C$27","v":71.372839999999997},{"$f":"G7*Info!$C$29","v":0},{"$f":"H7*Info!$C$32","v":0},{"$f":"I7*Info!$C$33","v":0},{"$f":"J7*Info!$C$31","v":0},{"$f":"K7*Info!$C$30","v":22.431760000000001},{"$f":"L7*Info!$C$36","v":0},{"$f":"M7*Info!$C$35","v":18.593699999999998},{"$f":"N7*Info!$C$34","v":0},{"$f":"O7*Info!$C$28","v":0},{"$f":"P7*Info!$C$26","v":0},{"$f":"Q7*Info!$C$37","v":0},{"$f":"R7*Info!$C$38","v":0},{"$f":"S7*Info!$C$39","v":0},{"$f":"T7*Info!$C$40","v":0},{"$f":"U7*Info!$C$43","v":0},{"$f":"V7*Info!$C$41","v":0},{"$f":"W7*Info!$C$42","v":0},268.61878000000002,null,58.156946435390708,26.570309045406276,0,0,0,0,8.3507787504656221,0,6.9219657687373894,0,0,0,0,0,0,0,0,0,0,100]
["Labradorite An60","Na0.4Ca0.6Al1.6Si2.4O8",2.7,{"$f":"C8*'Phase Rock Maker'!C8","v":0},2.4,0.8,null,null,null,null,0.6,null,0.2,null,null,null,null,null,null,null,null,null,null,null,{"$f":"E8*Info!$C$25","v":144.20352},{"$f":"F8*Info!$C$27","v":81.568960000000004},{"$f":"G8*Info!$C$29","v":0},{"$f":"H8*Info!$C$32","v":0},{"$f":"I8*Info!$C$33","v":0},{"$f":"J8*Info!$C$31","v":0},{"$f":"K8*Info!$C$30","v":33.647639999999996},{"$f":"L8*Info!$C$36","v":0},{"$f":"M8*Info!$C$35","v":12.395800000000001},{"$f":"N8*Info!$C$34","v":0},{"$f":"O8*Info!$C$28","v":0},{"$f":"P8*Info!$C$26","v":0},{"$f":"Q8*Info!$C$37","v":0},{"$f":"R8*Info!$C$38","v":0},{"$f":"S8*Info!$C$39","v":0},{"$f":"T8*Info!$C$40","v":0},{"$f":"U8*Info!$C$43","v":0},{"$f":"V8*Info!$C$41","v":0},{"$f":"W8*Info!$C$42","v":0},271.81592000000001,null,53.051903655974229,30.008897197780026,0,0,0,0,12.378833439925078,0,4.5603657063206606,0,0,0,0,0,0,0,0,0,0,100]
["Bytownite An80","Na0.2Ca0.8Al1.8Si2.2O8",2.73,{"$f":"C9*'Phase Rock Maker'!C9","v":0},2.2000000000000002,0.9,null,null,null,null,0.8,null,0.1,null,null,null,null,null,null,null,null,null,null,null,{"$f":"E9*Info!$C$25","v":132.18656000000001},{"$f":"F9*Info!$C$27","v":91.765080000000012},{"$f":"G9*Info!$C$29","v":0},{"$f":"H9*Info!$C$32","v":0},{"$f":"I9*Info!$C$33","v":0},{"$f":"J9*Info!$C$31","v":0},{"$f":"K9*Info!$C$30","v":44.863520000000001},{"$f":"L9*Info!$C$36","v":0},{"$f":"M9*Info!$C$35","v":6.1979000000000006},{"$f":"N9*Info!$C$34","v":0},{"$f":"O9*Info!$C$28","v":0},{"$f":"P9*Info!$C$26","v":0},{"$f":"Q9*Info!$C$37","v":0},{"$f":"R9*Info!$C$38","v":0},{"$f":"S9*Info!$C$39","v":0},{"$f":"T9*Info!$C$40","v":0},{"$f":"U9*Info!$C$43","v":0},{"$f":"V9*Info!$C$41","v":0},{"$f":"W9*Info!$C$42","v":0},275.01306000000005,null,48.06555732298677,33.367535345412321,0,0,0,0,16.313232542483615,0,2.2536747891172872,0,0,0,0,0,0,0,0,0,0,100]
["Orthoclase","KAlSi3O8",2.5630000000000002,{"$f":"C10*'Phase Rock Maker'!C10","v":0},3,0.5,null,null,null,null,null,0.5,null,null,null,null,null,null,null,null,null,null,null,null,{"$f":"E10*Info!$C$25","v":180.2544},{"$f":"F10*Info!$C$27","v":50.980600000000003},{"$f":"G10*Info!$C$29","v":0},{"$f":"H10*Info!$C$32","v":0},{"$f":"I10*Info!$C$33","v":0},{"$f":"J10*Info!$C$31","v":0},{"$f":"K10*Info!$C$30","v":0},{"$f":"L10*Info!$C$36","v":47.101700000000001},{"$f":"M10*Info!$C$35","v":0},{"$f":"N10*Info!$C$34","v":0},{"$f":"O10*Info!$C$28","v":0},{"$f":"P10*Info!$C$26","v":0},{"$f":"Q10*Info!$C$37","v":0},{"$f":"R10*Info!$C$38","v":0},{"$f":"S10*Info!$C$39","v":0},{"$f":"T10*Info!$C$40","v":0},{"$f":"U10*Info!$C$43","v":0},{"$f":"V10*Info!$C$41","v":0},{"$f":"W10*Info!$C$42","v":0},278.33670000000001,null,64.761276540247835,18.316161684750877,0,0,0,0,0,16.922561775001284,0,0,0,0,0,0,0,0,0,0,0,100]
["Perthite Or70Ab30","K0.7Na0.3AlSi3O8",2.57,{"$f":"C11*'Phase Rock Maker'!C11","v":0},3,0.5,null,null,null,null,null,0.35,0.15,null,null,null,null,null,null,null,null,null,null,null,{"$f":"E11*Info!$C$25","v":180.2544},{"$f":"F11*Info!$C$27","v":50.980600000000003},{"$f":"G11*Info!$C$29","v":0},{"$f":"H11*Info!$C$32","v":0},{"$f":"I11*Info!$C$33","v":0},{"$f":"J11*Info!$C$31","v":0},{"$f":"K11*Info!$C$30","v":0},{"$f":"L11*Info!$C$36","v":32.97119},{"$f":"M11*Info!$C$35","v":9.2968499999999992},{"$f":"N11*Info!$C$34","v":0},{"$f":"O11*Info!$C$28","v":0},{"$f":"P11*Info!$C$26","v":0},{"$f":"Q11*Info!$C$37","v":0},{"$f":"R11*Info!$C$38","v":0},{"$f":"S11*Info!$C$39","v":0},{"$f":"T11*Info!$C$40","v":0},{"$f":"U11*Info!$C$43","v":0},{"$f":"V11*Info!$C$41","v":0},{"$f":"W11*Info!$C$42","v":0},273.50304,null,65.905812235213176,18.639865940795396,0,0,0,0,0,12.055145712457163,3.3991761115342625,0,0,0,0,0,0,0,0,0,0,100]
["Mesoperthite Or50Ab50","K0.5Na0.5AlSi3O8",2.59,{"$f":"C12*'Phase Rock Maker'!C12","v":0},3,0.5,null,null,null,null,null,0.25,0.25,null,null,null,null,null,null,null,null,null,null,null,{"$f":"E12*Info!$C$25","v":180.2544},{"$f":"F12*Info!$C$27","v":50.980600000000003},{"$f":"G12*Info!$C$29","v":0},{"$f":"H12*Info!$C$32","v":0},{"$f":"I12*Info!$C$33","v":0},{"$f":"J12*Info!$C$31","v":0},{"$f":"K12*Info!$C$30","v":0},{"$f":"L12*Info!$C$36","v":23.550850000000001},{"$f":"M12*Info!$C$35","v":15.49475},{"$f":"N12*Info!$C$34","v":0},{"$f":"O12*Info!$C$28","v":0},{"$f":"P12*Info!$C$26","v":0},{"$f":"Q12*Info!$C$37","v":0},{"$f":"R12*Info!$C$38","v":0},{"$f":"S12*Info!$C$39","v":0},{"$f":"T12*Info!$C$40","v":0},{"$f":"U12*Info!$C$43","v":0},{"$f":"V12*Info!$C$41","v":0},{"$f":"W12*Info!$C$42","v":0},270.28059999999999,null,66.691579047848791,18.862101090496321,0,0,0,0,0,8.7134814707381896,5.7328383909166991,0,0,0,0,0,0,0,0,0,0,100]
["Mesoperthite Or30Ab70","K0.3Na0.7AlSi3O8",2.6,{"$f":"C13*'Phase Rock Maker'!C13","v":0},3,0.5,null,null,null,null,null,0.15,0.35,null,null,null,null,null,null,null,null,null,null,null,{"$f":"E13*Info!$C$25","v":180.2544},{"$f":"F13*Info!$C$27","v":50.980600000000003},{"$f":"G13*Info!$C$29","v":0},{"$f":"H13*Info!$C$32","v":0},{"$f":"I13*Info!$C$33","v":0},{"$f":"J13*Info!$C$31","v":0},{"$f":"K13*Info!$C$30","v":0},{"$f":"L13*Info!$C$36","v":14.130509999999999},{"$f":"M13*Info!$C$35","v":21.692649999999997},{"$f":"N13*Info!$C$34","v":0},{"$f":"O13*Info!$C$28","v":0},{"$f":"P13*Info!$C$26","v":0},{"$f":"Q13*Info!$C$37","v":0},{"$f":"R13*Info!$C$38","v":0},{"$f":"S13*Info!$C$39","v":0},{"$f":"T13*Info!$C$40","v":0},{"$f":"U13*Info!$C$43","v":0},{"$f":"V13*Info!$C$41","v":0},{"$f":"W13*Info!$C$42","v":0},267.05815999999999,null,67.496308669242694,19.089699412292816,0,0,0,0,0,5.2911732785098202,8.1228186399546818,0,0,0,0,0,0,0,0,0,0,100.00000000000001]
["Annite","KFe2+3(Si3Al)O10(OH)2",3.36,{"$f":"C14*'Phase Rock Maker'!C14","v":0},3,0.5,null,3,null,null,null,0.5,null,null,null,null,null,null,1,null,null,null,null,null,{"$f":"E14*Info!$C$25","v":180.2544},{"$f":"F14*Info!$C$27","v":50.980600000000003},{"$f":"G14*Info!$C$29","v":0},{"$f":"H14*Info!$C$32","v":215.53919999999999},{"$f":"I14*Info!$C$33","v":0},{"$f":"J14*Info!$C$31","v":0},{"$f":"K14*Info!$C$30","v":0},{"$f":"L14*Info!$C$36","v":47.101700000000001},{"$f":"M14*Info!$C$35","v":0},{"$f":"N14*Info!$C$34","v":0},{"$f":"O14*Info!$C$28","v":0},{"$f":"P14*Info!$C$26","v":0},{"$f":"Q14*Info!$C$37","v":0},{"$f":"R14*Info!$C$38","v":0},{"$f":"S14*Info!$C$39","v":18.015000000000001},{"$f":"T14*Info!$C$40","v":0},{"$f":"U14*Info!$C$43","v":0},{"$f":"V14*Info!$C$41","v":0},{"$f":"W14*Info!$C$42","v":0},511.89089999999999,null,35.213440989085761,9.9592706180164559,0,42.106472297124249,0,0,0,9.201511493953106,0,0,0,0,0,0,3.5193046018204268,0,0,0,0,100]
["Phlogopite","KMg2+3(Si3Al)O10(OH)2",2.79,{"$f":"C15*'Phase Rock Maker'!C15","v":0},3,0.5,3,null,null,null,null,0.5,null,null,null,null,null,null,1,null,null,null,null,null,{"$f":"E15*Info!$C$25","v":180.2544},{"$f":"F15*Info!$C$27","v":50.980600000000003},{"$f":"G15*Info!$C$29","v":120.9342},{"$f":"H15*Info!$C$32","v":0},{"$f":"I15*Info!$C$33","v":0},{"$f":"J15*Info!$C$31","v":0},{"$f":"K15*Info!$C$30","v":0},{"$f":"L15*Info!$C$36","v":47.101700000000001},{"$f":"M15*Info!$C$35","v":0},{"$f":"N15*Info!$C$34","v":0},{"$f":"O15*Info!$C$28","v":0},{"$f":"P15*Info!$C$26","v":0},{"$f":"Q15*Info!$C$37","v":0},{"$f":"R15*Info!$C$38","v":0},{"$f":"S15*Info!$C$39","v":18.015000000000001},{"$f":"T15*Info!$C$40","v":0},{"$f":"U15*Info!$C$43","v":0},{"$f":"V15*Info!$C$41","v":0},{"$f":"W15*Info!$C$42","v":0},417.28590000000003,null,43.196858556687388,12.217187304914926,28.981137392852236,0,0,0,0,11.287632771680039,0,0,0,0,0,0,4.3171839738653999,0,0,0,0,99.999999999999986]
["Ann70Phl30","KMg0.9Fe2+2.1(Si3Al)O10(OH)2",3.19,{"$f":"C16*'Phase Rock Maker'!C16","v":0},3,0.5,0.9,2.1,null,null,null,0.5,null,null,null,null,null,null,1,null,null,null,null,null,{"$f":"E16*Info!$C$25","v":180.2544},{"$f":"F16*Info!$C$27","v":50.980600000000003},{"$f":"G16*Info!$C$29","v":36.280259999999998},{"$f":"H16*Info!$C$32","v":150.87744000000001},{"$f":"I16*Info!$C$33","v":0},{"$f":"J16*Info!$C$31","v":0},{"$f":"K16*Info!$C$30","v":0},{"$f":"L16*Info!$C$36","v":47.101700000000001},{"$f":"M16*Info!$C$35","v":0},{"$f":"N16*Info!$C$34","v":0},{"$f":"O16*Info!$C$28","v":0},{"$f":"P16*Info!$C$26","v":0},{"$f":"Q16*Info!$C$37","v":0},{"$f":"R16*Info!$C$38","v":0},{"$f":"S16*Info!$C$39","v":18.015000000000001},{"$f":"T16*Info!$C$40","v":0},{"$f":"U16*Info!$C$43","v":0},{"$f":"V16*Info!$C$41","v":0},{"$f":"W16*Info!$C$42","v":0},483.50939999999997,null,37.280433431077043,10.543869467687703,7.5035273357663783,31.204654966377078,0,0,0,9.7416306694347625,0,0,0,0,0,0,3.7258841296570449,0,0,0,0,100.00000000000001]
["Ann50Phl50","KMg1.5Fe2+1.5(Si3Al)O10(OH)2",3.0750000000000002,{"$f":"C17*'Phase Rock Maker'!C17","v":0},3,0.5,1.5,1.5,null,null,null,0.5,null,null,null,null,null,null,1,null,null,null,null,null,{"$f":"E17*Info!$C$25","v":180.2544},{"$f":"F17*Info!$C$27","v":50.980600000000003},{"$f":"G17*Info!$C$29","v":60.467100000000002},{"$f":"H17*Info!$C$32","v":107.7696},{"$f":"I17*Info!$C$33","v":0},{"$f":"J17*Info!$C$31","v":0},{"$f":"K17*Info!$C$30","v":0},{"$f":"L17*Info!$C$36","v":47.101700000000001},{"$f":"M17*Info!$C$35","v":0},{"$f":"N17*Info!$C$34","v":0},{"$f":"O17*Info!$C$28","v":0},{"$f":"P17*Info!$C$26","v":0},{"$f":"Q17*Info!$C$37","v":0},{"$f":"R17*Info!$C$38","v":0},{"$f":"S17*Info!$C$39","v":18.015000000000001},{"$f":"T17*Info!$C$40","v":0},{"$f":"U17*Info!$C$43","v":0},{"$f":"V17*Info!$C$41","v":0},{"$f":"W17*Info!$C$42","v":0},464.58840000000004,null,38.798730230888239,10.973283017828253,13.01519796878269,23.196790965938881,0,0,0,10.138371943853958,0,0,0,0,0,0,3.8776258727079709,0,0,0,0,99.999999999999986]
["Ann30Phl70","KMg2.1Fe2+0.9(Si3Al)O10(OH)2",2.96,{"$f":"C18*'Phase Rock Maker'!C18","v":0},3,0.5,2.1,0.9,null,null,null,0.5,null,null,null,null,null,null,1,null,null,null,null,null,{"$f":"E18*Info!$C$25","v":180.2544},{"$f":"F18*Info!$C$27","v":50.980600000000003},{"$f":"G18*Info!$C$29","v":84.653940000000006},{"$f":"H18*Info!$C$32","v":64.661760000000001},{"$f":"I18*Info!$C$33","v":0},{"$f":"J18*Info!$C$31","v":0},{"$f":"K18*Info!$C$30","v":0},{"$f":"L18*Info!$C$36","v":47.101700000000001},{"$f":"M18*Info!$C$35","v":0},{"$f":"N18*Info!$C$34","v":0},{"$f":"O18*Info!$C$28","v":0},{"$f":"P18*Info!$C$26","v":0},{"$f":"Q18*Info!$C$37","v":0},{"$f":"R18*Info!$C$38","v":0},{"$f":"S18*Info!$C$39","v":18.015000000000001},{"$f":"T18*Info!$C$40","v":0},{"$f":"U18*Info!$C$43","v":0},{"$f":"V18*Info!$C$41","v":0},{"$f":"W18*Info!$C$42","v":0},445.66740000000004,null,40.445946910184588,11.439158439679456,18.994869267978764,14.508972386133696,0,0,0,10.568800859116012,0,0,0,0,0,0,4.0422521369074778,0,0,0,0,99.999999999999986]
["Muscovite","K(Si3Al3)O10(OH)2",2.83,{"$f":"C19*'Phase Rock Maker'!C19","v":0},3,1.5,null,null,null,null,null,0.5,null,null,null,null,null,null,1,null,null,null,null,null,{"$f":"E19*Info!$C$25","v":180.2544},{"$f":"F19*Info!$C$27","v":152.9418},{"$f":"G19*Info!$C$29","v":0},{"$f":"H19*Info!$C$32","v":0},{"$f":"I19*Info!$C$33","v":0},{"$f":"J19*Info!$C$31","v":0},{"$f":"K19*Info!$C$30","v":0},{"$f":"L19*Info!$C$36","v":47.101700000000001},{"$f":"M19*Info!$C$35","v":0},{"$f":"N19*Info!$C$34","v":0},{"$f":"O19*Info!$C$28","v":0},{"$f":"P19*Info!$C$26","v":0},{"$f":"Q19*Info!$C$37","v":0},{"$f":"R19*Info!$C$38","v":0},{"$f":"S19*Info!$C$39","v":18.015000000000001},{"$f":"T19*Info!$C$40","v":0},{"$f":"U19*Info!$C$43","v":0},{"$f":"V19*Info!$C$41","v":0},{"$f":"W19*Info!$C$42","v":0},398.31289999999996,null,{"$f":"Y19/$AR19*100","v":45.254472049486729},{"$f":"Z19/$AR19*100","v":38.397400636534748},{"$f":"AA19/$AR19*100","v":0},{"$f":"AB19/$AR19*100","v":0},{"$f":"AC19/$AR19*100","v":0},{"$f":"AD19/$AR19*100","v":0},{"$f":"AE19/$AR19*100","v":0},{"$f":"AF19/$AR19*100","v":11.825301163984395},{"$f":"AG19/$AR19*100","v":0},{"$f":"AH19/$AR19*100","v":0},{"$f":"AI19/$AR19*100","v":0},{"$f":"AJ19/$AR19*100","v":0},{"$f":"AK19/$AR19*100","v":0},{"$f":"AL19/$AR19*100","v":0},{"$f":"AM19/$AR19*100","v":4.5228261499941382},{"$f":"AN19/$AR19*100","v":0},0,0,0,100]
["Talc","Mg3Si4O10(OH)2",2.78,{"$f":"C20*'Phase Rock Maker'!C20","v":0},4,null,3,null,null,null,null,null,null,null,null,null,null,null,1,null,null,null,null,null,{"$f":"E20*Info!$C$25","v":240.33920000000001},{"$f":"F20*Info!$C$27","v":0},{"$f":"G20*Info!$C$29","v":120.9342},{"$f":"H20*Info!$C$32","v":0},{"$f":"I20*Info!$C$33","v":0},{"$f":"J20*Info!$C$31","v":0},{"$f":"K20*Info!$C$30","v":0},{"$f":"L20*Info!$C$36","v":0},{"$f":"M20*Info!$C$35","v":0},{"$f":"N20*Info!$C$34","v":0},{"$f":"O20*Info!$C$28","v":0},{"$f":"P20*Info!$C$26","v":0},{"$f":"Q20*Info!$C$37","v":0},{"$f":"R20*Info!$C$38","v":0},{"$f":"S20*Info!$C$39","v":18.015000000000001},{"$f":"T20*Info!$C$40","v":0},{"$f":"U20*Info!$C$43","v":0},{"$f":"V20*Info!$C$41","v":0},{"$f":"W20*Info!$C$42","v":0},379.28840000000002,null,63.365818727912583,0,31.884497390376293,0,0,0,0,0,0,0,0,0,0,0,4.7496838817111193,0,0,0,0,100]
["Serpentine","Mg3Si2O5(OH)4",2.57,{"$f":"C21*'Phase Rock Maker'!C21","v":0},2,null,3,null,null,null,null,null,null,null,null,null,null,null,2,null,null,null,null,null,{"$f":"E21*Info!$C$25","v":120.1696},{"$f":"F21*Info!$C$27","v":0},{"$f":"G21*Info!$C$29","v":120.9342},{"$f":"H21*Info!$C$32","v":0},{"$f":"I21*Info!$C$33","v":0},{"$f":"J21*Info!$C$31","v":0},{"$f":"K21*Info!$C$30","v":0},{"$f":"L21*Info!$C$36","v":0},{"$f":"M21*Info!$C$35","v":0},{"$f":"N21*Info!$C$34","v":0},{"$f":"O21*Info!$C$28","v":0},{"$f":"P21*Info!$C$26","v":0},{"$f":"Q21*Info!$C$37","v":0},{"$f":"R21*Info!$C$38","v":0},{"$f":"S21*Info!$C$39","v":36.03},{"$f":"T21*Info!$C$40","v":0},{"$f":"U21*Info!$C$43","v":0},{"$f":"V21*Info!$C$41","v":0},{"$f":"W21*Info!$C$42","v":0},277.13380000000001,null,43.361582022835179,0,43.637477637155769,0,0,0,0,0,0,0,0,0,0,0,13.000940340009052,0,0,0,0,100]
["Kaolinite","Al2Si2O5(OH)4",2.63,{"$f":"C22*'Phase Rock Maker'!C22","v":0},2,1,null,null,null,null,null,null,null,null,null,null,null,null,2,null,null,null,null,null,{"$f":"E22*Info!$C$25","v":120.1696},{"$f":"F22*Info!$C$27","v":101.96120000000001},{"$f":"G22*Info!$C$29","v":0},{"$f":"H22*Info!$C$32","v":0},{"$f":"I22*Info!$C$33","v":0},{"$f":"J22*Info!$C$31","v":0},{"$f":"K22*Info!$C$30","v":0},{"$f":"L22*Info!$C$36","v":0},{"$f":"M22*Info!$C$35","v":0},{"$f":"N22*Info!$C$34","v":0},{"$f":"O22*Info!$C$28","v":0},{"$f":"P22*Info!$C$26","v":0},{"$f":"Q22*Info!$C$37","v":0},{"$f":"R22*Info!$C$38","v":0},{"$f":"S22*Info!$C$39","v":36.03},{"$f":"T22*Info!$C$40","v":0},{"$f":"U22*Info!$C$43","v":0},{"$f":"V22*Info!$C$41","v":0},{"$f":"W22*Info!$C$42","v":0},258.16079999999999,null,46.548352809566751,39.495229329937004,0,0,0,0,0,0,0,0,0,0,0,0,13.95641786049625,0,0,0,0,100]
["Illite","KAl5Si7O20(OH)4",2.75,{"$f":"C23*'Phase Rock Maker'!C23","v":0},7,2.5,null,null,null,null,null,0.5,null,null,null,null,null,null,2,null,null,null,null,null,{"$f":"E23*Info!$C$25","v":420.59360000000004},{"$f":"F23*Info!$C$27","v":254.90300000000002},{"$f":"G23*Info!$C$29","v":0},{"$f":"H23*Info!$C$32","v":0},{"$f":"I23*Info!$C$33","v":0},{"$f":"J23*Info!$C$31","v":0},{"$f":"K23*Info!$C$30","v":0},{"$f":"L23*Info!$C$36","v":47.101700000000001},{"$f":"M23*Info!$C$35","v":0},{"$f":"N23*Info!$C$34","v":0},{"$f":"O23*Info!$C$28","v":0},{"$f":"P23*Info!$C$26","v":0},{"$f":"Q23*Info!$C$37","v":0},{"$f":"R23*Info!$C$38","v":0},{"$f":"S23*Info!$C$39","v":36.03},{"$f":"T23*Info!$C$40","v":0},{"$f":"U23*Info!$C$43","v":0},{"$f":"V23*Info!$C$41","v":0},{"$f":"W23*Info!$C$42","v":0},758.62830000000008,null,55.441327459046811,33.60051292576351,0,0,0,0,0,6.2087981690110947,0,0,0,0,0,0,4.7493614461785825,0,0,0,0,99.999999999999986]
["Nepheline","Na3KSi4Al4O16",2.64,{"$f":"C24*'Phase Rock Maker'!C24","v":0},4,2,null,null,null,null,null,0.5,1.5,null,null,null,null,null,null,null,null,null,null,null,{"$f":"E24*Info!$C$25","v":240.33920000000001},{"$f":"F24*Info!$C$27","v":203.92240000000001},{"$f":"G24*Info!$C$29","v":0},{"$f":"H24*Info!$C$32","v":0},{"$f":"I24*Info!$C$33","v":0},{"$f":"J24*Info!$C$31","v":0},{"$f":"K24*Info!$C$30","v":0},{"$f":"L24*Info!$C$36","v":47.101700000000001},{"$f":"M24*Info!$C$35","v":92.968500000000006},{"$f":"N24*Info!$C$34","v":0},{"$f":"O24*Info!$C$28","v":0},{"$f":"P24*Info!$C$26","v":0},{"$f":"Q24*Info!$C$37","v":0},{"$f":"R24*Info!$C$38","v":0},{"$f":"S24*Info!$C$39","v":0},{"$f":"T24*Info!$C$40","v":0},{"$f":"U24*Info!$C$43","v":0},{"$f":"V24*Info!$C$41","v":0},{"$f":"W24*Info!$C$42","v":0},584.33180000000004,null,41.130604221779471,34.89839163297291,0,0,0,0,0,8.060779851447414,15.910224293800201,0,0,0,0,0,0,0,0,0,0,99.999999999999986]
["Leucite","KAlSi2O6",2.46,{"$f":"C25*'Phase Rock Maker'!C25","v":0},2,0.5,null,null,null,null,null,0.5,null,null,null,null,null,null,null,null,null,null,null,null,{"$f":"E25*Info!$C$25","v":120.1696},{"$f":"F25*Info!$C$27","v":50.980600000000003},{"$f":"G25*Info!$C$29","v":0},{"$f":"H25*Info!$C$32","v":0},{"$f":"I25*Info!$C$33","v":0},{"$f":"J25*Info!$C$31","v":0},{"$f":"K25*Info!$C$30","v":0},{"$f":"L25*Info!$C$36","v":47.101700000000001},{"$f":"M25*Info!$C$35","v":0},{"$f":"N25*Info!$C$34","v":0},{"$f":"O25*Info!$C$28","v":0},{"$f":"P25*Info!$C$26","v":0},{"$f":"Q25*Info!$C$37","v":0},{"$f":"R25*Info!$C$38","v":0},{"$f":"S25*Info!$C$39","v":0},{"$f":"T25*Info!$C$40","v":0},{"$f":"U25*Info!$C$43","v":0},{"$f":"V25*Info!$C$41","v":0},{"$f":"W25*Info!$C$42","v":0},218.25190000000001,null,55.060047587214591,23.358605354638378,0,0,0,0,0,21.581347058147031,0,0,0,0,0,0,0,0,0,0,0,100]
["Cordierite","Mg2+2(Si5Al4)O18(OH)",2.54,{"$f":"C26*'Phase Rock Maker'!C26","v":0},5,2,2,null,null,null,null,null,null,null,null,null,null,null,0.5,null,null,null,null,null,{"$f":"E26*Info!$C$25","v":300.42399999999998},{"$f":"F26*Info!$C$27","v":203.92240000000001},{"$f":"G26*Info!$C$29","v":80.622799999999998},{"$f":"H26*Info!$C$32","v":0},{"$f":"I26*Info!$C$33","v":0},{"$f":"J26*Info!$C$31","v":0},{"$f":"K26*Info!$C$30","v":0},{"$f":"L26*Info!$C$36","v":0},{"$f":"M26*Info!$C$35","v":0},{"$f":"N26*Info!$C$34","v":0},{"$f":"O26*Info!$C$28","v":0},{"$f":"P26*Info!$C$26","v":0},{"$f":"Q26*Info!$C$37","v":0},{"$f":"R26*Info!$C$38","v":0},{"$f":"S26*Info!$C$39","v":9.0075000000000003},{"$f":"T26*Info!$C$40","v":0},{"$f":"U26*Info!$C$43","v":0},{"$f":"V26*Info!$C$41","v":0},{"$f":"W26*Info!$C$42","v":0},593.97670000000005,null,50.57841494455927,34.331717052200865,13.573394377254191,0,0,0,0,0,0,0,0,0,0,0,1.5164736259856657,0,0,0,0,99.999999999999986]
["Fe-Cordierite","Fe2+2(Si5Al4)O18(OH)",2.7850000000000001,{"$f":"C27*'Phase Rock Maker'!C27","v":0},5,2,null,2,null,null,null,null,null,null,null,null,null,null,0.5,null,null,null,null,null,{"$f":"E27*Info!$C$25","v":300.42399999999998},{"$f":"F27*Info!$C$27","v":203.92240000000001},{"$f":"G27*Info!$C$29","v":0},{"$f":"H27*Info!$C$32","v":143.69280000000001},{"$f":"I27*Info!$C$33","v":0},{"$f":"J27*Info!$C$31","v":0},{"$f":"K27*Info!$C$30","v":0},{"$f":"L27*Info!$C$36","v":0},{"$f":"M27*Info!$C$35","v":0},{"$f":"N27*Info!$C$34","v":0},{"$f":"O27*Info!$C$28","v":0},{"$f":"P27*Info!$C$26","v":0},{"$f":"Q27*Info!$C$37","v":0},{"$f":"R27*Info!$C$38","v":0},{"$f":"S27*Info!$C$39","v":9.0075000000000003},{"$f":"T27*Info!$C$40","v":0},{"$f":"U27*Info!$C$43","v":0},{"$f":"V27*Info!$C$41","v":0},{"$f":"W27*Info!$C$42","v":0},657.0467000000001,null,45.72338617635549,31.036210972522955,0,21.869495729907783,0,0,0,0,0,0,0,0,0,0,1.3709071212137582,0,0,0,0,99.999999999999986]
["Mg80Fe20 Cordierite","Fe2+0.4Mg2+1.6(Si5Al4)O18(OH)",2.59,{"$f":"C28*'Phase Rock Maker'!C28","v":0},5,2,1.6,0.4,null,null,null,null,null,null,null,null,null,null,0.5,null,null,null,null,null,{"$f":"E28*Info!$C$25","v":300.42399999999998},{"$f":"F28*Info!$C$27","v":203.92240000000001},{"$f":"G28*Info!$C$29","v":64.498239999999996},{"$f":"H28*Info!$C$32","v":28.738560000000003},{"$f":"I28*Info!$C$33","v":0},{"$f":"J28*Info!$C$31","v":0},{"$f":"K28*Info!$C$30","v":0},{"$f":"L28*Info!$C$36","v":0},{"$f":"M28*Info!$C$35","v":0},{"$f":"N28*Info!$C$34","v":0},{"$f":"O28*Info!$C$28","v":0},{"$f":"P28*Info!$C$26","v":0},{"$f":"Q28*Info!$C$37","v":0},{"$f":"R28*Info!$C$38","v":0},{"$f":"S28*Info!$C$39","v":9.0075000000000003},{"$f":"T28*Info!$C$40","v":0},{"$f":"U28*Info!$C$43","v":0},{"$f":"V28*Info!$C$41","v":0},{"$f":"W28*Info!$C$42","v":0},606.59070000000008,null,49.526641275575102,33.6177920301119,10.632909472565272,4.7377185307984444,0,0,0,0,0,0,0,0,0,0,1.4849386909492677,0,0,0,0,99.999999999999986]
["Fe Staurolite","Fe2+2Al9Si4O20(OH)2",3.69,{"$f":"C29*'Phase Rock Maker'!C29","v":0},4,4.5,null,2,null,null,null,null,null,null,null,null,null,null,1,null,null,null,null,null,{"$f":"E29*Info!$C$25","v":240.33920000000001},{"$f":"F29*Info!$C$27","v":458.8254},{"$f":"G29*Info!$C$29","v":0},{"$f":"H29*Info!$C$32","v":143.69280000000001},{"$f":"I29*Info!$C$33","v":0},{"$f":"J29*Info!$C$31","v":0},{"$f":"K29*Info!$C$30","v":0},{"$f":"L29*Info!$C$36","v":0},{"$f":"M29*Info!$C$35","v":0},{"$f":"N29*Info!$C$34","v":0},{"$f":"O29*Info!$C$28","v":0},{"$f":"P29*Info!$C$26","v":0},{"$f":"Q29*Info!$C$37","v":0},{"$f":"R29*Info!$C$38","v":0},{"$f":"S29*Info!$C$39","v":18.015000000000001},{"$f":"T29*Info!$C$40","v":0},{"$f":"U29*Info!$C$43","v":0},{"$f":"V29*Info!$C$41","v":0},{"$f":"W29*Info!$C$42","v":0},860.87240000000008,null,27.9180979666673,53.297724494361766,0,16.691532914750198,0,0,0,0,0,0,0,0,0,0,2.0926446242207319,0,0,0,0,100]
["Fe80Mg20 Staurolite","Fe2+1.6Mg0.4Al9Si4O20(OH)2",3.76,{"$f":"C30*'Phase Rock Maker'!C30","v":0},4,4.5,0.4,1.6,null,null,null,null,null,null,null,null,null,null,1,null,null,null,null,null,{"$f":"E30*Info!$C$25","v":240.33920000000001},{"$f":"F30*Info!$C$27","v":458.8254},{"$f":"G30*Info!$C$29","v":16.124559999999999},{"$f":"H30*Info!$C$32","v":114.95424000000001},{"$f":"I30*Info!$C$33","v":0},{"$f":"J30*Info!$C$31","v":0},{"$f":"K30*Info!$C$30","v":0},{"$f":"L30*Info!$C$36","v":0},{"$f":"M30*Info!$C$35","v":0},{"$f":"N30*Info!$C$34","v":0},{"$f":"O30*Info!$C$28","v":0},{"$f":"P30*Info!$C$26","v":0},{"$f":"Q30*Info!$C$37","v":0},{"$f":"R30*Info!$C$38","v":0},{"$f":"S30*Info!$C$39","v":18.015000000000001},{"$f":"T30*Info!$C$40","v":0},{"$f":"U30*Info!$C$43","v":0},{"$f":"V30*Info!$C$41","v":0},{"$f":"W30*Info!$C$42","v":0},848.25840000000005,null,28.333253169081495,54.090286639071294,1.9009018949886023,13.551795066220388,0,0,0,0,0,0,0,0,0,0,2.123763230638211,0,0,0,0,100]
["Fe Chloritoid","Fe2+Al2OSiO4(OH)2",3.8,{"$f":"C31*'Phase Rock Maker'!C31","v":0},1,1,null,1,null,null,null,null,null,null,null,null,null,null,1,null,null,null,null,null,{"$f":"E31*Info!$C$25","v":60.084800000000001},{"$f":"F31*Info!$C$27","v":101.96120000000001},{"$f":"G31*Info!$C$29","v":0},{"$f":"H31*Info!$C$32","v":71.846400000000003},{"$f":"I31*Info!$C$33","v":0},{"$f":"J31*Info!$C$31","v":0},{"$f":"K31*Info!$C$30","v":0},{"$f":"L31*Info!$C$36","v":0},{"$f":"M31*Info!$C$35","v":0},{"$f":"N31*Info!$C$34","v":0},{"$f":"O31*Info!$C$28","v":0},{"$f":"P31*Info!$C$26","v":0},{"$f":"Q31*Info!$C$37","v":0},{"$f":"R31*Info!$C$38","v":0},{"$f":"S31*Info!$C$39","v":18.015000000000001},{"$f":"T31*Info!$C$40","v":0},{"$f":"U31*Info!$C$43","v":0},{"$f":"V31*Info!$C$41","v":0},{"$f":"W31*Info!$C$42","v":0},251.9074,null,23.851939244341374,40.475666852184574,0,28.520956510209704,0,0,0,0,0,0,0,0,0,0,7.1514373932643513,0,0,0,0,100]
["Mg Chloritoid","MgAl2OSiO4(OH)2",3.46,{"$f":"C32*'Phase Rock Maker'!C32","v":0},1,1,1,null,null,null,null,null,null,null,null,null,null,null,1,null,null,null,null,null,{"$f":"E32*Info!$C$25","v":60.084800000000001},{"$f":"F32*Info!$C$27","v":101.96120000000001},{"$f":"G32*Info!$C$29","v":40.311399999999999},{"$f":"H32*Info!$C$32","v":0},{"$f":"I32*Info!$C$33","v":0},{"$f":"J32*Info!$C$31","v":0},{"$f":"K32*Info!$C$30","v":0},{"$f":"L32*Info!$C$36","v":0},{"$f":"M32*Info!$C$35","v":0},{"$f":"N32*Info!$C$34","v":0},{"$f":"O32*Info!$C$28","v":0},{"$f":"P32*Info!$C$26","v":0},{"$f":"Q32*Info!$C$37","v":0},{"$f":"R32*Info!$C$38","v":0},{"$f":"S32*Info!$C$39","v":18.015000000000001},{"$f":"T32*Info!$C$40","v":0},{"$f":"U32*Info!$C$43","v":0},{"$f":"V32*Info!$C$41","v":0},{"$f":"W32*Info!$C$42","v":0},220.37239999999997,null,27.26512031452215,46.267681433791175,18.292399592689467,0,0,0,0,0,0,0,0,0,0,0,8.1747986589972257,0,0,0,0,100]
["Fe80Mg20 Chloritoid","Mg0.2Fe0.8Al2OSiO4(OH)2",3.73,{"$f":"C33*'Phase Rock Maker'!C33","v":0},1,1,0.2,0.8,null,null,null,null,null,null,null,null,null,null,1,null,null,null,null,null,{"$f":"E33*Info!$C$25","v":60.084800000000001},{"$f":"F33*Info!$C$27","v":101.96120000000001},{"$f":"G33*Info!$C$29","v":8.0622799999999994},{"$f":"H33*Info!$C$32","v":57.477120000000006},{"$f":"I33*Info!$C$33","v":0},{"$f":"J33*Info!$C$31","v":0},{"$f":"K33*Info!$C$30","v":0},{"$f":"L33*Info!$C$36","v":0},{"$f":"M33*Info!$C$35","v":0},{"$f":"N33*Info!$C$34","v":0},{"$f":"O33*Info!$C$28","v":0},{"$f":"P33*Info!$C$26","v":0},{"$f":"Q33*Info!$C$37","v":0},{"$f":"R33*Info!$C$38","v":0},{"$f":"S33*Info!$C$39","v":18.015000000000001},{"$f":"T33*Info!$C$40","v":0},{"$f":"U33*Info!$C$43","v":0},{"$f":"V33*Info!$C$41","v":0},{"$f":"W33*Info!$C$42","v":0},245.60039999999998,null,24.464455269616828,41.515078965669446,3.2826819500293971,23.402698041208406,0,0,0,0,0,0,0,0,0,0,7.3350857734759396,0,0,0,0,100.00000000000003]
["Sillimanite","Al2SiO5",3.24,{"$f":"C34*'Phase Rock Maker'!C34","v":0},1,1,null,null,null,null,null,null,null,null,null,null,null,null,null,null,null,null,null,null,{"$f":"E34*Info!$C$25","v":60.084800000000001},{"$f":"F34*Info!$C$27","v":101.96120000000001},{"$f":"G34*Info!$C$29","v":0},{"$f":"H34*Info!$C$32","v":0},{"$f":"I34*Info!$C$33","v":0},{"$f":"J34*Info!$C$31","v":0},{"$f":"K34*Info!$C$30","v":0},{"$f":"L34*Info!$C$36","v":0},{"$f":"M34*Info!$C$35","v":0},{"$f":"N34*Info!$C$34","v":0},{"$f":"O34*Info!$C$28","v":0},{"$f":"P34*Info!$C$26","v":0},{"$f":"Q34*Info!$C$37","v":0},{"$f":"R34*Info!$C$38","v":0},{"$f":"S34*Info!$C$39","v":0},{"$f":"T34*Info!$C$40","v":0},{"$f":"U34*Info!$C$43","v":0},{"$f":"V34*Info!$C$41","v":0},{"$f":"W34*Info!$C$42","v":0},162.04599999999999,null,37.078854152524592,62.921145847475415,0,0,0,0,0,0,0,0,0,0,0,0,0,0,0,0,0,100]
["Kyanite","Al2SiO5",3.67,{"$f":"C35*'Phase Rock Maker'!C35","v":0},1,1,null,null,null,null,null,null,null,null,null,null,null,null,null,null,null,null,null,null,{"$f":"E35*Info!$C$25","v":60.084800000000001},{"$f":"F35*Info!$C$27","v":101.96120000000001},{"$f":"G35*Info!$C$29","v":0},{"$f":"H35*Info!$C$32","v":0},{"$f":"I35*Info!$C$33","v":0},{"$f":"J35*Info!$C$31","v":0},{"$f":"K35*Info!$C$30","v":0},{"$f":"L35*Info!$C$36","v":0},{"$f":"M35*Info!$C$35","v":0},{"$f":"N35*Info!$C$34","v":0},{"$f":"O35*Info!$C$28","v":0},{"$f":"P35*Info!$C$26","v":0},{"$f":"Q35*Info!$C$37","v":0},{"$f":"R35*Info!$C$38","v":0},{"$f":"S35*Info!$C$39","v":0},{"$f":"T35*Info!$C$40","v":0},{"$f":"U35*Info!$C$43","v":0},{"$f":"V35*Info!$C$41","v":0},{"$f":"W35*Info!$C$42","v":0},162.04599999999999,null,37.078854152524592,62.921145847475415,0,0,0,0,0,0,0,0,0,0,0,0,0,0,0,0,0,100]
["Andalusite","Al2SiO5",3.15,{"$f":"C36*'Phase Rock Maker'!C36","v":0},1,1,null,null,null,null,null,null,null,null,null,null,null,null,null,null,null,null,null,null,{"$f":"E36*Info!$C$25","v":60.084800000000001},{"$f":"F36*Info!$C$27","v":101.96120000000001},{"$f":"G36*Info!$C$29","v":0},{"$f":"H36*Info!$C$32","v":0},{"$f":"I36*Info!$C$33","v":0},{"$f":"J36*Info!$C$31","v":0},{"$f":"K36*Info!$C$30","v":0},{"$f":"L36*Info!$C$36","v":0},{"$f":"M36*Info!$C$35","v":0},{"$f":"N36*Info!$C$34","v":0},{"$f":"O36*Info!$C$28","v":0},{"$f":"P36*Info!$C$26","v":0},{"$f":"Q36*Info!$C$37","v":0},{"$f":"R36*Info!$C$38","v":0},{"$f":"S36*Info!$C$39","v":0},{"$f":"T36*Info!$C$40","v":0},{"$f":"U36*Info!$C$43","v":0},{"$f":"V36*Info!$C$41","v":0},{"$f":"W36*Info!$C$42","v":0},162.04599999999999,null,37.078854152524592,62.921145847475415,0,0,0,0,0,0,0,0,0,0,0,0,0,0,0,0,0,100]
["Almandine","Fe2+3Al2(SiO4)3",4.3129999999999997,{"$f":"C37*'Phase Rock Maker'!C37","v":0},3,1,null,3,null,null,null,null,null,null,null,null,null,null,null,null,null,null,null,null,{"$f":"E37*Info!$C$25","v":180.2544},{"$f":"F37*Info!$C$27","v":101.96120000000001},{"$f":"G37*Info!$C$29","v":0},{"$f":"H37*Info!$C$32","v":215.53919999999999},{"$f":"I37*Info!$C$33","v":0},{"$f":"J37*Info!$C$31","v":0},{"$f":"K37*Info!$C$30","v":0},{"$f":"L37*Info!$C$36","v":0},{"$f":"M37*Info!$C$35","v":0},{"$f":"N37*Info!$C$34","v":0},{"$f":"O37*Info!$C$28","v":0},{"$f":"P37*Info!$C$26","v":0},{"$f":"Q37*Info!$C$37","v":0},{"$f":"R37*Info!$C$38","v":0},{"$f":"S37*Info!$C$39","v":0},{"$f":"T37*Info!$C$40","v":0},{"$f":"U37*Info!$C$43","v":0},{"$f":"V37*Info!$C$41","v":0},{"$f":"W37*Info!$C$42","v":0},497.75479999999999,null,36.213493069278293,20.484222352049645,0,43.302284578672065,0,0,0,0,0,0,0,0,0,0,0,0,0,0,0,100]
["Pyrope","Mg2+3Al2(SiO4)3",3.56,{"$f":"C38*'Phase Rock Maker'!C38","v":0},3,1,3,null,null,null,null,null,null,null,null,null,null,null,null,null,null,null,null,null,{"$f":"E38*Info!$C$25","v":180.2544},{"$f":"F38*Info!$C$27","v":101.96120000000001},{"$f":"G38*Info!$C$29","v":120.9342},{"$f":"H38*Info!$C$32","v":0},{"$f":"I38*Info!$C$33","v":0},{"$f":"J38*Info!$C$31","v":0},{"$f":"K38*Info!$C$30","v":0},{"$f":"L38*Info!$C$36","v":0},{"$f":"M38*Info!$C$35","v":0},{"$f":"N38*Info!$C$34","v":0},{"$f":"O38*Info!$C$28","v":0},{"$f":"P38*Info!$C$26","v":0},{"$f":"Q38*Info!$C$37","v":0},{"$f":"R38*Info!$C$38","v":0},{"$f":"S38*Info!$C$39","v":0},{"$f":"T38*Info!$C$40","v":0},{"$f":"U38*Info!$C$43","v":0},{"$f":"V38*Info!$C$41","v":0},{"$f":"W38*Info!$C$42","v":0},403.14980000000003,null,44.711519142512287,25.291144879645234,29.997335977842475,0,0,0,0,0,0,0,0,0,0,0,0,0,0,0,0,100]
["Grossular","Ca2+3Al2(SiO4)3",3.5939999999999999,{"$f":"C39*'Phase Rock Maker'!C39","v":0},3,1,null,null,null,null,3,null,null,null,null,null,null,null,null,null,null,null,null,null,{"$f":"E39*Info!$C$25","v":180.2544},{"$f":"F39*Info!$C$27","v":101.96120000000001},{"$f":"G39*Info!$C$29","v":0},{"$f":"H39*Info!$C$32","v":0},{"$f":"I39*Info!$C$33","v":0},{"$f":"J39*Info!$C$31","v":0},{"$f":"K39*Info!$C$30","v":168.23820000000001},{"$f":"L39*Info!$C$36","v":0},{"$f":"M39*Info!$C$35","v":0},{"$f":"N39*Info!$C$34","v":0},{"$f":"O39*Info!$C$28","v":0},{"$f":"P39*Info!$C$26","v":0},{"$f":"Q39*Info!$C$37","v":0},{"$f":"R39*Info!$C$38","v":0},{"$f":"S39*Info!$C$39","v":0},{"$f":"T39*Info!$C$40","v":0},{"$f":"U39*Info!$C$43","v":0},{"$f":"V39*Info!$C$41","v":0},{"$f":"W39*Info!$C$42","v":0},450.4538,null,40.016179239691176,22.635218084518325,0,0,0,0,37.348602675790502,0,0,0,0,0,0,0,0,0,0,0,0,100]
["Andradite","Ca3Fe3+2(SiO4)3",3.859,{"$f":"C40*'Phase Rock Maker'!C40","v":0},3,null,null,null,1,null,3,null,null,null,null,null,null,null,null,null,null,null,null,null,{"$f":"E40*Info!$C$25","v":180.2544},{"$f":"F40*Info!$C$27","v":0},{"$f":"G40*Info!$C$29","v":0},{"$f":"H40*Info!$C$32","v":0},{"$f":"I40*Info!$C$33","v":159.69220000000001},{"$f":"J40*Info!$C$31","v":0},{"$f":"K40*Info!$C$30","v":168.23820000000001},{"$f":"L40*Info!$C$36","v":0},{"$f":"M40*Info!$C$35","v":0},{"$f":"N40*Info!$C$34","v":0},{"$f":"O40*Info!$C$28","v":0},{"$f":"P40*Info!$C$26","v":0},{"$f":"Q40*Info!$C$37","v":0},{"$f":"R40*Info!$C$38","v":0},{"$f":"S40*Info!$C$39","v":0},{"$f":"T40*Info!$C$40","v":0},{"$f":"U40*Info!$C$43","v":0},{"$f":"V40*Info!$C$41","v":0},{"$f":"W40*Info!$C$42","v":0},508.1848,null,35.47024625687348,0,0,0,31.424041018149307,0,33.105712724977217,0,0,0,0,0,0,0,0,0,0,0,0,100]
["Spessartine","Mn3Fe3+2(SiO4)3",4.18,{"$f":"C41*'Phase Rock Maker'!C41","v":0},3,1,null,null,null,3,null,null,null,null,null,null,null,null,null,null,null,null,null,null,{"$f":"E41*Info!$C$25","v":180.2544},{"$f":"F41*Info!$C$27","v":101.96120000000001},{"$f":"G41*Info!$C$29","v":0},{"$f":"H41*Info!$C$32","v":0},{"$f":"I41*Info!$C$33","v":0},{"$f":"J41*Info!$C$31","v":212.8125},{"$f":"K41*Info!$C$30","v":0},{"$f":"L41*Info!$C$36","v":0},{"$f":"M41*Info!$C$35","v":0},{"$f":"N41*Info!$C$34","v":0},{"$f":"O41*Info!$C$28","v":0},{"$f":"P41*Info!$C$26","v":0},{"$f":"Q41*Info!$C$37","v":0},{"$f":"R41*Info!$C$38","v":0},{"$f":"S41*Info!$C$39","v":0},{"$f":"T41*Info!$C$40","v":0},{"$f":"U41*Info!$C$43","v":0},{"$f":"V41*Info!$C$41","v":0},{"$f":"W41*Info!$C$42","v":0},495.02809999999999,null,36.412963223703869,20.597052975376549,0,0,0,42.989983800919582,0,0,0,0,0,0,0,0,0,0,0,0,0,100]
["Alm80Pyp20","Fe2+2.4Mg0.6Al2(SiO4)3",4.16,{"$f":"C42*'Phase Rock Maker'!C42","v":0},3,1,0.6,2.4,null,null,null,null,null,null,null,null,null,null,null,null,null,null,null,null,{"$f":"E42*Info!$C$25","v":180.2544},{"$f":"F42*Info!$C$27","v":101.96120000000001},{"$f":"G42*Info!$C$29","v":24.18684},{"$f":"H42*Info!$C$32","v":172.43136000000001},{"$f":"I42*Info!$C$33","v":0},{"$f":"J42*Info!$C$31","v":0},{"$f":"K42*Info!$C$30","v":0},{"$f":"L42*Info!$C$36","v":0},{"$f":"M42*Info!$C$35","v":0},{"$f":"N42*Info!$C$34","v":0},{"$f":"O42*Info!$C$28","v":0},{"$f":"P42*Info!$C$26","v":0},{"$f":"Q42*Info!$C$37","v":0},{"$f":"R42*Info!$C$38","v":0},{"$f":"S42*Info!$C$39","v":0},{"$f":"T42*Info!$C$40","v":0},{"$f":"U42*Info!$C$43","v":0},{"$f":"V42*Info!$C$41","v":0},{"$f":"W42*Info!$C$42","v":0},478.8338,null,37.64446035346711,21.293651367134068,5.0511973047850844,36.010690974613738,0,0,0,0,0,0,0,0,0,0,0,0,0,0,0,100]
["Alm70Pyp20Gross10","Fe2+2.1Mg0.6Ca0.3Al2(SiO4)3",4.085,{"$f":"C43*'Phase Rock Maker'!C43","v":0},3,1,0.6,2.1,null,null,0.3,null,null,null,null,null,null,null,null,null,null,null,null,null,{"$f":"E43*Info!$C$25","v":180.2544},{"$f":"F43*Info!$C$27","v":101.96120000000001},{"$f":"G43*Info!$C$29","v":24.18684},{"$f":"H43*Info!$C$32","v":150.87744000000001},{"$f":"I43*Info!$C$33","v":0},{"$f":"J43*Info!$C$31","v":0},{"$f":"K43*Info!$C$30","v":16.823819999999998},{"$f":"L43*Info!$C$36","v":0},{"$f":"M43*Info!$C$35","v":0},{"$f":"N43*Info!$C$34","v":0},{"$f":"O43*Info!$C$28","v":0},{"$f":"P43*Info!$C$26","v":0},{"$f":"Q43*Info!$C$37","v":0},{"$f":"R43*Info!$C$38","v":0},{"$f":"S43*Info!$C$39","v":0},{"$f":"T43*Info!$C$40","v":0},{"$f":"U43*Info!$C$43","v":0},{"$f":"V43*Info!$C$41","v":0},{"$f":"W43*Info!$C$42","v":0},474.10370000000006,null,38.020036544747491,21.506096661975004,5.1015927528091423,31.823721266043691,0,0,3.5485527744246661,0,0,0,0,0,0,0,0,0,0,0,0,99.999999999999986]
["Alm60Pyp20Spess10Gross10","Fe2+1.8Mg0.6Ca0.3Mn0.3Al2(SiO4)3",4.0599999999999996,{"$f":"C44*'Phase Rock Maker'!C44","v":0},3,1,0.6,1.8,null,0.3,0.3,null,null,null,null,null,null,null,null,null,null,null,null,null,{"$f":"E44*Info!$C$25","v":180.2544},{"$f":"F44*Info!$C$27","v":101.96120000000001},{"$f":"G44*Info!$C$29","v":24.18684},{"$f":"H44*Info!$C$32","v":129.32352},{"$f":"I44*Info!$C$33","v":0},{"$f":"J44*Info!$C$31","v":21.28125},{"$f":"K44*Info!$C$30","v":16.823819999999998},{"$f":"L44*Info!$C$36","v":0},{"$f":"M44*Info!$C$35","v":0},{"$f":"N44*Info!$C$34","v":0},{"$f":"O44*Info!$C$28","v":0},{"$f":"P44*Info!$C$26","v":0},{"$f":"Q44*Info!$C$37","v":0},{"$f":"R44*Info!$C$38","v":0},{"$f":"S44*Info!$C$39","v":0},{"$f":"T44*Info!$C$40","v":0},{"$f":"U44*Info!$C$43","v":0},{"$f":"V44*Info!$C$41","v":0},{"$f":"W44*Info!$C$42","v":0},473.83103,null,38.041915490422824,21.518472523844633,5.1045285067126152,27.293172420556754,0,4.4913162398840782,3.5505948185791039,0,0,0,0,0,0,0,0,0,0,0,0,100]
["Forsterite","Mg2SiO4",3.27,{"$f":"C45*'Phase Rock Maker'!C45","v":0},1,null,2,null,null,null,null,null,null,null,null,null,null,null,null,null,null,null,null,null,{"$f":"E45*Info!$C$25","v":60.084800000000001},{"$f":"F45*Info!$C$27","v":0},{"$f":"G45*Info!$C$29","v":80.622799999999998},{"$f":"H45*Info!$C$32","v":0},{"$f":"I45*Info!$C$33","v":0},{"$f":"J45*Info!$C$31","v":0},{"$f":"K45*Info!$C$30","v":0},{"$f":"L45*Info!$C$36","v":0},{"$f":"M45*Info!$C$35","v":0},{"$f":"N45*Info!$C$34","v":0},{"$f":"O45*Info!$C$28","v":0},{"$f":"P45*Info!$C$26","v":0},{"$f":"Q45*Info!$C$37","v":0},{"$f":"R45*Info!$C$38","v":0},{"$f":"S45*Info!$C$39","v":0},{"$f":"T45*Info!$C$40","v":0},{"$f":"U45*Info!$C$43","v":0},{"$f":"V45*Info!$C$41","v":0},{"$f":"W45*Info!$C$42","v":0},140.70760000000001,null,42.701886749543021,0,57.298113250456971,0,0,0,0,0,0,0,0,0,0,0,0,0,0,0,0,100]
["Fayalite","Fe2SiO4",4.4000000000000004,{"$f":"C46*'Phase Rock Maker'!C46","v":0},1,null,null,2,null,null,null,null,null,null,null,null,null,null,null,null,null,null,null,null,{"$f":"E46*Info!$C$25","v":60.084800000000001},{"$f":"F46*Info!$C$27","v":0},{"$f":"G46*Info!$C$29","v":0},{"$f":"H46*Info!$C$32","v":143.69280000000001},{"$f":"I46*Info!$C$33","v":0},{"$f":"J46*Info!$C$31","v":0},{"$f":"K46*Info!$C$30","v":0},{"$f":"L46*Info!$C$36","v":0},{"$f":"M46*Info!$C$35","v":0},{"$f":"N46*Info!$C$34","v":0},{"$f":"O46*Info!$C$28","v":0},{"$f":"P46*Info!$C$26","v":0},{"$f":"Q46*Info!$C$37","v":0},{"$f":"R46*Info!$C$38","v":0},{"$f":"S46*Info!$C$39","v":0},{"$f":"T46*Info!$C$40","v":0},{"$f":"U46*Info!$C$43","v":0},{"$f":"V46*Info!$C$41","v":0},{"$f":"W46*Info!$C$42","v":0},203.77760000000001,null,29.485478286131546,0,0,70.514521713868447,0,0,0,0,0,0,0,0,0,0,0,0,0,0,0,100]
["Chrysolite Fa20Fo80","Fe0.4Mg1.6SiO4",3.4,{"$f":"C47*'Phase Rock Maker'!C47","v":0},1,null,1.6,0.4,null,null,null,null,null,null,null,null,null,null,null,null,null,null,null,null,{"$f":"E47*Info!$C$25","v":60.084800000000001},{"$f":"F47*Info!$C$27","v":0},{"$f":"G47*Info!$C$29","v":64.498239999999996},{"$f":"H47*Info!$C$32","v":28.738560000000003},{"$f":"I47*Info!$C$33","v":0},{"$f":"J47*Info!$C$31","v":0},{"$f":"K47*Info!$C$30","v":0},{"$f":"L47*Info!$C$36","v":0},{"$f":"M47*Info!$C$35","v":0},{"$f":"N47*Info!$C$34","v":0},{"$f":"O47*Info!$C$28","v":0},{"$f":"P47*Info!$C$26","v":0},{"$f":"Q47*Info!$C$37","v":0},{"$f":"R47*Info!$C$38","v":0},{"$f":"S47*Info!$C$39","v":0},{"$f":"T47*Info!$C$40","v":0},{"$f":"U47*Info!$C$43","v":0},{"$f":"V47*Info!$C$41","v":0},{"$f":"W47*Info!$C$42","v":0},153.32159999999999,null,39.188737920814816,0,42.067288627303654,18.743973451881537,0,0,0,0,0,0,0,0,0,0,0,0,0,0,0,100]
["Hortonolite Fa50Fo50","FeMgSiO4",3.75,{"$f":"C48*'Phase Rock Maker'!C48","v":0},1,null,1,1,null,null,null,null,null,null,null,null,null,null,null,null,null,null,null,null,{"$f":"E48*Info!$C$25","v":60.084800000000001},{"$f":"F48*Info!$C$27","v":0},{"$f":"G48*Info!$C$29","v":40.311399999999999},{"$f":"H48*Info!$C$32","v":71.846400000000003},{"$f":"I48*Info!$C$33","v":0},{"$f":"J48*Info!$C$31","v":0},{"$f":"K48*Info!$C$30","v":0},{"$f":"L48*Info!$C$36","v":0},{"$f":"M48*Info!$C$35","v":0},{"$f":"N48*Info!$C$34","v":0},{"$f":"O48*Info!$C$28","v":0},{"$f":"P48*Info!$C$26","v":0},{"$f":"Q48*Info!$C$37","v":0},{"$f":"R48*Info!$C$38","v":0},{"$f":"S48*Info!$C$39","v":0},{"$f":"T48*Info!$C$40","v":0},{"$f":"U48*Info!$C$43","v":0},{"$f":"V48*Info!$C$41","v":0},{"$f":"W48*Info!$C$42","v":0},172.24259999999998,null,34.883820843391824,0,23.403850150891824,41.712329005716363,0,0,0,0,0,0,0,0,0,0,0,0,0,0,0,100]
["Ferro-Hortonolite Fo20Fa80","Fe1.6Mg0.4SiO4",4.0999999999999996,{"$f":"C49*'Phase Rock Maker'!C49","v":0},1,null,0.4,1.6,null,null,null,null,null,null,null,null,null,null,null,null,null,null,null,null,{"$f":"E49*Info!$C$25","v":60.084800000000001},{"$f":"F49*Info!$C$27","v":0},{"$f":"G49*Info!$C$29","v":16.124559999999999},{"$f":"H49*Info!$C$32","v":114.95424000000001},{"$f":"I49*Info!$C$33","v":0},{"$f":"J49*Info!$C$31","v":0},{"$f":"K49*Info!$C$30","v":0},{"$f":"L49*Info!$C$36","v":0},{"$f":"M49*Info!$C$35","v":0},{"$f":"N49*Info!$C$34","v":0},{"$f":"O49*Info!$C$28","v":0},{"$f":"P49*Info!$C$26","v":0},{"$f":"Q49*Info!$C$37","v":0},{"$f":"R49*Info!$C$38","v":0},{"$f":"S49*Info!$C$39","v":0},{"$f":"T49*Info!$C$40","v":0},{"$f":"U49*Info!$C$43","v":0},{"$f":"V49*Info!$C$41","v":0},{"$f":"W49*Info!$C$42","v":0},191.16360000000003,null,31.431088345270748,0,8.4349530977654723,60.133958556963776,0,0,0,0,0,0,0,0,0,0,0,0,0,0,0,100]
["Enstatite","Mg2Si2O6",3.19,{"$f":"C50*'Phase Rock Maker'!C50","v":0},2,null,2,null,null,null,null,null,null,null,null,null,null,null,null,null,null,null,null,null,{"$f":"E50*Info!$C$25","v":120.1696},{"$f":"F50*Info!$C$27","v":0},{"$f":"G50*Info!$C$29","v":80.622799999999998},{"$f":"H50*Info!$C$32","v":0},{"$f":"I50*Info!$C$33","v":0},{"$f":"J50*Info!$C$31","v":0},{"$f":"K50*Info!$C$30","v":0},{"$f":"L50*Info!$C$36","v":0},{"$f":"M50*Info!$C$35","v":0},{"$f":"N50*Info!$C$34","v":0},{"$f":"O50*Info!$C$28","v":0},{"$f":"P50*Info!$C$26","v":0},{"$f":"Q50*Info!$C$37","v":0},{"$f":"R50*Info!$C$38","v":0},{"$f":"S50*Info!$C$39","v":0},{"$f":"T50*Info!$C$40","v":0},{"$f":"U50*Info!$C$43","v":0},{"$f":"V50*Info!$C$41","v":0},{"$f":"W50*Info!$C$42","v":0},200.79239999999999,null,59.847683478059935,0,40.152316521940072,0,0,0,0,0,0,0,0,0,0,0,0,0,0,0,0,100]
["Ferrosilite ","Fe2Si2O6",3.87,{"$f":"C51*'Phase Rock Maker'!C51","v":0},2,null,null,2,null,null,null,null,null,null,null,null,null,null,null,null,null,null,null,null,{"$f":"E51*Info!$C$25","v":120.1696},{"$f":"F51*Info!$C$27","v":0},{"$f":"G51*Info!$C$29","v":0},{"$f":"H51*Info!$C$32","v":143.69280000000001},{"$f":"I51*Info!$C$33","v":0},{"$f":"J51*Info!$C$31","v":0},{"$f":"K51*Info!$C$30","v":0},{"$f":"L51*Info!$C$36","v":0},{"$f":"M51*Info!$C$35","v":0},{"$f":"N51*Info!$C$34","v":0},{"$f":"O51*Info!$C$28","v":0},{"$f":"P51*Info!$C$26","v":0},{"$f":"Q51*Info!$C$37","v":0},{"$f":"R51*Info!$C$38","v":0},{"$f":"S51*Info!$C$39","v":0},{"$f":"T51*Info!$C$40","v":0},{"$f":"U51*Info!$C$43","v":0},{"$f":"V51*Info!$C$41","v":0},{"$f":"W51*Info!$C$42","v":0},263.86239999999998,null,45.542525194950102,0,0,54.457474805049912,0,0,0,0,0,0,0,0,0,0,0,0,0,0,0,100.00000000000001]
["HyperstheneEn50Fs50","FeMgSi2O6",3.59,{"$f":"C52*'Phase Rock Maker'!C52","v":0},2,null,1,1,null,null,null,null,null,null,null,null,null,null,null,null,null,null,null,null,{"$f":"E52*Info!$C$25","v":120.1696},{"$f":"F52*Info!$C$27","v":0},{"$f":"G52*Info!$C$29","v":40.311399999999999},{"$f":"H52*Info!$C$32","v":71.846400000000003},{"$f":"I52*Info!$C$33","v":0},{"$f":"J52*Info!$C$31","v":0},{"$f":"K52*Info!$C$30","v":0},{"$f":"L52*Info!$C$36","v":0},{"$f":"M52*Info!$C$35","v":0},{"$f":"N52*Info!$C$34","v":0},{"$f":"O52*Info!$C$28","v":0},{"$f":"P52*Info!$C$26","v":0},{"$f":"Q52*Info!$C$37","v":0},{"$f":"R52*Info!$C$38","v":0},{"$f":"S52*Info!$C$39","v":0},{"$f":"T52*Info!$C$40","v":0},{"$f":"U52*Info!$C$43","v":0},{"$f":"V52*Info!$C$41","v":0},{"$f":"W52*Info!$C$42","v":0},232.32740000000001,null,51.724247764146625,0,17.351117431693378,30.924634804159989,0,0,0,0,0,0,0,0,0,0,0,0,0,0,0,100]
["Diopside","CaMgSi2O6",3.28,{"$f":"C53*'Phase Rock Maker'!C53","v":0},2,null,1,null,null,null,1,null,null,null,null,null,null,null,null,null,null,null,null,null,{"$f":"E53*Info!$C$25","v":120.1696},{"$f":"F53*Info!$C$27","v":0},{"$f":"G53*Info!$C$29","v":40.311399999999999},{"$f":"H53*Info!$C$32","v":0},{"$f":"I53*Info!$C$33","v":0},{"$f":"J53*Info!$C$31","v":0},{"$f":"K53*Info!$C$30","v":56.0794},{"$f":"L53*Info!$C$36","v":0},{"$f":"M53*Info!$C$35","v":0},{"$f":"N53*Info!$C$34","v":0},{"$f":"O53*Info!$C$28","v":0},{"$f":"P53*Info!$C$26","v":0},{"$f":"Q53*Info!$C$37","v":0},{"$f":"R53*Info!$C$38","v":0},{"$f":"S53*Info!$C$39","v":0},{"$f":"T53*Info!$C$40","v":0},{"$f":"U53*Info!$C$43","v":0},{"$f":"V53*Info!$C$41","v":0},{"$f":"W53*Info!$C$42","v":0},216.56039999999999,null,55.490108071466437,0,18.614391181397892,0,0,0,25.895500747135674,0,0,0,0,0,0,0,0,0,0,0,0,100]
["Hedenbergite","CaFeSi2O6",3.65,{"$f":"C54*'Phase Rock Maker'!C54","v":0},2,null,null,1,null,null,1,null,null,null,null,null,null,null,null,null,null,null,null,null,{"$f":"E54*Info!$C$25","v":120.1696},{"$f":"F54*Info!$C$27","v":0},{"$f":"G54*Info!$C$29","v":0},{"$f":"H54*Info!$C$32","v":71.846400000000003},{"$f":"I54*Info!$C$33","v":0},{"$f":"J54*Info!$C$31","v":0},{"$f":"K54*Info!$C$30","v":56.0794},{"$f":"L54*Info!$C$36","v":0},{"$f":"M54*Info!$C$35","v":0},{"$f":"N54*Info!$C$34","v":0},{"$f":"O54*Info!$C$28","v":0},{"$f":"P54*Info!$C$26","v":0},{"$f":"Q54*Info!$C$37","v":0},{"$f":"R54*Info!$C$38","v":0},{"$f":"S54*Info!$C$39","v":0},{"$f":"T54*Info!$C$40","v":0},{"$f":"U54*Info!$C$43","v":0},{"$f":"V54*Info!$C$41","v":0},{"$f":"W54*Info!$C$42","v":0},248.09540000000001,null,48.436851308004904,0,0,28.959182637001735,0,0,22.603966054993361,0,0,0,0,0,0,0,0,0,0,0,0,100]
["Salite Di50Hed50","Ca2FeMgSi4O12",3.44,{"$f":"C55*'Phase Rock Maker'!C55","v":0},4,null,1,1,null,null,2,null,null,null,null,null,null,null,null,null,null,null,null,null,{"$f":"E55*Info!$C$25","v":240.33920000000001},{"$f":"F55*Info!$C$27","v":0},{"$f":"G55*Info!$C$29","v":40.311399999999999},{"$f":"H55*Info!$C$32","v":71.846400000000003},{"$f":"I55*Info!$C$33","v":0},{"$f":"J55*Info!$C$31","v":0},{"$f":"K55*Info!$C$30","v":112.1588},{"$f":"L55*Info!$C$36","v":0},{"$f":"M55*Info!$C$35","v":0},{"$f":"N55*Info!$C$34","v":0},{"$f":"O55*Info!$C$28","v":0},{"$f":"P55*Info!$C$26","v":0},{"$f":"Q55*Info!$C$37","v":0},{"$f":"R55*Info!$C$38","v":0},{"$f":"S55*Info!$C$39","v":0},{"$f":"T55*Info!$C$40","v":0},{"$f":"U55*Info!$C$43","v":0},{"$f":"V55*Info!$C$41","v":0},{"$f":"W55*Info!$C$42","v":0},464.6558,null,51.724136446806433,0,8.6755400449106617,15.462284125152426,0,0,24.138039383130479,0,0,0,0,0,0,0,0,0,0,0,0,100]
["Wollastonite","Ca2Si2O6",2.9,{"$f":"C56*'Phase Rock Maker'!C56","v":0},2,null,null,null,null,null,2,null,null,null,null,null,null,null,null,null,null,null,null,null,{"$f":"E56*Info!$C$25","v":120.1696},{"$f":"F56*Info!$C$27","v":0},{"$f":"G56*Info!$C$29","v":0},{"$f":"H56*Info!$C$32","v":0},{"$f":"I56*Info!$C$33","v":0},{"$f":"J56*Info!$C$31","v":0},{"$f":"K56*Info!$C$30","v":112.1588},{"$f":"L56*Info!$C$36","v":0},{"$f":"M56*Info!$C$35","v":0},{"$f":"N56*Info!$C$34","v":0},{"$f":"O56*Info!$C$28","v":0},{"$f":"P56*Info!$C$26","v":0},{"$f":"Q56*Info!$C$37","v":0},{"$f":"R56*Info!$C$38","v":0},{"$f":"S56*Info!$C$39","v":0},{"$f":"T56*Info!$C$40","v":0},{"$f":"U56*Info!$C$43","v":0},{"$f":"V56*Info!$C$41","v":0},{"$f":"W56*Info!$C$42","v":0},232.32839999999999,null,51.724025129945375,0,0,0,0,0,48.275974870054633,0,0,0,0,0,0,0,0,0,0,0,0,100]
["Fe Chlorite (Chamosite)","Fe2+10Al4Si6O20(OH)16",3.13,{"$f":"C57*'Phase Rock Maker'!C57","v":0},6,2,null,10,null,null,null,null,null,null,null,null,null,null,8,null,null,null,null,null,{"$f":"E57*Info!$C$25","v":360.50880000000001},{"$f":"F57*Info!$C$27","v":203.92240000000001},{"$f":"G57*Info!$C$29","v":0},{"$f":"H57*Info!$C$32","v":718.46400000000006},{"$f":"I57*Info!$C$33","v":0},{"$f":"J57*Info!$C$31","v":0},{"$f":"K57*Info!$C$30","v":0},{"$f":"L57*Info!$C$36","v":0},{"$f":"M57*Info!$C$35","v":0},{"$f":"N57*Info!$C$34","v":0},{"$f":"O57*Info!$C$28","v":0},{"$f":"P57*Info!$C$26","v":0},{"$f":"Q57*Info!$C$37","v":0},{"$f":"R57*Info!$C$38","v":0},{"$f":"S57*Info!$C$39","v":144.12},{"$f":"T57*Info!$C$40","v":0},{"$f":"U57*Info!$C$43","v":0},{"$f":"V57*Info!$C$41","v":0},{"$f":"W57*Info!$C$42","v":0},1427.0151999999998,null,25.263136650541639,14.290135101574252,0,50.347326363447294,0,0,0,0,0,0,0,0,0,0,10.099401884436832,0,0,0,0,100.00000000000001]
["Mg Chlorite (Clinochlore)","Mg10Al4Si6O20(OH)16",2.6280000000000001,{"$f":"C58*'Phase Rock Maker'!C58","v":0},6,2,10,null,null,null,null,null,null,null,null,null,null,null,8,null,null,null,null,null,{"$f":"E58*Info!$C$25","v":360.50880000000001},{"$f":"F58*Info!$C$27","v":203.92240000000001},{"$f":"G58*Info!$C$29","v":403.11399999999998},{"$f":"H58*Info!$C$32","v":0},{"$f":"I58*Info!$C$33","v":0},{"$f":"J58*Info!$C$31","v":0},{"$f":"K58*Info!$C$30","v":0},{"$f":"L58*Info!$C$36","v":0},{"$f":"M58*Info!$C$35","v":0},{"$f":"N58*Info!$C$34","v":0},{"$f":"O58*Info!$C$28","v":0},{"$f":"P58*Info!$C$26","v":0},{"$f":"Q58*Info!$C$37","v":0},{"$f":"R58*Info!$C$38","v":0},{"$f":"S58*Info!$C$39","v":144.12},{"$f":"T58*Info!$C$40","v":0},{"$f":"U58*Info!$C$43","v":0},{"$f":"V58*Info!$C$41","v":0},{"$f":"W58*Info!$C$42","v":0},1111.6651999999999,null,32.429619997099849,18.343868279766248,36.262176777684509,0,0,0,0,0,0,0,0,0,0,0,12.964334945449405,0,0,0,0,100.00000000000001]
["Chlorite Fe20Mg80","Fe2+2Mg8Al4Si6O20(OH)16",2.78,{"$f":"C59*'Phase Rock Maker'!C59","v":0},6,2,8,2,null,null,null,null,null,null,null,null,null,null,8,null,null,null,null,null,{"$f":"E59*Info!$C$25","v":360.50880000000001},{"$f":"F59*Info!$C$27","v":203.92240000000001},{"$f":"G59*Info!$C$29","v":322.49119999999999},{"$f":"H59*Info!$C$32","v":143.69280000000001},{"$f":"I59*Info!$C$33","v":0},{"$f":"J59*Info!$C$31","v":0},{"$f":"K59*Info!$C$30","v":0},{"$f":"L59*Info!$C$36","v":0},{"$f":"M59*Info!$C$35","v":0},{"$f":"N59*Info!$C$34","v":0},{"$f":"O59*Info!$C$28","v":0},{"$f":"P59*Info!$C$26","v":0},{"$f":"Q59*Info!$C$37","v":0},{"$f":"R59*Info!$C$38","v":0},{"$f":"S59*Info!$C$39","v":144.12},{"$f":"T59*Info!$C$40","v":0},{"$f":"U59*Info!$C$43","v":0},{"$f":"V59*Info!$C$41","v":0},{"$f":"W59*Info!$C$42","v":0},1174.7352000000001,null,30.688516016205181,17.359009928365133,27.452246259412334,12.231931076892904,0,0,0,0,0,0,0,0,0,0,12.268296719124445,0,0,0,0,100]
["Chlorite Fe50Mg50","Fe2+5Mg5Al4Si6O20(OH)16",2.98,{"$f":"C60*'Phase Rock Maker'!C60","v":0},6,2,5,5,null,null,null,null,null,null,null,null,null,null,8,null,null,null,null,null,{"$f":"E60*Info!$C$25","v":360.50880000000001},{"$f":"F60*Info!$C$27","v":203.92240000000001},{"$f":"G60*Info!$C$29","v":201.55699999999999},{"$f":"H60*Info!$C$32","v":359.23200000000003},{"$f":"I60*Info!$C$33","v":0},{"$f":"J60*Info!$C$31","v":0},{"$f":"K60*Info!$C$30","v":0},{"$f":"L60*Info!$C$36","v":0},{"$f":"M60*Info!$C$35","v":0},{"$f":"N60*Info!$C$34","v":0},{"$f":"O60*Info!$C$28","v":0},{"$f":"P60*Info!$C$26","v":0},{"$f":"Q60*Info!$C$37","v":0},{"$f":"R60*Info!$C$38","v":0},{"$f":"S60*Info!$C$39","v":144.12},{"$f":"T60*Info!$C$40","v":0},{"$f":"U60*Info!$C$43","v":0},{"$f":"V60*Info!$C$41","v":0},{"$f":"W60*Info!$C$42","v":0},1269.3402000000001,null,28.401274930077847,16.065228218565831,15.878879436734136,28.300687238929328,0,0,0,0,0,0,0,0,0,0,11.353930175692852,0,0,0,0,100]
["Chlorite Fe80Mg20","Fe2+8Mg2Al4Si6O20(OH)16",3.17,{"$f":"C61*'Phase Rock Maker'!C61","v":0},6,2,2,8,null,null,null,null,null,null,null,null,null,null,8,null,null,null,null,null,{"$f":"E61*Info!$C$25","v":360.50880000000001},{"$f":"F61*Info!$C$27","v":203.92240000000001},{"$f":"G61*Info!$C$29","v":80.622799999999998},{"$f":"H61*Info!$C$32","v":574.77120000000002},{"$f":"I61*Info!$C$33","v":0},{"$f":"J61*Info!$C$31","v":0},{"$f":"K61*Info!$C$30","v":0},{"$f":"L61*Info!$C$36","v":0},{"$f":"M61*Info!$C$35","v":0},{"$f":"N61*Info!$C$34","v":0},{"$f":"O61*Info!$C$28","v":0},{"$f":"P61*Info!$C$26","v":0},{"$f":"Q61*Info!$C$37","v":0},{"$f":"R61*Info!$C$38","v":0},{"$f":"S61*Info!$C$39","v":144.12},{"$f":"T61*Info!$C$40","v":0},{"$f":"U61*Info!$C$43","v":0},{"$f":"V61*Info!$C$41","v":0},{"$f":"W61*Info!$C$42","v":0},1363.9452000000001,null,26.431325833325264,14.950923248236073,5.9109999433994851,42.140344054878447,0,0,0,0,0,0,0,0,0,0,10.566406920160722,0,0,0,0,100]
["Hornblende","   Ca2Fe2Mg2Al2Si7O22(OH)2",3,{"$f":"C62*'Phase Rock Maker'!C62","v":0},7,1,2,2,null,null,2,null,null,null,null,null,null,null,1,null,null,null,null,null,{"$f":"E62*Info!$C$25","v":420.59360000000004},{"$f":"F62*Info!$C$27","v":101.96120000000001},{"$f":"G62*Info!$C$29","v":80.622799999999998},{"$f":"H62*Info!$C$32","v":143.69280000000001},{"$f":"I62*Info!$C$33","v":0},{"$f":"J62*Info!$C$31","v":0},{"$f":"K62*Info!$C$30","v":112.1588},{"$f":"L62*Info!$C$36","v":0},{"$f":"M62*Info!$C$35","v":0},{"$f":"N62*Info!$C$34","v":0},{"$f":"O62*Info!$C$28","v":0},{"$f":"P62*Info!$C$26","v":0},{"$f":"Q62*Info!$C$37","v":0},{"$f":"R62*Info!$C$38","v":0},{"$f":"S62*Info!$C$39","v":18.015000000000001},{"$f":"T62*Info!$C$40","v":0},{"$f":"U62*Info!$C$43","v":0},{"$f":"V62*Info!$C$41","v":0},{"$f":"W62*Info!$C$42","v":0},877.04420000000005,null,47.955804279875522,11.625548632554665,9.1925583682099479,16.383758081975799,0,0,12.788272244431923,0,0,0,0,0,0,0,2.0540583929521454,0,0,0,0,100]
["Glaucophane","   Na2Mg3Al2Si8O22(OH)2",3.13,{"$f":"C63*'Phase Rock Maker'!C63","v":0},8,1,3,null,null,null,null,null,1,null,null,null,null,null,1,null,null,null,null,null,{"$f":"E63*Info!$C$25","v":480.67840000000001},{"$f":"F63*Info!$C$27","v":101.96120000000001},{"$f":"G63*Info!$C$29","v":120.9342},{"$f":"H63*Info!$C$32","v":0},{"$f":"I63*Info!$C$33","v":0},{"$f":"J63*Info!$C$31","v":0},{"$f":"K63*Info!$C$30","v":0},{"$f":"L63*Info!$C$36","v":0},{"$f":"M63*Info!$C$35","v":61.978999999999999},{"$f":"N63*Info!$C$34","v":0},{"$f":"O63*Info!$C$28","v":0},{"$f":"P63*Info!$C$26","v":0},{"$f":"Q63*Info!$C$37","v":0},{"$f":"R63*Info!$C$38","v":0},{"$f":"S63*Info!$C$39","v":18.015000000000001},{"$f":"T63*Info!$C$40","v":0},{"$f":"U63*Info!$C$43","v":0},{"$f":"V63*Info!$C$41","v":0},{"$f":"W63*Info!$C$42","v":0},783.56780000000003,null,61.344838315203866,13.012428535220563,15.433788882085251,0,0,0,0,0,7.909845197824616,0,0,0,0,0,2.2990990696657008,0,0,0,0,99.999999999999986]
["Tremolite","   Ca2Mg5Si8O22(OH)2",2.964,{"$f":"C64*'Phase Rock Maker'!C64","v":0},8,null,5,null,null,null,2,null,null,null,null,null,null,null,1,null,null,null,null,null,{"$f":"E64*Info!$C$25","v":480.67840000000001},{"$f":"F64*Info!$C$27","v":0},{"$f":"G64*Info!$C$29","v":201.55699999999999},{"$f":"H64*Info!$C$32","v":0},{"$f":"I64*Info!$C$33","v":0},{"$f":"J64*Info!$C$31","v":0},{"$f":"K64*Info!$C$30","v":112.1588},{"$f":"L64*Info!$C$36","v":0},{"$f":"M64*Info!$C$35","v":0},{"$f":"N64*Info!$C$34","v":0},{"$f":"O64*Info!$C$28","v":0},{"$f":"P64*Info!$C$26","v":0},{"$f":"Q64*Info!$C$37","v":0},{"$f":"R64*Info!$C$38","v":0},{"$f":"S64*Info!$C$39","v":18.015000000000001},{"$f":"T64*Info!$C$40","v":0},{"$f":"U64*Info!$C$43","v":0},{"$f":"V64*Info!$C$41","v":0},{"$f":"W64*Info!$C$42","v":0},812.40920000000006,null,59.167030604774041,0,24.809787973843719,0,0,0,13.805702840391271,0,0,0,0,0,0,0,2.2174785809909587,0,0,0,0,99.999999999999986]
["Actinolite","   Ca2Fe2Mg3Si8O22(OH)2",3.07,{"$f":"C65*'Phase Rock Maker'!C65","v":0},8,null,3,2,null,null,2,null,null,null,null,null,null,null,1,null,null,null,null,null,{"$f":"E65*Info!$C$25","v":480.67840000000001},{"$f":"F65*Info!$C$27","v":0},{"$f":"G65*Info!$C$29","v":120.9342},{"$f":"H65*Info!$C$32","v":143.69280000000001},{"$f":"I65*Info!$C$33","v":0},{"$f":"J65*Info!$C$31","v":0},{"$f":"K65*Info!$C$30","v":112.1588},{"$f":"L65*Info!$C$36","v":0},{"$f":"M65*Info!$C$35","v":0},{"$f":"N65*Info!$C$34","v":0},{"$f":"O65*Info!$C$28","v":0},{"$f":"P65*Info!$C$26","v":0},{"$f":"Q65*Info!$C$37","v":0},{"$f":"R65*Info!$C$38","v":0},{"$f":"S65*Info!$C$39","v":18.015000000000001},{"$f":"T65*Info!$C$40","v":0},{"$f":"U65*Info!$C$43","v":0},{"$f":"V65*Info!$C$41","v":0},{"$f":"W65*Info!$C$42","v":0},875.47920000000011,null,54.904605386398664,0,13.813486374090896,16.41304556407508,0,0,12.811132463226995,0,0,0,0,0,0,0,2.0577302122083538,0,0,0,0,99.999999999999986]
["Ferro-Edenite","   NaCa2Mg2Fe3AlSi7O22(OH)2",3.4,{"$f":"C66*'Phase Rock Maker'!C66","v":0},7,0.5,2,3,null,null,2,null,0.5,null,null,null,null,null,1,null,null,null,null,null,{"$f":"E66*Info!$C$25","v":420.59360000000004},{"$f":"F66*Info!$C$27","v":50.980600000000003},{"$f":"G66*Info!$C$29","v":80.622799999999998},{"$f":"H66*Info!$C$32","v":215.53919999999999},{"$f":"I66*Info!$C$33","v":0},{"$f":"J66*Info!$C$31","v":0},{"$f":"K66*Info!$C$30","v":112.1588},{"$f":"L66*Info!$C$36","v":0},{"$f":"M66*Info!$C$35","v":30.9895},{"$f":"N66*Info!$C$34","v":0},{"$f":"O66*Info!$C$28","v":0},{"$f":"P66*Info!$C$26","v":0},{"$f":"Q66*Info!$C$37","v":0},{"$f":"R66*Info!$C$38","v":0},{"$f":"S66*Info!$C$39","v":18.015000000000001},{"$f":"T66*Info!$C$40","v":0},{"$f":"U66*Info!$C$43","v":0},{"$f":"V66*Info!$C$41","v":0},{"$f":"W66*Info!$C$42","v":0},928.8995000000001,null,45.278698072288762,5.4882794102053021,8.6793888897561029,23.203715794873393,0,0,12.074374030775125,0,3.33615208103783,0,0,0,0,0,1.9393917210634732,0,0,0,0,99.999999999999986]
["Tschermakite","   Ca2Mg3Al4Si6O22(OH)2",3.25,{"$f":"C67*'Phase Rock Maker'!C67","v":0},6,2,3,null,null,null,2,null,null,null,null,null,null,null,1,null,null,null,null,null,{"$f":"E67*Info!$C$25","v":360.50880000000001},{"$f":"F67*Info!$C$27","v":203.92240000000001},{"$f":"G67*Info!$C$29","v":120.9342},{"$f":"H67*Info!$C$32","v":0},{"$f":"I67*Info!$C$33","v":0},{"$f":"J67*Info!$C$31","v":0},{"$f":"K67*Info!$C$30","v":112.1588},{"$f":"L67*Info!$C$36","v":0},{"$f":"M67*Info!$C$35","v":0},{"$f":"N67*Info!$C$34","v":0},{"$f":"O67*Info!$C$28","v":0},{"$f":"P67*Info!$C$26","v":0},{"$f":"Q67*Info!$C$37","v":0},{"$f":"R67*Info!$C$38","v":0},{"$f":"S67*Info!$C$39","v":18.015000000000001},{"$f":"T67*Info!$C$40","v":0},{"$f":"U67*Info!$C$43","v":0},{"$f":"V67*Info!$C$41","v":0},{"$f":"W67*Info!$C$42","v":0},815.53920000000005,null,44.204962802523781,25.004610446683618,14.828741524625672,0,0,0,13.752717220705025,0,0,0,0,0,0,0,2.2089680054619079,0,0,0,0,100]
["Pargasite","NaCa2Fe2Mg2Al3Si6O22(OH)2",3.21,{"$f":"C68*'Phase Rock Maker'!C68","v":0},6,1.5,2,2,null,null,2,null,0.5,null,null,null,null,null,1,null,null,null,null,null,{"$f":"E68*Info!$C$25","v":360.50880000000001},{"$f":"F68*Info!$C$27","v":152.9418},{"$f":"G68*Info!$C$29","v":80.622799999999998},{"$f":"H68*Info!$C$32","v":143.69280000000001},{"$f":"I68*Info!$C$33","v":0},{"$f":"J68*Info!$C$31","v":0},{"$f":"K68*Info!$C$30","v":112.1588},{"$f":"L68*Info!$C$36","v":0},{"$f":"M68*Info!$C$35","v":30.9895},{"$f":"N68*Info!$C$34","v":0},{"$f":"O68*Info!$C$28","v":0},{"$f":"P68*Info!$C$26","v":0},{"$f":"Q68*Info!$C$37","v":0},{"$f":"R68*Info!$C$38","v":0},{"$f":"S68*Info!$C$39","v":18.015000000000001},{"$f":"T68*Info!$C$40","v":0},{"$f":"U68*Info!$C$43","v":0},{"$f":"V68*Info!$C$41","v":0},{"$f":"W68*Info!$C$42","v":0},{"$f":"SUM(Y68:AQ68)","v":898.92950000000008},null,40.10423509296335,17.013770267857488,8.9687567267510957,15.984879793131718,0,0,12.476929503370398,0,3.4473782426764279,0,0,0,0,0,2.0040503732495147,0,0,{"$f":"AP68/$AR68*100","v":0},{"$f":"AQ68/$AR68*100","v":0},99.999999999999986]
["Hastingsite","NaCa2Fe2+4Fe3+Al2Si6O22(OH)2",3.42,{"$f":"C69*'Phase Rock Maker'!C69","v":0},6,1,null,4,1,null,2,null,0.5,null,null,null,null,null,1,null,null,null,null,null,{"$f":"E69*Info!$C$25","v":360.50880000000001},{"$f":"F69*Info!$C$27","v":101.96120000000001},{"$f":"G69*Info!$C$29","v":0},{"$f":"H69*Info!$C$32","v":287.38560000000001},{"$f":"I69*Info!$C$33","v":159.69220000000001},{"$f":"J69*Info!$C$31","v":0},{"$f":"K69*Info!$C$30","v":112.1588},{"$f":"L69*Info!$C$36","v":0},{"$f":"M69*Info!$C$35","v":30.9895},{"$f":"N69*Info!$C$34","v":0},{"$f":"O69*Info!$C$28","v":0},{"$f":"P69*Info!$C$26","v":0},{"$f":"Q69*Info!$C$37","v":0},{"$f":"R69*Info!$C$38","v":0},{"$f":"S69*Info!$C$39","v":18.015000000000001},{"$f":"T69*Info!$C$40","v":0},{"$f":"U69*Info!$C$43","v":0},{"$f":"V69*Info!$C$41","v":0},{"$f":"W69*Info!$C$42","v":0},1070.7111000000002,null,33.670034802104873,9.5227554846494069,0,26.840629559178002,14.914592741216559,0,10.475169259009268,0,2.8942914666710742,0,0,0,0,0,1.6825266871707969,0,0,0,0,{"$f":"SUM(AT69:BL69)","v":99.999999999999972}]
["NaCa Scapolite (Mizzonite)","Na4Ca4(Al9Si15O47.5)CO3SO4",2.7,{"$f":"C70*'Phase Rock Maker'!C70","v":0},15,4.5,null,null,null,null,4,null,2,null,null,null,1,null,null,1,null,null,null,null,{"$f":"E70*Info!$C$25","v":901.27200000000005},{"$f":"F70*Info!$C$27","v":458.8254},{"$f":"G70*Info!$C$29","v":0},{"$f":"H70*Info!$C$32","v":0},{"$f":"I70*Info!$C$33","v":0},{"$f":"J70*Info!$C$31","v":0},{"$f":"K70*Info!$C$30","v":224.3176},{"$f":"L70*Info!$C$36","v":0},{"$f":"M70*Info!$C$35","v":123.958},{"$f":"N70*Info!$C$34","v":0},{"$f":"O70*Info!$C$28","v":0},{"$f":"P70*Info!$C$26","v":0},{"$f":"Q70*Info!$C$37","v":80.063999999999993},{"$f":"R70*Info!$C$38","v":0},{"$f":"S70*Info!$C$39","v":0},{"$f":"T70*Info!$C$40","v":44.01},{"$f":"U70*Info!$C$43","v":0},{"$f":"V70*Info!$C$41","v":0},{"$f":"W70*Info!$C$42","v":0},1832.4470000000003,null,49.184069170895519,25.038945191866389,0,0,0,0,12.24142362644049,0,6.7646158388209852,0,0,0,4.3692396014727839,0,0,2.4017065705038121,0,0,0,100]
["Titanite","CaTiSiO5",3.53,{"$f":"C71*'Phase Rock Maker'!C71","v":0},1,null,null,null,null,null,1,null,null,null,null,1,null,null,null,null,null,null,null,null,{"$f":"E71*Info!$C$25","v":60.084800000000001},{"$f":"F71*Info!$C$27","v":0},{"$f":"G71*Info!$C$29","v":0},{"$f":"H71*Info!$C$32","v":0},{"$f":"I71*Info!$C$33","v":0},{"$f":"J71*Info!$C$31","v":0},{"$f":"K71*Info!$C$30","v":56.0794},{"$f":"L71*Info!$C$36","v":0},{"$f":"M71*Info!$C$35","v":0},{"$f":"N71*Info!$C$34","v":0},{"$f":"O71*Info!$C$28","v":0},{"$f":"P71*Info!$C$26","v":79.898799999999994},{"$f":"Q71*Info!$C$37","v":0},{"$f":"R71*Info!$C$38","v":0},{"$f":"S71*Info!$C$39","v":0},{"$f":"T71*Info!$C$40","v":0},{"$f":"U71*Info!$C$43","v":0},{"$f":"V71*Info!$C$41","v":0},{"$f":"W71*Info!$C$42","v":0},196.06299999999999,null,30.645659813427319,0,0,0,0,0,28.602745036034339,0,0,0,0,40.751595150538343,0,0,0,0,0,0,0,100]
["Rutile","TiO2",4.25,{"$f":"C72*'Phase Rock Maker'!C72","v":0},null,null,null,null,null,null,null,null,null,null,null,1,null,null,null,null,null,null,null,null,{"$f":"E72*Info!$C$25","v":0},{"$f":"F72*Info!$C$27","v":0},{"$f":"G72*Info!$C$29","v":0},{"$f":"H72*Info!$C$32","v":0},{"$f":"I72*Info!$C$33","v":0},{"$f":"J72*Info!$C$31","v":0},{"$f":"K72*Info!$C$30","v":0},{"$f":"L72*Info!$C$36","v":0},{"$f":"M72*Info!$C$35","v":0},{"$f":"N72*Info!$C$34","v":0},{"$f":"O72*Info!$C$28","v":0},{"$f":"P72*Info!$C$26","v":79.898799999999994},{"$f":"Q72*Info!$C$37","v":0},{"$f":"R72*Info!$C$38","v":0},{"$f":"S72*Info!$C$39","v":0},{"$f":"T72*Info!$C$40","v":0},{"$f":"U72*Info!$C$43","v":0},{"$f":"V72*Info!$C$41","v":0},{"$f":"W72*Info!$C$42","v":0},79.898799999999994,null,0,0,0,0,0,0,0,0,0,0,0,100,0,0,0,0,0,0,0,100]
["Spinel","MgAl2O4",3.58,{"$f":"C73*'Phase Rock Maker'!C73","v":0},null,1,1,null,null,null,null,null,null,null,null,null,null,null,null,null,null,null,null,null,{"$f":"E73*Info!$C$25","v":0},{"$f":"F73*Info!$C$27","v":101.96120000000001},{"$f":"G73*Info!$C$29","v":40.311399999999999},{"$f":"H73*Info!$C$32","v":0},{"$f":"I73*Info!$C$33","v":0},{"$f":"J73*Info!$C$31","v":0},{"$f":"K73*Info!$C$30","v":0},{"$f":"L73*Info!$C$36","v":0},{"$f":"M73*Info!$C$35","v":0},{"$f":"N73*Info!$C$34","v":0},{"$f":"O73*Info!$C$28","v":0},{"$f":"P73*Info!$C$26","v":0},{"$f":"Q73*Info!$C$37","v":0},{"$f":"R73*Info!$C$38","v":0},{"$f":"S73*Info!$C$39","v":0},{"$f":"T73*Info!$C$40","v":0},{"$f":"U73*Info!$C$43","v":0},{"$f":"V73*Info!$C$41","v":0},{"$f":"W73*Info!$C$42","v":0},142.27260000000001,null,0,71.666083279563324,28.33391672043668,0,0,0,0,0,0,0,0,0,0,0,0,0,0,0,0,100]
["Hercynite","Fe2+Al2O4",4.26,{"$f":"C74*'Phase Rock Maker'!C74","v":0},null,1,null,1,null,null,null,null,null,null,null,null,null,null,null,null,null,null,null,null,{"$f":"E74*Info!$C$25","v":0},{"$f":"F74*Info!$C$27","v":101.96120000000001},{"$f":"G74*Info!$C$29","v":0},{"$f":"H74*Info!$C$32","v":71.846400000000003},{"$f":"I74*Info!$C$33","v":0},{"$f":"J74*Info!$C$31","v":0},{"$f":"K74*Info!$C$30","v":0},{"$f":"L74*Info!$C$36","v":0},{"$f":"M74*Info!$C$35","v":0},{"$f":"N74*Info!$C$34","v":0},{"$f":"O74*Info!$C$28","v":0},{"$f":"P74*Info!$C$26","v":0},{"$f":"Q74*Info!$C$37","v":0},{"$f":"R74*Info!$C$38","v":0},{"$f":"S74*Info!$C$39","v":0},{"$f":"T74*Info!$C$40","v":0},{"$f":"U74*Info!$C$43","v":0},{"$f":"V74*Info!$C$41","v":0},{"$f":"W74*Info!$C$42","v":0},173.80760000000001,null,0,58.663257533042277,0,41.336742466957716,0,0,0,0,0,0,0,0,0,0,0,0,0,0,0,100]
["Chromite","Fe2+Cr2O4",5.12,{"$f":"C75*'Phase Rock Maker'!C75","v":0},null,null,null,1,null,null,null,null,null,null,1,null,null,null,null,null,null,null,null,null,{"$f":"E75*Info!$C$25","v":0},{"$f":"F75*Info!$C$27","v":0},{"$f":"G75*Info!$C$29","v":0},{"$f":"H75*Info!$C$32","v":71.846400000000003},{"$f":"I75*Info!$C$33","v":0},{"$f":"J75*Info!$C$31","v":0},{"$f":"K75*Info!$C$30","v":0},{"$f":"L75*Info!$C$36","v":0},{"$f":"M75*Info!$C$35","v":0},{"$f":"N75*Info!$C$34","v":0},{"$f":"O75*Info!$C$28","v":151.99019999999999},{"$f":"P75*Info!$C$26","v":0},{"$f":"Q75*Info!$C$37","v":0},{"$f":"R75*Info!$C$38","v":0},{"$f":"S75*Info!$C$39","v":0},{"$f":"T75*Info!$C$40","v":0},{"$f":"U75*Info!$C$43","v":0},{"$f":"V75*Info!$C$41","v":0},{"$f":"W75*Info!$C$42","v":0},223.83659999999998,null,0,0,0,32.097699839972556,0,0,0,0,0,0,67.902300160027451,0,0,0,0,0,0,0,0,100]
["Magnetite","Fe3O4",5.2,{"$f":"C76*'Phase Rock Maker'!C76","v":0},null,null,null,1,1,null,null,null,null,null,null,null,null,null,null,null,null,null,null,null,{"$f":"E76*Info!$C$25","v":0},{"$f":"F76*Info!$C$27","v":0},{"$f":"G76*Info!$C$29","v":0},{"$f":"H76*Info!$C$32","v":71.846400000000003},{"$f":"I76*Info!$C$33","v":159.69220000000001},{"$f":"J76*Info!$C$31","v":0},{"$f":"K76*Info!$C$30","v":0},{"$f":"L76*Info!$C$36","v":0},{"$f":"M76*Info!$C$35","v":0},{"$f":"N76*Info!$C$34","v":0},{"$f":"O76*Info!$C$28","v":0},{"$f":"P76*Info!$C$26","v":0},{"$f":"Q76*Info!$C$37","v":0},{"$f":"R76*Info!$C$38","v":0},{"$f":"S76*Info!$C$39","v":0},{"$f":"T76*Info!$C$40","v":0},{"$f":"U76*Info!$C$43","v":0},{"$f":"V76*Info!$C$41","v":0},{"$f":"W76*Info!$C$42","v":0},231.53860000000003,null,0,0,0,31.029988088379213,68.970011911620773,0,0,0,0,0,0,0,0,0,0,0,0,0,0,99.999999999999986]
["Ilmenite","FeTiO3",4.7889999999999997,{"$f":"C77*'Phase Rock Maker'!C77","v":0},null,null,null,1,null,null,null,null,null,null,null,1,null,null,null,null,null,null,null,null,{"$f":"E77*Info!$C$25","v":0},{"$f":"F77*Info!$C$27","v":0},{"$f":"G77*Info!$C$29","v":0},{"$f":"H77*Info!$C$32","v":71.846400000000003},{"$f":"I77*Info!$C$33","v":0},{"$f":"J77*Info!$C$31","v":0},{"$f":"K77*Info!$C$30","v":0},{"$f":"L77*Info!$C$36","v":0},{"$f":"M77*Info!$C$35","v":0},{"$f":"N77*Info!$C$34","v":0},{"$f":"O77*Info!$C$28","v":0},{"$f":"P77*Info!$C$26","v":79.898799999999994},{"$f":"Q77*Info!$C$37","v":0},{"$f":"R77*Info!$C$38","v":0},{"$f":"S77*Info!$C$39","v":0},{"$f":"T77*Info!$C$40","v":0},{"$f":"U77*Info!$C$43","v":0},{"$f":"V77*Info!$C$41","v":0},{"$f":"W77*Info!$C$42","v":0},151.74520000000001,null,0,0,0,47.346736503032716,0,0,0,0,0,0,0,52.65326349696727,0,0,0,0,0,0,0,99.999999999999986]
["Hematite","Fe2O3",5.26,{"$f":"C78*'Phase Rock Maker'!C78","v":0},null,null,null,null,1,null,null,null,null,null,null,null,null,null,null,null,null,null,null,null,{"$f":"E78*Info!$C$25","v":0},{"$f":"F78*Info!$C$27","v":0},{"$f":"G78*Info!$C$29","v":0},{"$f":"H78*Info!$C$32","v":0},{"$f":"I78*Info!$C$33","v":159.69220000000001},{"$f":"J78*Info!$C$31","v":0},{"$f":"K78*Info!$C$30","v":0},{"$f":"L78*Info!$C$36","v":0},{"$f":"M78*Info!$C$35","v":0},{"$f":"N78*Info!$C$34","v":0},{"$f":"O78*Info!$C$28","v":0},{"$f":"P78*Info!$C$26","v":0},{"$f":"Q78*Info!$C$37","v":0},{"$f":"R78*Info!$C$38","v":0},{"$f":"S78*Info!$C$39","v":0},{"$f":"T78*Info!$C$40","v":0},{"$f":"U78*Info!$C$43","v":0},{"$f":"V78*Info!$C$41","v":0},{"$f":"W78*Info!$C$42","v":0},159.69220000000001,null,0,0,0,0,100,0,0,0,0,0,0,0,0,0,0,0,0,0,0,100]
["Gypsum","CaSO4 ˑ 2H2O",2.31,{"$f":"C79*'Phase Rock Maker'!C79","v":0},null,null,null,null,null,null,1,null,null,null,null,null,1,null,2,null,null,null,null,null,{"$f":"E79*Info!$C$25","v":0},{"$f":"F79*Info!$C$27","v":0},{"$f":"G79*Info!$C$29","v":0},{"$f":"H79*Info!$C$32","v":0},{"$f":"I79*Info!$C$33","v":0},{"$f":"J79*Info!$C$31","v":0},{"$f":"K79*Info!$C$30","v":56.0794},{"$f":"L79*Info!$C$36","v":0},{"$f":"M79*Info!$C$35","v":0},{"$f":"N79*Info!$C$34","v":0},{"$f":"O79*Info!$C$28","v":0},{"$f":"P79*Info!$C$26","v":0},{"$f":"Q79*Info!$C$37","v":80.063999999999993},{"$f":"R79*Info!$C$38","v":0},{"$f":"S79*Info!$C$39","v":36.03},{"$f":"T79*Info!$C$40","v":0},{"$f":"U79*Info!$C$43","v":0},{"$f":"V79*Info!$C$41","v":0},{"$f":"W79*Info!$C$42","v":0},172.17339999999999,null,0,0,0,0,0,0,32.57146574325651,0,0,0,0,0,46.501956748254955,0,20.926577508488535,0,0,0,0,100]
["Baryte","BaSO4",4.47,{"$f":"C80*'Phase Rock Maker'!C80","v":0},null,null,null,null,null,null,null,null,null,1,null,null,1,null,null,null,null,null,null,null,{"$f":"E80*Info!$C$25","v":0},{"$f":"F80*Info!$C$27","v":0},{"$f":"G80*Info!$C$29","v":0},{"$f":"H80*Info!$C$32","v":0},{"$f":"I80*Info!$C$33","v":0},{"$f":"J80*Info!$C$31","v":0},{"$f":"K80*Info!$C$30","v":0},{"$f":"L80*Info!$C$36","v":0},{"$f":"M80*Info!$C$35","v":0},{"$f":"N80*Info!$C$34","v":153.33940000000001},{"$f":"O80*Info!$C$28","v":0},{"$f":"P80*Info!$C$26","v":0},{"$f":"Q80*Info!$C$37","v":80.063999999999993},{"$f":"R80*Info!$C$38","v":0},{"$f":"S80*Info!$C$39","v":0},{"$f":"T80*Info!$C$40","v":0},{"$f":"U80*Info!$C$43","v":0},{"$f":"V80*Info!$C$41","v":0},{"$f":"W80*Info!$C$42","v":0},233.4034,null,0,0,0,0,0,0,0,0,0,65.697157796330302,0,0,34.302842203669691,0,0,0,0,0,0,100]
["Calcite","CaCO3",2.71,{"$f":"C81*'Phase Rock Maker'!C81","v":0},null,null,null,null,null,null,1,null,null,null,null,null,null,null,null,1,null,null,null,null,{"$f":"E81*Info!$C$25","v":0},{"$f":"F81*Info!$C$27","v":0},{"$f":"G81*Info!$C$29","v":0},{"$f":"H81*Info!$C$32","v":0},{"$f":"I81*Info!$C$33","v":0},{"$f":"J81*Info!$C$31","v":0},{"$f":"K81*Info!$C$30","v":56.0794},{"$f":"L81*Info!$C$36","v":0},{"$f":"M81*Info!$C$35","v":0},{"$f":"N81*Info!$C$34","v":0},{"$f":"O81*Info!$C$28","v":0},{"$f":"P81*Info!$C$26","v":0},{"$f":"Q81*Info!$C$37","v":0},{"$f":"R81*Info!$C$38","v":0},{"$f":"S81*Info!$C$39","v":0},{"$f":"T81*Info!$C$40","v":44.01},{"$f":"U81*Info!$C$43","v":0},{"$f":"V81*Info!$C$41","v":0},{"$f":"W81*Info!$C$42","v":0},100.0894,null,{"$f":"Y81/$AR81*100","v":0},{"$f":"Z81/$AR81*100","v":0},{"$f":"AA81/$AR81*100","v":0},{"$f":"AB81/$AR81*100","v":0},{"$f":"AC81/$AR81*100","v":0},{"$f":"AD81/$AR81*100","v":0},{"$f":"AE81/$AR81*100","v":56.029309797041449},{"$f":"AF81/$AR81*100","v":0},{"$f":"AG81/$AR81*100","v":0},{"$f":"AH81/$AR81*100","v":0},{"$f":"AI81/$AR81*100","v":0},{"$f":"AJ81/$AR81*100","v":0},{"$f":"AK81/$AR81*100","v":0},{"$f":"AL81/$AR81*100","v":0},{"$f":"AM81/$AR81*100","v":0},{"$f":"AN81/$AR81*100","v":43.970690202958558},0,0,0,100]
["Dolomite","MgCa(CO3)2",2.88,{"$f":"C82*'Phase Rock Maker'!C82","v":0},null,null,1,null,null,null,1,null,null,null,null,null,null,null,null,2,null,null,null,null,{"$f":"E82*Info!$C$25","v":0},{"$f":"F82*Info!$C$27","v":0},{"$f":"G82*Info!$C$29","v":40.311399999999999},{"$f":"H82*Info!$C$32","v":0},{"$f":"I82*Info!$C$33","v":0},{"$f":"J82*Info!$C$31","v":0},{"$f":"K82*Info!$C$30","v":56.0794},{"$f":"L82*Info!$C$36","v":0},{"$f":"M82*Info!$C$35","v":0},{"$f":"N82*Info!$C$34","v":0},{"$f":"O82*Info!$C$28","v":0},{"$f":"P82*Info!$C$26","v":0},{"$f":"Q82*Info!$C$37","v":0},{"$f":"R82*Info!$C$38","v":0},{"$f":"S82*Info!$C$39","v":0},{"$f":"T82*Info!$C$40","v":88.02},{"$f":"U82*Info!$C$43","v":0},{"$f":"V82*Info!$C$41","v":0},{"$f":"W82*Info!$C$42","v":0},184.41079999999999,null,0,0,21.859565708732895,0,0,0,30.410041060501879,0,0,0,0,0,0,0,0,47.73039323076523,0,0,0,100]
["Magnesite","MgCO3",3.01,{"$f":"C83*'Phase Rock Maker'!C83","v":0},null,null,1,null,null,null,null,null,null,null,null,null,null,null,null,1,null,null,null,null,{"$f":"E83*Info!$C$25","v":0},{"$f":"F83*Info!$C$27","v":0},{"$f":"G83*Info!$C$29","v":40.311399999999999},{"$f":"H83*Info!$C$32","v":0},{"$f":"I83*Info!$C$33","v":0},{"$f":"J83*Info!$C$31","v":0},{"$f":"K83*Info!$C$30","v":0},{"$f":"L83*Info!$C$36","v":0},{"$f":"M83*Info!$C$35","v":0},{"$f":"N83*Info!$C$34","v":0},{"$f":"O83*Info!$C$28","v":0},{"$f":"P83*Info!$C$26","v":0},{"$f":"Q83*Info!$C$37","v":0},{"$f":"R83*Info!$C$38","v":0},{"$f":"S83*Info!$C$39","v":0},{"$f":"T83*Info!$C$40","v":44.01},{"$f":"U83*Info!$C$43","v":0},{"$f":"V83*Info!$C$41","v":0},{"$f":"W83*Info!$C$42","v":0},84.321399999999997,null,0,0,47.806843814263047,0,0,0,0,0,0,0,0,0,0,0,0,52.193156185736953,0,0,0,100]
["Siderite","FeCO3",3.93,{"$f":"C84*'Phase Rock Maker'!C84","v":0},null,null,null,1,null,null,null,null,null,null,null,null,null,null,null,1,null,null,null,null,{"$f":"E84*Info!$C$25","v":0},{"$f":"F84*Info!$C$27","v":0},{"$f":"G84*Info!$C$29","v":0},{"$f":"H84*Info!$C$32","v":71.846400000000003},{"$f":"I84*Info!$C$33","v":0},{"$f":"J84*Info!$C$31","v":0},{"$f":"K84*Info!$C$30","v":0},{"$f":"L84*Info!$C$36","v":0},{"$f":"M84*Info!$C$35","v":0},{"$f":"N84*Info!$C$34","v":0},{"$f":"O84*Info!$C$28","v":0},{"$f":"P84*Info!$C$26","v":0},{"$f":"Q84*Info!$C$37","v":0},{"$f":"R84*Info!$C$38","v":0},{"$f":"S84*Info!$C$39","v":0},{"$f":"T84*Info!$C$40","v":44.01},{"$f":"U84*Info!$C$43","v":0},{"$f":"V84*Info!$C$41","v":0},{"$f":"W84*Info!$C$42","v":0},115.85640000000001,null,0,0,0,62.013319937439789,0,0,0,0,0,0,0,0,0,0,0,37.986680062560204,0,0,0,100]
["Corundum","Al2O3",4,{"$f":"C85*'Phase Rock Maker'!C85","v":0},null,1,null,null,null,null,null,null,null,null,null,null,null,null,null,null,null,null,null,null,{"$f":"E85*Info!$C$25","v":0},{"$f":"F85*Info!$C$27","v":101.96120000000001},{"$f":"G85*Info!$C$29","v":0},{"$f":"H85*Info!$C$32","v":0},{"$f":"I85*Info!$C$33","v":0},{"$f":"J85*Info!$C$31","v":0},{"$f":"K85*Info!$C$30","v":0},{"$f":"L85*Info!$C$36","v":0},{"$f":"M85*Info!$C$35","v":0},{"$f":"N85*Info!$C$34","v":0},{"$f":"O85*Info!$C$28","v":0},{"$f":"P85*Info!$C$26","v":0},{"$f":"Q85*Info!$C$37","v":0},{"$f":"R85*Info!$C$38","v":0},{"$f":"S85*Info!$C$39","v":0},{"$f":"T85*Info!$C$40","v":0},{"$f":"U85*Info!$C$43","v":0},{"$f":"V85*Info!$C$41","v":0},{"$f":"W85*Info!$C$42","v":0},101.96120000000001,null,0,100,0,0,0,0,0,0,0,0,0,0,0,0,0,0,0,0,0,100]
["Epidote","Ca2Al2Fe3+Si3O12(OH)",3.43,{"$f":"C86*'Phase Rock Maker'!C86","v":0},3,1,null,null,0.5,null,2,null,null,null,null,null,null,null,0.5,null,null,null,null,null,{"$f":"E86*Info!$C$25","v":180.2544},{"$f":"F86*Info!$C$27","v":101.96120000000001},{"$f":"G86*Info!$C$29","v":0},{"$f":"H86*Info!$C$32","v":0},{"$f":"I86*Info!$C$33","v":79.846100000000007},{"$f":"J86*Info!$C$31","v":0},{"$f":"K86*Info!$C$30","v":112.1588},{"$f":"L86*Info!$C$36","v":0},{"$f":"M86*Info!$C$35","v":0},{"$f":"N86*Info!$C$34","v":0},{"$f":"O86*Info!$C$28","v":0},{"$f":"P86*Info!$C$26","v":0},{"$f":"Q86*Info!$C$37","v":0},{"$f":"R86*Info!$C$38","v":0},{"$f":"S86*Info!$C$39","v":9.0075000000000003},{"$f":"T86*Info!$C$40","v":0},{"$f":"U86*Info!$C$43","v":0},{"$f":"V86*Info!$C$41","v":0},{"$f":"W86*Info!$C$42","v":0},483.22799999999995,null,37.302143087734983,21.100019038631871,0,0,16.523483738525087,0,23.21032721613814,0,0,0,0,0,0,0,1.8640269189699274,0,0,0,0,100.00000000000001]
["Zoisite","Ca2Al3Si3O12(OH)",3.35,{"$f":"C87*'Phase Rock Maker'!C87","v":0},3,1.5,null,null,null,null,2,null,null,null,null,null,null,null,0.5,null,null,null,null,null,{"$f":"E87*Info!$C$25","v":180.2544},{"$f":"F87*Info!$C$27","v":152.9418},{"$f":"G87*Info!$C$29","v":0},{"$f":"H87*Info!$C$32","v":0},{"$f":"I87*Info!$C$33","v":0},{"$f":"J87*Info!$C$31","v":0},{"$f":"K87*Info!$C$30","v":112.1588},{"$f":"L87*Info!$C$36","v":0},{"$f":"M87*Info!$C$35","v":0},{"$f":"N87*Info!$C$34","v":0},{"$f":"O87*Info!$C$28","v":0},{"$f":"P87*Info!$C$26","v":0},{"$f":"Q87*Info!$C$37","v":0},{"$f":"R87*Info!$C$38","v":0},{"$f":"S87*Info!$C$39","v":9.0075000000000003},{"$f":"T87*Info!$C$40","v":0},{"$f":"U87*Info!$C$43","v":0},{"$f":"V87*Info!$C$41","v":0},{"$f":"W87*Info!$C$42","v":0},454.36249999999995,null,39.671935954221574,33.660744449640987,0,0,0,0,24.684871660843491,0,0,0,0,0,0,0,1.9824479352939561,0,0,0,0,100.00000000000001]
["Apatite (Hydroxylapatite)","Ca5(PO4)3(OH)",3.16,{"$f":"C88*'Phase Rock Maker'!C88","v":0},null,null,null,null,null,null,5,null,null,null,null,null,null,null,0.5,null,null,null,1.5,null,{"$f":"E88*Info!$C$25","v":0},{"$f":"F88*Info!$C$27","v":0},{"$f":"G88*Info!$C$29","v":0},{"$f":"H88*Info!$C$32","v":0},{"$f":"I88*Info!$C$33","v":0},{"$f":"J88*Info!$C$31","v":0},{"$f":"K88*Info!$C$30","v":280.39699999999999},{"$f":"L88*Info!$C$36","v":0},{"$f":"M88*Info!$C$35","v":0},{"$f":"N88*Info!$C$34","v":0},{"$f":"O88*Info!$C$28","v":0},{"$f":"P88*Info!$C$26","v":0},{"$f":"Q88*Info!$C$37","v":0},{"$f":"R88*Info!$C$38","v":0},{"$f":"S88*Info!$C$39","v":9.0075000000000003},{"$f":"T88*Info!$C$40","v":0},{"$f":"U88*Info!$C$43","v":0},{"$f":"V88*Info!$C$41","v":0},{"$f":"W88*Info!$C$42","v":212.91},502.31449999999995,null,{"$f":"Y88/$AR88*100","v":0},{"$f":"Z88/$AR88*100","v":0},{"$f":"AA88/$AR88*100","v":0},{"$f":"AB88/$AR88*100","v":0},{"$f":"AC88/$AR88*100","v":0},{"$f":"AD88/$AR88*100","v":0},{"$f":"AE88/$AR88*100","v":55.821004569846188},{"$f":"AF88/$AR88*100","v":0},{"$f":"AG88/$AR88*100","v":0},{"$f":"AH88/$AR88*100","v":0},{"$f":"AI88/$AR88*100","v":0},{"$f":"AJ88/$AR88*100","v":0},{"$f":"AK88/$AR88*100","v":0},{"$f":"AL88/$AR88*100","v":0},{"$f":"AM88/$AR88*100","v":1.7931992805304247},{"$f":"AN88/$AR88*100","v":0},0,0,42.385796149623395,100]
["Tourmaline Drav50Schorl50","NaFe2+1.5Mg1.5Al6(BO3)3Si6O18(OH)4",3.1,{"$f":"C89*'Phase Rock Maker'!C89","v":0},6,3,1.5,1.5,null,null,null,null,0.5,null,null,null,null,null,2,null,null,1.5,null,null,{"$f":"E89*Info!$C$25","v":360.50880000000001},{"$f":"F89*Info!$C$27","v":305.8836},{"$f":"G89*Info!$C$29","v":60.467100000000002},{"$f":"H89*Info!$C$32","v":107.7696},{"$f":"I89*Info!$C$33","v":0},{"$f":"J89*Info!$C$31","v":0},{"$f":"K89*Info!$C$30","v":0},{"$f":"L89*Info!$C$36","v":0},{"$f":"M89*Info!$C$35","v":30.9895},{"$f":"N89*Info!$C$34","v":0},{"$f":"O89*Info!$C$28","v":0},{"$f":"P89*Info!$C$26","v":0},{"$f":"Q89*Info!$C$37","v":0},{"$f":"R89*Info!$C$38","v":0},{"$f":"S89*Info!$C$39","v":36.03},{"$f":"T89*Info!$C$40","v":0},{"$f":"U89*Info!$C$43","v":0},{"$f":"V89*Info!$C$41","v":104.43},{"$f":"W89*Info!$C$42","v":0},1006.0785999999998,null,35.833065130298976,30.403548987126854,6.010176540878617,10.711846967026235,0,0,0,0,3.080226534984444,0,0,0,0,0,3.581231128462528,0,0,10.379904711222366,0,100.00000000000003]
["grt","HV6.2b_1",3.8,{"$f":"C90*'Phase Rock Maker'!C90","v":0},null,null,null,null,null,null,null,null,null,null,null,null,null,null,null,null,null,null,null,null,{"$f":"E90*Info!$C$25","v":0},{"$f":"F90*Info!$C$27","v":0},{"$f":"G90*Info!$C$29","v":0},{"$f":"H90*Info!$C$32","v":0},{"$f":"I90*Info!$C$33","v":0},{"$f":"J90*Info!$C$31","v":0},{"$f":"K90*Info!$C$30","v":0},{"$f":"L90*Info!$C$36","v":0},{"$f":"M90*Info!$C$35","v":0},{"$f":"N90*Info!$C$34","v":0},{"$f":"O90*Info!$C$28","v":0},{"$f":"P90*Info!$C$26","v":0},{"$f":"Q90*Info!$C$37","v":0},{"$f":"R90*Info!$C$38","v":0},{"$f":"S90*Info!$C$39","v":0},{"$f":"T90*Info!$C$40","v":0},{"$f":"U90*Info!$C$43","v":0},{"$f":"V90*Info!$C$41","v":0},{"$f":"W90*Info!$C$42","v":0},0,null,40.42,22.5,13.38,17.100000000000001,0.83,0.42,5.52,null,null,null,0.22,0.13,0,0,0,0,0,0,0,100.52]
["grt","HV6.2b_2",3.8,{"$f":"C91*'Phase Rock Maker'!C91","v":0},null,null,null,null,null,null,null,null,null,null,null,null,null,null,null,null,null,null,null,null,{"$f":"E91*Info!$C$25","v":0},{"$f":"F91*Info!$C$27","v":0},{"$f":"G91*Info!$C$29","v":0},{"$f":"H91*Info!$C$32","v":0},{"$f":"I91*Info!$C$33","v":0},{"$f":"J91*Info!$C$31","v":0},{"$f":"K91*Info!$C$30","v":0},{"$f":"L91*Info!$C$36","v":0},{"$f":"M91*Info!$C$35","v":0},{"$f":"N91*Info!$C$34","v":0},{"$f":"O91*Info!$C$28","v":0},{"$f":"P91*Info!$C$26","v":0},{"$f":"Q91*Info!$C$37","v":0},{"$f":"R91*Info!$C$38","v":0},{"$f":"S91*Info!$C$39","v":0},{"$f":"T91*Info!$C$40","v":0},{"$f":"U91*Info!$C$43","v":0},{"$f":"V91*Info!$C$41","v":0},{"$f":"W91*Info!$C$42","v":0},0,null,40.61,22.59,13.96,16.36,1.47,0.4,5.44,null,null,null,0.22,7.0000000000000007E-2,null,null,null,null,null,null,null,101.11999999999999]
["grt","HV6.2b_3",3.8,{"$f":"C92*'Phase Rock Maker'!C92","v":0},null,null,null,null,null,null,null,null,null,null,null,null,null,null,null,null,null,null,null,null,{"$f":"E92*Info!$C$25","v":0},{"$f":"F92*Info!$C$27","v":0},{"$f":"G92*Info!$C$29","v":0},{"$f":"H92*Info!$C$32","v":0},{"$f":"I92*Info!$C$33","v":0},{"$f":"J92*Info!$C$31","v":0},{"$f":"K92*Info!$C$30","v":0},{"$f":"L92*Info!$C$36","v":0},{"$f":"M92*Info!$C$35","v":0},{"$f":"N92*Info!$C$34","v":0},{"$f":"O92*Info!$C$28","v":0},{"$f":"P92*Info!$C$26","v":0},{"$f":"Q92*Info!$C$37","v":0},{"$f":"R92*Info!$C$38","v":0},{"$f":"S92*Info!$C$39","v":0},{"$f":"T92*Info!$C$40","v":0},{"$f":"U92*Info!$C$43","v":0},{"$f":"V92*Info!$C$41","v":0},{"$f":"W92*Info!$C$42","v":0},0,null,40.31,22.54,13.92,15.95,2.36,0.45,5.51,null,null,null,0.22,0.08,null,null,null,null,null,null,null,101.34]
["cpx","HV6.2b_6",3.2,{"$f":"C93*'Phase Rock Maker'!C93","v":0},null,null,null,null,null,null,null,null,null,null,null,null,null,null,null,null,null,null,null,null,{"$f":"E93*Info!$C$25","v":0},{"$f":"F93*Info!$C$27","v":0},{"$f":"G93*Info!$C$29","v":0},{"$f":"H93*Info!$C$32","v":0},{"$f":"I93*Info!$C$33","v":0},{"$f":"J93*Info!$C$31","v":0},{"$f":"K93*Info!$C$30","v":0},{"$f":"L93*Info!$C$36","v":0},{"$f":"M93*Info!$C$35","v":0},{"$f":"N93*Info!$C$34","v":0},{"$f":"O93*Info!$C$28","v":0},{"$f":"P93*Info!$C$26","v":0},{"$f":"Q93*Info!$C$37","v":0},{"$f":"R93*Info!$C$38","v":0},{"$f":"S93*Info!$C$39","v":0},{"$f":"T93*Info!$C$40","v":0},{"$f":"U93*Info!$C$43","v":0},{"$f":"V93*Info!$C$41","v":0},{"$f":"W93*Info!$C$42","v":0},0,null,50.06,6.94,12.7,6.19,0.64,0,20.059999999999999,0,1.34,null,0,0.97,null,null,null,null,null,null,null,98.9]
["cpx","HV6.2b_7",3.2,{"$f":"C94*'Phase Rock Maker'!C94","v":0},null,null,null,null,null,null,null,null,null,null,null,null,null,null,null,null,null,null,null,null,{"$f":"E94*Info!$C$25","v":0},{"$f":"F94*Info!$C$27","v":0},{"$f":"G94*Info!$C$29","v":0},{"$f":"H94*Info!$C$32","v":0},{"$f":"I94*Info!$C$33","v":0},{"$f":"J94*Info!$C$31","v":0},{"$f":"K94*Info!$C$30","v":0},{"$f":"L94*Info!$C$36","v":0},{"$f":"M94*Info!$C$35","v":0},{"$f":"N94*Info!$C$34","v":0},{"$f":"O94*Info!$C$28","v":0},{"$f":"P94*Info!$C$26","v":0},{"$f":"Q94*Info!$C$37","v":0},{"$f":"R94*Info!$C$38","v":0},{"$f":"S94*Info!$C$39","v":0},{"$f":"T94*Info!$C$40","v":0},{"$f":"U94*Info!$C$43","v":0},{"$f":"V94*Info!$C$41","v":0},{"$f":"W94*Info!$C$42","v":0},0,null,48.92,7.23,13.01,4.2,3.26,0.01,19.440000000000001,0,1.49,null,0,0.81,null,null,null,null,null,null,null,98.370000000000019]
["cpx","HV6.2b_8",3.2,{"$f":"C95*'Phase Rock Maker'!C95","v":0},null,null,null,null,null,null,null,null,null,null,null,null,null,null,null,null,null,null,null,null,{"$f":"E95*Info!$C$25","v":0},{"$f":"F95*Info!$C$27","v":0},{"$f":"G95*Info!$C$29","v":0},{"$f":"H95*Info!$C$32","v":0},{"$f":"I95*Info!$C$33","v":0},{"$f":"J95*Info!$C$31","v":0},{"$f":"K95*Info!$C$30","v":0},{"$f":"L95*Info!$C$36","v":0},{"$f":"M95*Info!$C$35","v":0},{"$f":"N95*Info!$C$34","v":0},{"$f":"O95*Info!$C$28","v":0},{"$f":"P95*Info!$C$26","v":0},{"$f":"Q95*Info!$C$37","v":0},{"$f":"R95*Info!$C$38","v":0},{"$f":"S95*Info!$C$39","v":0},{"$f":"T95*Info!$C$40","v":0},{"$f":"U95*Info!$C$43","v":0},{"$f":"V95*Info!$C$41","v":0},{"$f":"W95*Info!$C$42","v":0},0,null,49.9,7.22,12.2,5.2,1.58,0.03,21.52,0.01,1.3,null,0.03,1.05,null,null,null,null,null,null,null,100.03999999999999]
["cpx","HV6.2b_11",3.2,{"$f":"C96*'Phase Rock Maker'!C96","v":0},null,null,null,null,null,null,null,null,null,null,null,null,null,null,null,null,null,null,null,null,{"$f":"E96*Info!$C$25","v":0},{"$f":"F96*Info!$C$27","v":0},{"$f":"G96*Info!$C$29","v":0},{"$f":"H96*Info!$C$32","v":0},{"$f":"I96*Info!$C$33","v":0},{"$f":"J96*Info!$C$31","v":0},{"$f":"K96*Info!$C$30","v":0},{"$f":"L96*Info!$C$36","v":0},{"$f":"M96*Info!$C$35","v":0},{"$f":"N96*Info!$C$34","v":0},{"$f":"O96*Info!$C$28","v":0},{"$f":"P96*Info!$C$26","v":0},{"$f":"Q96*Info!$C$37","v":0},{"$f":"R96*Info!$C$38","v":0},{"$f":"S96*Info!$C$39","v":0},{"$f":"T96*Info!$C$40","v":0},{"$f":"U96*Info!$C$43","v":0},{"$f":"V96*Info!$C$41","v":0},{"$f":"W96*Info!$C$42","v":0},0,null,49.91,6.83,14.01,7.96,0,0.01,17.02,0,0.93,null,0.01,1.08,null,null,null,null,null,null,null,97.76]
["Hbl","HV6.2b_9",3.2,{"$f":"C97*'Phase Rock Maker'!C97","v":0},null,null,null,null,null,null,null,null,null,null,null,null,null,null,null,null,null,null,null,null,{"$f":"E97*Info!$C$25","v":0},{"$f":"F97*Info!$C$27","v":0},{"$f":"G97*Info!$C$29","v":0},{"$f":"H97*Info!$C$32","v":0},{"$f":"I97*Info!$C$33","v":0},{"$f":"J97*Info!$C$31","v":0},{"$f":"K97*Info!$C$30","v":0},{"$f":"L97*Info!$C$36","v":0},{"$f":"M97*Info!$C$35","v":0},{"$f":"N97*Info!$C$34","v":0},{"$f":"O97*Info!$C$28","v":0},{"$f":"P97*Info!$C$26","v":0},{"$f":"Q97*Info!$C$37","v":0},{"$f":"R97*Info!$C$38","v":0},{"$f":"S97*Info!$C$39","v":0},{"$f":"T97*Info!$C$40","v":0},{"$f":"U97*Info!$C$43","v":0},{"$f":"V97*Info!$C$41","v":0},{"$f":"W97*Info!$C$42","v":0},0,null,49.38,9.32,14.01,10.65,0,0,12.91,0.13,0.62,null,0,0.86,null,null,null,null,null,null,null,97.88000000000001]
["Hbl","HV6.2b_10",3.2,{"$f":"C98*'Phase Rock Maker'!C98","v":0},null,null,null,null,null,null,null,null,null,null,null,null,null,null,null,null,null,null,null,null,{"$f":"E98*Info!$C$25","v":0},{"$f":"F98*Info!$C$27","v":0},{"$f":"G98*Info!$C$29","v":0},{"$f":"H98*Info!$C$32","v":0},{"$f":"I98*Info!$C$33","v":0},{"$f":"J98*Info!$C$31","v":0},{"$f":"K98*Info!$C$30","v":0},{"$f":"L98*Info!$C$36","v":0},{"$f":"M98*Info!$C$35","v":0},{"$f":"N98*Info!$C$34","v":0},{"$f":"O98*Info!$C$28","v":0},{"$f":"P98*Info!$C$26","v":0},{"$f":"Q98*Info!$C$37","v":0},{"$f":"R98*Info!$C$38","v":0},{"$f":"S98*Info!$C$39","v":0},{"$f":"T98*Info!$C$40","v":0},{"$f":"U98*Info!$C$43","v":0},{"$f":"V98*Info!$C$41","v":0},{"$f":"W98*Info!$C$42","v":0},0,null,50.94,7.33,15.29,9.58,0.11,0,12.73,0.1,0.43,null,0,0.7,null,null,null,null,null,null,null,97.210000000000008]
["Prg","HV6.2b_18",3.1,{"$f":"C99*'Phase Rock Maker'!C99","v":0},null,null,null,null,null,null,null,null,null,null,null,null,null,null,null,null,null,null,null,null,{"$f":"E99*Info!$C$25","v":0},{"$f":"F99*Info!$C$27","v":0},{"$f":"G99*Info!$C$29","v":0},{"$f":"H99*Info!$C$32","v":0},{"$f":"I99*Info!$C$33","v":0},{"$f":"J99*Info!$C$31","v":0},{"$f":"K99*Info!$C$30","v":0},{"$f":"L99*Info!$C$36","v":0},{"$f":"M99*Info!$C$35","v":0},{"$f":"N99*Info!$C$34","v":0},{"$f":"O99*Info!$C$28","v":0},{"$f":"P99*Info!$C$26","v":0},{"$f":"Q99*Info!$C$37","v":0},{"$f":"R99*Info!$C$38","v":0},{"$f":"S99*Info!$C$39","v":0},{"$f":"T99*Info!$C$40","v":0},{"$f":"U99*Info!$C$43","v":0},{"$f":"V99*Info!$C$41","v":0},{"$f":"W99*Info!$C$42","v":0},0,null,41.67,18.05,9.64,11.79,2.61,0,11.85,0.41,1.54,null,0,0.17,null,null,null,null,null,null,null,97.73]
["Prg","HV6.2b_19",3.1,{"$f":"C100*'Phase Rock Maker'!C100","v":0},null,null,null,null,null,null,null,null,null,null,null,null,null,null,null,null,null,null,null,null,{"$f":"E100*Info!$C$25","v":0},{"$f":"F100*Info!$C$27","v":0},{"$f":"G100*Info!$C$29","v":0},{"$f":"H100*Info!$C$32","v":0},{"$f":"I100*Info!$C$33","v":0},{"$f":"J100*Info!$C$31","v":0},{"$f":"K100*Info!$C$30","v":0},{"$f":"L100*Info!$C$36","v":0},{"$f":"M100*Info!$C$35","v":0},{"$f":"N100*Info!$C$34","v":0},{"$f":"O100*Info!$C$28","v":0},{"$f":"P100*Info!$C$26","v":0},{"$f":"Q100*Info!$C$37","v":0},{"$f":"R100*Info!$C$38","v":0},{"$f":"S100*Info!$C$39","v":0},{"$f":"T100*Info!$C$40","v":0},{"$f":"U100*Info!$C$43","v":0},{"$f":"V100*Info!$C$41","v":0},{"$f":"W100*Info!$C$42","v":0},0,null,40.72,19.489999999999998,8.83,12.07,1.83,0.01,11.72,0.48,1.53,null,0,7.0000000000000007E-2,null,null,null,null,null,null,null,96.749999999999986]
["Chl","HV6.2a_3",2.65,{"$f":"C101*'Phase Rock Maker'!C101","v":0},null,null,null,null,null,null,null,null,null,null,null,null,null,null,null,null,null,null,null,null,{"$f":"E101*Info!$C$25","v":0},{"$f":"F101*Info!$C$27","v":0},{"$f":"G101*Info!$C$29","v":0},{"$f":"H101*Info!$C$32","v":0},{"$f":"I101*Info!$C$33","v":0},{"$f":"J101*Info!$C$31","v":0},{"$f":"K101*Info!$C$30","v":0},{"$f":"L101*Info!$C$36","v":0},{"$f":"M101*Info!$C$35","v":0},{"$f":"N101*Info!$C$34","v":0},{"$f":"O101*Info!$C$28","v":0},{"$f":"P101*Info!$C$26","v":0},{"$f":"Q101*Info!$C$37","v":0},{"$f":"R101*Info!$C$38","v":0},{"$f":"S101*Info!$C$39","v":0},{"$f":"T101*Info!$C$40","v":0},{"$f":"U101*Info!$C$43","v":0},{"$f":"V101*Info!$C$41","v":0},{"$f":"W101*Info!$C$42","v":0},0,null,27.34,22.16,24.35,12.68,0,0.04,0.03,0.01,0,null,0,7.0000000000000007E-2,null,null,null,null,null,null,null,86.68]
["Chl","HV6.2a_4",2.65,{"$f":"C102*'Phase Rock Maker'!C102","v":0},null,null,null,null,null,null,null,null,null,null,null,null,null,null,null,null,null,null,null,null,{"$f":"E102*Info!$C$25","v":0},{"$f":"F102*Info!$C$27","v":0},{"$f":"G102*Info!$C$29","v":0},{"$f":"H102*Info!$C$32","v":0},{"$f":"I102*Info!$C$33","v":0},{"$f":"J102*Info!$C$31","v":0},{"$f":"K102*Info!$C$30","v":0},{"$f":"L102*Info!$C$36","v":0},{"$f":"M102*Info!$C$35","v":0},{"$f":"N102*Info!$C$34","v":0},{"$f":"O102*Info!$C$28","v":0},{"$f":"P102*Info!$C$26","v":0},{"$f":"Q102*Info!$C$37","v":0},{"$f":"R102*Info!$C$38","v":0},{"$f":"S102*Info!$C$39","v":0},{"$f":"T102*Info!$C$40","v":0},{"$f":"U102*Info!$C$43","v":0},{"$f":"V102*Info!$C$41","v":0},{"$f":"W102*Info!$C$42","v":0},0,null,27.2,22.04,23.9,12.53,0,0.03,0.01,0.02,0.01,null,0.01,0.09,null,null,null,null,null,null,null,85.84]
["Ep","HV6.2b_7",3.45,{"$f":"C103*'Phase Rock Maker'!C103","v":0},null,null,null,null,null,null,null,null,null,null,null,null,null,null,null,null,null,null,null,null,{"$f":"E103*Info!$C$25","v":0},{"$f":"F103*Info!$C$27","v":0},{"$f":"G103*Info!$C$29","v":0},{"$f":"H103*Info!$C$32","v":0},{"$f":"I103*Info!$C$33","v":0},{"$f":"J103*Info!$C$31","v":0},{"$f":"K103*Info!$C$30","v":0},{"$f":"L103*Info!$C$36","v":0},{"$f":"M103*Info!$C$35","v":0},{"$f":"N103*Info!$C$34","v":0},{"$f":"O103*Info!$C$28","v":0},{"$f":"P103*Info!$C$26","v":0},{"$f":"Q103*Info!$C$37","v":0},{"$f":"R103*Info!$C$38","v":0},{"$f":"S103*Info!$C$39","v":0},{"$f":"T103*Info!$C$40","v":0},{"$f":"U103*Info!$C$43","v":0},{"$f":"V103*Info!$C$41","v":0},{"$f":"W103*Info!$C$42","v":0},0,null,38.17,26.51,7.0000000000000007E-2,null,8.98,0.17,23.68,0,0,null,0.18,0.08,null,null,null,null,null,null,null,97.840000000000018]
["Ep","HV6.2b_8",3.45,{"$f":"C104*'Phase Rock Maker'!C104","v":0},null,null,null,null,null,null,null,null,null,null,null,null,null,null,null,null,null,null,null,null,{"$f":"E104*Info!$C$25","v":0},{"$f":"F104*Info!$C$27","v":0},{"$f":"G104*Info!$C$29","v":0},{"$f":"H104*Info!$C$32","v":0},{"$f":"I104*Info!$C$33","v":0},{"$f":"J104*Info!$C$31","v":0},{"$f":"K104*Info!$C$30","v":0},{"$f":"L104*Info!$C$36","v":0},{"$f":"M104*Info!$C$35","v":0},{"$f":"N104*Info!$C$34","v":0},{"$f":"O104*Info!$C$28","v":0},{"$f":"P104*Info!$C$26","v":0},{"$f":"Q104*Info!$C$37","v":0},{"$f":"R104*Info!$C$38","v":0},{"$f":"S104*Info!$C$39","v":0},{"$f":"T104*Info!$C$40","v":0},{"$f":"U104*Info!$C$43","v":0},{"$f":"V104*Info!$C$41","v":0},{"$f":"W104*Info!$C$42","v":0},0,null,38.03,26.72,0.06,null,8.75,0.17,23.57,0,0,null,0.16,0.06,null,null,null,null,null,null,null,97.52000000000001]
["New Phase",null,0,{"$f":"C105*'Phase Rock Maker'!C105","v":0},1,null,null,null,null,null,null,null,null,null,null,null,null,null,null,null,null,null,null,null,{"$f":"E105*Info!$C$25","v":60.084800000000001},{"$f":"F105*Info!$C$27","v":0},{"$f":"G105*Info!$C$29","v":0},{"$f":"H105*Info!$C$32","v":0},{"$f":"I105*Info!$C$33","v":0},{"$f":"J105*Info!$C$31","v":0},{"$f":"K105*Info!$C$30","v":0},{"$f":"L105*Info!$C$36","v":0},{"$f":"M105*Info!$C$35","v":0},{"$f":"N105*Info!$C$34","v":0},{"$f":"O105*Info!$C$28","v":0},{"$f":"P105*Info!$C$26","v":0},{"$f":"Q105*Info!$C$37","v":0},{"$f":"R105*Info!$C$38","v":0},{"$f":"S105*Info!$C$39","v":0},{"$f":"T105*Info!$C$40","v":0},{"$f":"U105*Info!$C$43","v":0},{"$f":"V105*Info!$C$41","v":0},{"$f":"W105*Info!$C$42","v":0},60.084800000000001,null,{"$f":"Y105/$AR105*100","v":100},{"$f":"Z105/$AR105*100","v":0},{"$f":"AA105/$AR105*100","v":0},{"$f":"AB105/$AR105*100","v":0},{"$f":"AC105/$AR105*100","v":0},{"$f":"AD105/$AR105*100","v":0},{"$f":"AE105/$AR105*100","v":0},{"$f":"AF105/$AR105*100","v":0},{"$f":"AG105/$AR105*100","v":0},{"$f":"AH105/$AR105*100","v":0},{"$f":"AI105/$AR105*100","v":0},{"$f":"AJ105/$AR105*100","v":0},{"$f":"AK105/$AR105*100","v":0},{"$f":"AL105/$AR105*100","v":0},{"$f":"AM105/$AR105*100","v":0},{"$f":"AN105/$AR105*100","v":0},0,0,0,100]
["New Phase",null,0,{"$f":"C106*'Phase Rock Maker'!C106","v":0},1,null,null,null,null,null,null,null,null,null,null,null,null,null,null,null,null,null,null,null,{"$f":"E106*Info!$C$25","v":60.084800000000001},{"$f":"F106*Info!$C$27","v":0},{"$f":"G106*Info!$C$29","v":0},{"$f":"H106*Info!$C$32","v":0},{"$f":"I106*Info!$C$33","v":0},{"$f":"J106*Info!$C$31","v":0},{"$f":"K106*Info!$C$30","v":0},{"$f":"L106*Info!$C$36","v":0},{"$f":"M106*Info!$C$35","v":0},{"$f":"N106*Info!$C$34","v":0},{"$f":"O106*Info!$C$28","v":0},{"$f":"P106*Info!$C$26","v":0},{"$f":"Q106*Info!$C$37","v":0},{"$f":"R106*Info!$C$38","v":0},{"$f":"S106*Info!$C$39","v":0},{"$f":"T106*Info!$C$40","v":0},{"$f":"U106*Info!$C$43","v":0},{"$f":"V106*Info!$C$41","v":0},{"$f":"W106*Info!$C$42","v":0},60.084800000000001,null,100,0,0,0,0,0,0,0,0,0,0,0,0,0,0,0,0,0,0,100]
["New Phase",null,0,{"$f":"C107*'Phase Rock Maker'!C107","v":0},1,null,null,null,null,null,null,null,null,null,null,null,null,null,null,null,null,null,null,null,{"$f":"E107*Info!$C$25","v":60.084800000000001},{"$f":"F107*Info!$C$27","v":0},{"$f":"G107*Info!$C$29","v":0},{"$f":"H107*Info!$C$32","v":0},{"$f":"I107*Info!$C$33","v":0},{"$f":"J107*Info!$C$31","v":0},{"$f":"K107*Info!$C$30","v":0},{"$f":"L107*Info!$C$36","v":0},{"$f":"M107*Info!$C$35","v":0},{"$f":"N107*Info!$C$34","v":0},{"$f":"O107*Info!$C$28","v":0},{"$f":"P107*Info!$C$26","v":0},{"$f":"Q107*Info!$C$37","v":0},{"$f":"R107*Info!$C$38","v":0},{"$f":"S107*Info!$C$39","v":0},{"$f":"T107*Info!$C$40","v":0},{"$f":"U107*Info!$C$43","v":0},{"$f":"V107*Info!$C$41","v":0},{"$f":"W107*Info!$C$42","v":0},60.084800000000001,null,100,0,0,0,0,0,0,0,0,0,0,0,0,0,0,0,0,0,0,100]
["New Phase",null,0,{"$f":"C108*'Phase Rock Maker'!C108","v":0},1,null,null,null,null,null,null,null,null,null,null,null,null,null,null,null,null,null,null,null,{"$f":"E108*Info!$C$25","v":60.084800000000001},{"$f":"F108*Info!$C$27","v":0},{"$f":"G108*Info!$C$29","v":0},{"$f":"H108*Info!$C$32","v":0},{"$f":"I108*Info!$C$33","v":0},{"$f":"J108*Info!$C$31","v":0},{"$f":"K108*Info!$C$30","v":0},{"$f":"L108*Info!$C$36","v":0},{"$f":"M108*Info!$C$35","v":0},{"$f":"N108*Info!$C$34","v":0},{"$f":"O108*Info!$C$28","v":0},{"$f":"P108*Info!$C$26","v":0},{"$f":"Q108*Info!$C$37","v":0},{"$f":"R108*Info!$C$38","v":0},{"$f":"S108*Info!$C$39","v":0},{"$f":"T108*Info!$C$40","v":0},{"$f":"U108*Info!$C$43","v":0},{"$f":"V108*Info!$C$41","v":0},{"$f":"W108*Info!$C$42","v":0},60.084800000000001,null,100,0,0,0,0,0,0,0,0,0,0,0,0,0,0,0,0,0,0,100]
[null,null,null,{"$f":"SUM(D3:D108)","v":265}]
[]
[]
[null,"References for density values in column C: "]
[null,"Black: Anthony et al. (2011)"]
[null,"Blue: Tröger (1982)"]
[null,"White: Deer et al. (1992)"]
[null,"Green: Winchell (1958)"]
[null,"Red:   linear interpolation between end member densities (Anthony et al., 2011) proportional to end member abundance. "]